BEGIN:VCALENDAR
VERSION:2.0
PRODID:-//North Beach Live - ECPv6.15.20//NONSGML v1.0//EN
CALSCALE:GREGORIAN
METHOD:PUBLISH
X-WR-CALNAME:North Beach Live
X-ORIGINAL-URL:https://northbeachlive.com
X-WR-CALDESC:Events for North Beach Live
REFRESH-INTERVAL;VALUE=DURATION:PT1H
X-Robots-Tag:noindex
X-PUBLISHED-TTL:PT1H
BEGIN:VTIMEZONE
TZID:America/Los_Angeles
BEGIN:DAYLIGHT
TZOFFSETFROM:-0800
TZOFFSETTO:-0700
TZNAME:PDT
DTSTART:20250309T100000
END:DAYLIGHT
BEGIN:STANDARD
TZOFFSETFROM:-0700
TZOFFSETTO:-0800
TZNAME:PST
DTSTART:20251102T090000
END:STANDARD
BEGIN:DAYLIGHT
TZOFFSETFROM:-0800
TZOFFSETTO:-0700
TZNAME:PDT
DTSTART:20260308T100000
END:DAYLIGHT
BEGIN:STANDARD
TZOFFSETFROM:-0700
TZOFFSETTO:-0800
TZNAME:PST
DTSTART:20261101T090000
END:STANDARD
BEGIN:DAYLIGHT
TZOFFSETFROM:-0800
TZOFFSETTO:-0700
TZNAME:PDT
DTSTART:20270314T100000
END:DAYLIGHT
BEGIN:STANDARD
TZOFFSETFROM:-0700
TZOFFSETTO:-0800
TZNAME:PST
DTSTART:20271107T090000
END:STANDARD
END:VTIMEZONE
BEGIN:VEVENT
DTSTART;TZID=America/Los_Angeles:20260420T160000
DTEND;TZID=America/Los_Angeles:20260420T200000
DTSTAMP:20260420T053641
CREATED:20251001T233629Z
LAST-MODIFIED:20260414T015344Z
UID:10011444-1776700800-1776715200@northbeachlive.com
SUMMARY:Peter Lindman
DESCRIPTION:Peter Lindman and Roger Rocha turn Monday afternoons at The Saloon into a 4–8 pm time warp of classic rock and sixties-era favorites\, delivered with the easy swagger of true North Beach regulars. \nArmed with Peter’s ringing 12‑string acoustic and Roger’s soulful electric guitar and vocals\, the duo leans into songs you know by heart—Dylan\, Stones\, and more—plus a few originals shaped by decades on the San Francisco scene.
URL:https://northbeachlive.com/event/peter-lindman-14/2026-04-20/
LOCATION:The Saloon\, 1232 Grant Ave\, San Francisco\, CA\, 94133\, United States
CATEGORIES:Live Music
ATTACH;FMTTYPE=image/jpeg:https://northbeachlive.com/wp-content/uploads/2025/10/IMG_2372-scaled.jpeg
GEO:37.79849;-122.407149
X-APPLE-STRUCTURED-LOCATION;VALUE=URI;X-ADDRESS=The Saloon 1232 Grant Ave San Francisco CA 94133 United States;X-APPLE-RADIUS=500;X-TITLE=1232 Grant Ave:geo:-122.407149,37.79849
END:VEVENT
BEGIN:VEVENT
DTSTART;TZID=America/Los_Angeles:20260420T170000
DTEND;TZID=America/Los_Angeles:20260420T200000
DTSTAMP:20260420T053641
CREATED:20251210T212107Z
LAST-MODIFIED:20260403T220107Z
UID:10015932-1776704400-1776715200@northbeachlive.com
SUMMARY:Ricky Bobby with Barb Murphy
DESCRIPTION:Ricky Bobby is no ordinary cover band. This fabulous bay area trio (guitar\, voice and cello) delivers a repertoire that spans decades and genres. They breathe new life into the songs you know and love. Whether they are crooning the classics\, putting a fresh spin on contemporary hits or singing one of a kind original tunes\, Ricky Bobby WILL sing you into a better mood and keep you there.
URL:https://northbeachlive.com/event/ricky-bobby-with-barb-murphy/2026-04-20/
LOCATION:Scopo Divino\, 2800 California St #101\, San Francisco\, CA\, 94115\, United States
CATEGORIES:Live Music
ATTACH;FMTTYPE=image/webp:https://northbeachlive.com/wp-content/uploads/2025/12/IMG_0133.webp
END:VEVENT
BEGIN:VEVENT
DTSTART;TZID=America/Los_Angeles:20260420T180000
DTEND;TZID=America/Los_Angeles:20260420T210000
DTSTAMP:20260420T053641
CREATED:20251002T194402Z
LAST-MODIFIED:20260330T182036Z
UID:10007424-1776708000-1776718800@northbeachlive.com
SUMMARY:Jazz Jam
DESCRIPTION:Waystone’s jazz jam is every Monday\, 6-9pm. Whether you’re a spectator\, jazz lover or musician this is for you.
URL:https://northbeachlive.com/event/jazz-jam-8/2026-04-20/
LOCATION:Waystone\, 1609 Powell St\, San Francisco\, CA\, 94133\, United States
CATEGORIES:Live Music
ATTACH;FMTTYPE=image/jpeg:https://northbeachlive.com/wp-content/uploads/2025/10/IMG_0198.jpeg
GEO:37.799367;-122.410729
X-APPLE-STRUCTURED-LOCATION;VALUE=URI;X-ADDRESS=Waystone 1609 Powell St San Francisco CA 94133 United States;X-APPLE-RADIUS=500;X-TITLE=1609 Powell St:geo:-122.410729,37.799367
END:VEVENT
BEGIN:VEVENT
DTSTART;TZID=America/Los_Angeles:20260420T180000
DTEND;TZID=America/Los_Angeles:20260420T210000
DTSTAMP:20260420T053641
CREATED:20251015T000545Z
LAST-MODIFIED:20260210T004558Z
UID:10011779-1776708000-1776718800@northbeachlive.com
SUMMARY:Flavio Souza
DESCRIPTION:Flavio Souza performs weekly on Mondays at Etcetera Wine bar. \nBorn in São Paulo\, Brazil\, Flavio started music at 14 years old. His main influences were great musicians such as Chick Corea\, Bill Evans\, Oscar Peterson\, Jimmy Smith\, Joey DeFrancesco\, Joe Satriani\, Sandro Haick and others. \nHe is the owner of Studio Plano 7\, which he founded in 2002 and has continued to record and produce various artists such as: Anderson Dantas\, Célia Soul\, PG\, Samuel Barbosa\, Félix Silva\, Jessik\, Samuel Dativo\, The Bridge Music\, Rafhael Peres\, Banda Patmus and others.
URL:https://northbeachlive.com/event/flavio-souza/2026-04-20/
LOCATION:Etcetera Wine Bar\, 795 Valencia St\, San Francisco\, CA\, 94110\, United States
CATEGORIES:Live Music
ATTACH;FMTTYPE=image/jpeg:https://northbeachlive.com/wp-content/uploads/2025/10/IMG_0149.jpeg
END:VEVENT
BEGIN:VEVENT
DTSTART;TZID=America/Los_Angeles:20260420T183000
DTEND;TZID=America/Los_Angeles:20260420T213000
DTSTAMP:20260420T053641
CREATED:20260208T210558Z
LAST-MODIFIED:20260208T211540Z
UID:10013463-1776709800-1776720600@northbeachlive.com
SUMMARY:Jazz Nights @ Novela!
DESCRIPTION:Get ready to groove to smooth jazz tunes and sip on cocktails at the coolest spot in town – it’s Jazz Nights @ Novela!
URL:https://northbeachlive.com/event/jazz-nights-novela/2026-04-20/
LOCATION:Novela\, 662 Mission Street\, San Francisco\, CA\, 94105\, United States
CATEGORIES:Live Music
ATTACH;FMTTYPE=image/jpeg:https://northbeachlive.com/wp-content/uploads/2026/02/1a584e7b2634ef7130402d4fb4c472d9.jpg
END:VEVENT
BEGIN:VEVENT
DTSTART;TZID=America/Los_Angeles:20260420T183000
DTEND;TZID=America/Los_Angeles:20260420T213000
DTSTAMP:20260420T053641
CREATED:20260304T033037Z
LAST-MODIFIED:20260324T231326Z
UID:10015201-1776709800-1776720600@northbeachlive.com
SUMMARY:ZinggFlower: a tribute to Drew Zingg
DESCRIPTION:Join us for a night of captivating live music as GamperDrums presents a stellar ensemble featuring Brian Pardo on guitar\, John R. Burr on piano\, Marina Crouss on vocals\, Ruth Davies on bass\, and Chris Gamper on drums. Blending elements of jazz\, soul\, and improvisational music\, this dynamic group delivers expressive grooves\, rich harmonies\, and inspired performances that highlight the depth and diversity of the Bay Area music scene.
URL:https://northbeachlive.com/event/zinggflower-a-tribute-to-drew-zingg-2-2/2026-04-20/
LOCATION:Biscuits & Blues\, 401 Mason Street\, San Francisco\, CA\, 94102\, United States
CATEGORIES:Live Music
ATTACH;FMTTYPE=image/webp:https://northbeachlive.com/wp-content/uploads/2026/01/IMG_9986.webp
END:VEVENT
BEGIN:VEVENT
DTSTART;TZID=America/Los_Angeles:20260420T190000
DTEND;TZID=America/Los_Angeles:20260420T220000
DTSTAMP:20260420T053641
CREATED:20260322T213216Z
LAST-MODIFIED:20260410T131400Z
UID:10016312-1776711600-1776722400@northbeachlive.com
SUMMARY:Piano night at The Royal Cuckoo Organ Lounge
DESCRIPTION:Piano nights at The Royal Cuckoo Organ Lounge are characterised by their early start times and the use of the venue’s vintage Steinway Upright piano\, which differs from the lounge’s typical focus on its prominent Hammond organ. \nPiano Monday shows start at 7:00 PM and typically run until 10:00 PM. \nCover Charge: There is never a cover charge for entry. However\, musicians often pass a donation basket\, so bringing a small amount of cash is recommended.
URL:https://northbeachlive.com/event/piano-night-at-the-royal-cuckoo-organ-lounge-doug-hilsinger-and-jamin-barton/2026-04-20/
LOCATION:Royal Cuckoo Organ Lounge\, 3202 Mission St\, San Francisco\, CA\, 94133\, United States
CATEGORIES:Live Music
END:VEVENT
BEGIN:VEVENT
DTSTART;TZID=America/Los_Angeles:20260420T200000
DTEND;TZID=America/Los_Angeles:20260420T230000
DTSTAMP:20260420T053641
CREATED:20260404T142933Z
LAST-MODIFIED:20260404T142938Z
UID:10016009-1776715200-1776726000@northbeachlive.com
SUMMARY:Barbary Coast Jazz Band
DESCRIPTION:Barbary Coast Jazz Band performs every other Monday! \nBob Schulz – Lead/Cornet \nDon Neely – Reeds \nClint Baker – Trombone \nBill Reinhart – Tuba \nScott Anthony – Banjo \nMarty Eggers – Piano
URL:https://northbeachlive.com/event/barbary-coast-jazz-band-2-2/2026-04-20/
LOCATION:Local Edition\, 691 Market St\, San Francisco\, CA\, 94105\, United States
CATEGORIES:Live Music
ATTACH;FMTTYPE=image/webp:https://northbeachlive.com/wp-content/uploads/2026/01/BarbaryCoast-e1771091696925.webp
END:VEVENT
BEGIN:VEVENT
DTSTART;TZID=America/Los_Angeles:20260420T200000
DTEND;TZID=America/Los_Angeles:20260420T235900
DTSTAMP:20260420T053641
CREATED:20260415T232029Z
LAST-MODIFIED:20260415T232029Z
UID:10016297-1776715200-1776729540@northbeachlive.com
SUMMARY:Luke Westbrook Trio
DESCRIPTION:Early exposure to jazz through educational programs (b.1979 SF\, CA) allowed Luke to participate in the Monterey Jazz Festival\, and the Grammy in the Schools programs as part of the San Francisco Jazz Festival. \nIn the years following those early days Luke has secured his reputation as a first call Jazz guitar player in the thriving San Francisco Bay Area music scene (performing at The SF Jazz Center\, Bach Dancing and Dynamite\, La Peña Cultural Center\, Black Cat Supper Club\, Mr. Tipples\, Cafe Du Nord\, Jupiter\, and many other venues). \nAlongside performing in Bay Area bars and clubs Luke has also provided music for well known clients at prestigious event venues— here are a few notable past clients: Carnegie Mellon University\, Waymo\, The SF Olympic Club\, Bohemian Club\, SFCDMA\, DeLoitte\, UCSF/Marc Benioﬀ\, General Electric\, Netflix. \nAlongside pursuing his ambitions of live performance he’s also explored other professional duties in the field of music working as a professional sheet music transcriptionist and also as a commercial music composer (Wall Street Journal\, AmFar Foundation\, and the NFL).
URL:https://northbeachlive.com/event/luke-westbrook-trio/
LOCATION:Dawn Club\, 10 Annie St\, San Francisco\, CA\, 94103\, United States
CATEGORIES:Live Music
ATTACH;FMTTYPE=image/webp:https://northbeachlive.com/wp-content/uploads/2026/04/IMG_0519.webp
END:VEVENT
BEGIN:VEVENT
DTSTART;TZID=America/Los_Angeles:20260420T200000
DTEND;TZID=America/Los_Angeles:20260421T013000
DTSTAMP:20260420T053641
CREATED:20260111T215637Z
LAST-MODIFIED:20260128T183011Z
UID:10012956-1776715200-1776735000@northbeachlive.com
SUMMARY:Dirty Works Jazz Jam
DESCRIPTION:The Dirty Works Jazz Band brings its weekly jam session to Persona. Led by upright bassist Kyle Finley\, these “Dirty Works & Friends” nights transform the North Beach venue into a buzzing jazz laboratory. Far from a casual background set\, this is a professional performance environment where the house band sets a high bar before inviting local players to sit in and trade solos on the fly. \nThe repertoire is heavily inspired by the “Golden Era” of jazz (1945–1965)\, specifically the catalogs of Riverside\, Impulse\, and Blue Note records. Expect a hard-driving mix of bebop\, hard bop\, heavy swing\, and Latin jazz. \nEvery session begins with the house rhythm section—usually featuring Finley on bass alongside keys\, guitar\, and drums—anchoring the first few numbers. As the night progresses\, local jazz musicians are swapped in\, creating a dynamic\, evolving soundscape. \nUnlike “casual jam circles\,” Finley emphasizes that these nights are first and foremost a show for the audience. The band prioritizes a polished\, professional sound\, ensuring that even the most experimental improvisations remain engaging for the listeners in the room. \n\nAbout Kyle Finley \nKyle Finley is a San Francisco-based upright bassist and the driving force behind the Dirty Works musical collective. His mission is to foster a “living jazz scene” through consistent residencies and jams that prioritize musical excellence and community. Beyond his work on stage\, Finley is known for his commitment to the local jazz culture\, often documenting these sessions through his own photography and managing a rigorous schedule of “Dirty Works” events across the city to ensure the music never stops.
URL:https://northbeachlive.com/event/dirty-works-jazz-jam-2/2026-04-20/
LOCATION:Persona\, 685 Sutter St\, San Francisco\, CA\, 94102\, United States
CATEGORIES:Live Music
ATTACH;FMTTYPE=image/jpeg:https://northbeachlive.com/wp-content/uploads/2026/01/IMG_0156.jpeg
END:VEVENT
BEGIN:VEVENT
DTSTART;TZID=America/Los_Angeles:20260420T210000
DTEND;TZID=America/Los_Angeles:20260421T010000
DTSTAMP:20260420T053641
CREATED:20251008T203935Z
LAST-MODIFIED:20260216T181814Z
UID:10009244-1776718800-1776733200@northbeachlive.com
SUMMARY:The San Francisco Invitational Jam
DESCRIPTION:Step into the inner circle of the city’s music scene with THE San Francisco Invitational Jam at Tupelo. Held every Monday night from 9:00 PM – 1:00 AM\, this is widely considered the definitive jam session for professional players and serious students of the craft. Hosted by the “nastiest rhythm section this side of South Dakota”—Andrew Coutti on drums and Young Blake on bass—the evening serves as a high-stakes proving ground where the Bay Area’s best talent comes to stretch their creative muscles. \nThe Sound: This isn’t your average open mic; it is a high-octane exploration of Roots\, Soul\, R&B\, and Funk. The house band sets a blistering pace\, and the music often leans into deep-pocket grooves and sophisticated jazz-fusion arrangements that demand technical precision and quick improvisational thinking. \nThe “Invitational” Edge: While the session is open to high-level guests\, it maintains an invitational spirit\, meaning the stage is curated to ensure a top-tier musical experience for the audience. Each week features a different special guest vocalist\, ensuring that the “soul” of the night is always fresh and evolving. \nA Networking Hub: Monday nights at Tupelo act as the unofficial headquarters for off-duty working musicians. It’s a place where bandleaders scout for subs\, songwriters find collaborators\, and the community gathers to celebrate the raw\, unscripted power of live music. \nNo Cover\, All Access: Despite the world-class musicianship on display\, there is no cover charge. It provides an accessible “masterclass” environment for fans who want to see how the city’s musical engine runs behind the scenes. \n\nAbout the Invitational Jam\nFounded on the belief that San Francisco needs a consistent home for professional musical dialogue\, the Invitational Jam has outlasted countless other sessions in the city. Hosts Andrew Coutti and Young Blake are veteran players known for their “unprecedented chemistry” and ability to back any guest with a rock-solid\, funky foundation. Over the years\, the jam has hosted everyone from local legends to touring pros\, cementing Tupelo’s reputation as a vital sanctuary for the preservation of San Francisco’s live R&B and Funk traditions.
URL:https://northbeachlive.com/event/the-san-francisco-invitational-jam-9/2026-04-20/
LOCATION:Tupelo\, 1337 Grant Ave\, San Francisco\, CA\, 94133\, United States
CATEGORIES:Live Music
ATTACH;FMTTYPE=image/jpeg:https://northbeachlive.com/wp-content/uploads/2025/10/IMG_0310.jpeg
GEO:37.799053;-122.407327
X-APPLE-STRUCTURED-LOCATION;VALUE=URI;X-ADDRESS=Tupelo 1337 Grant Ave San Francisco CA 94133 United States;X-APPLE-RADIUS=500;X-TITLE=1337 Grant Ave:geo:-122.407327,37.799053
END:VEVENT
BEGIN:VEVENT
DTSTART;TZID=America/Los_Angeles:20260420T213000
DTEND;TZID=America/Los_Angeles:20260421T013000
DTSTAMP:20260420T053641
CREATED:20251101T185424Z
LAST-MODIFIED:20260403T024719Z
UID:10015898-1776720600-1776735000@northbeachlive.com
SUMMARY:Jinx Jones
DESCRIPTION:Jinx Jones has been twice nominated for Male Rockabilly Artist of the Year by the Ameripolitan Music Awards\, has received gold and platinum record awards for his work with R&B divas\, En Vogue\, has won songwriting awards and has been recognized as one of the hottest acts on the San Francisco music scene. \nIn Jinx Jones’ impressive musical career he has visited nearly every conceivable style and genre of the electric guitar. From his work Chuck Berry\, Solomon Burke\, and Roy Buchanan to his own acclaimed rockabilly albums\, “License to Twang\,” “Rumble & Twang\,” “Rip and Run\,” Live Twang in Finland.” And “Twang-Tastic!\,” Jones has always strived to expand the possibilities of the instrument. He accepts every musical challenge head on\, always making an impressive statement with his music. The one thing that remains consistent throughout Jones’ multi-stylistic journey is the grace and finesse of his virtuoso playing.
URL:https://northbeachlive.com/event/jinx-jones-18/2026-04-20/
LOCATION:The Saloon\, 1232 Grant Ave\, San Francisco\, CA\, 94133\, United States
CATEGORIES:Live Music
ATTACH;FMTTYPE=image/jpeg:https://northbeachlive.com/wp-content/uploads/2025/11/IMG_0182.jpeg
GEO:37.79849;-122.407149
X-APPLE-STRUCTURED-LOCATION;VALUE=URI;X-ADDRESS=The Saloon 1232 Grant Ave San Francisco CA 94133 United States;X-APPLE-RADIUS=500;X-TITLE=1232 Grant Ave:geo:-122.407149,37.79849
END:VEVENT
END:VCALENDAR