BEGIN:VCALENDAR
VERSION:2.0
PRODID:-//North Beach Live - ECPv6.15.20//NONSGML v1.0//EN
CALSCALE:GREGORIAN
METHOD:PUBLISH
X-ORIGINAL-URL:https://northbeachlive.com
X-WR-CALDESC:Events for North Beach Live
REFRESH-INTERVAL;VALUE=DURATION:PT1H
X-Robots-Tag:noindex
X-PUBLISHED-TTL:PT1H
BEGIN:VTIMEZONE
TZID:America/Los_Angeles
BEGIN:DAYLIGHT
TZOFFSETFROM:-0800
TZOFFSETTO:-0700
TZNAME:PDT
DTSTART:20260308T100000
END:DAYLIGHT
BEGIN:STANDARD
TZOFFSETFROM:-0700
TZOFFSETTO:-0800
TZNAME:PST
DTSTART:20261101T090000
END:STANDARD
BEGIN:DAYLIGHT
TZOFFSETFROM:-0800
TZOFFSETTO:-0700
TZNAME:PDT
DTSTART:20270314T100000
END:DAYLIGHT
BEGIN:STANDARD
TZOFFSETFROM:-0700
TZOFFSETTO:-0800
TZNAME:PST
DTSTART:20271107T090000
END:STANDARD
BEGIN:DAYLIGHT
TZOFFSETFROM:-0800
TZOFFSETTO:-0700
TZNAME:PDT
DTSTART:20280312T100000
END:DAYLIGHT
BEGIN:STANDARD
TZOFFSETFROM:-0700
TZOFFSETTO:-0800
TZNAME:PST
DTSTART:20281105T090000
END:STANDARD
END:VTIMEZONE
BEGIN:VEVENT
DTSTART;TZID=America/Los_Angeles:20270329T183000
DTEND;TZID=America/Los_Angeles:20270329T213000
DTSTAMP:20260419T072608
CREATED:20260304T033037Z
LAST-MODIFIED:20260324T231326Z
UID:10015250-1806345000-1806355800@northbeachlive.com
SUMMARY:ZinggFlower: a tribute to Drew Zingg
DESCRIPTION:Join us for a night of captivating live music as GamperDrums presents a stellar ensemble featuring Brian Pardo on guitar\, John R. Burr on piano\, Marina Crouss on vocals\, Ruth Davies on bass\, and Chris Gamper on drums. Blending elements of jazz\, soul\, and improvisational music\, this dynamic group delivers expressive grooves\, rich harmonies\, and inspired performances that highlight the depth and diversity of the Bay Area music scene.
URL:https://northbeachlive.com/event/zinggflower-a-tribute-to-drew-zingg-2-2/2027-03-29/
LOCATION:Biscuits & Blues\, 401 Mason Street\, San Francisco\, CA\, 94102\, United States
CATEGORIES:Live Music
ATTACH;FMTTYPE=image/webp:https://northbeachlive.com/wp-content/uploads/2026/01/IMG_9986.webp
END:VEVENT
BEGIN:VEVENT
DTSTART;TZID=America/Los_Angeles:20270329T190000
DTEND;TZID=America/Los_Angeles:20270329T220000
DTSTAMP:20260419T072608
CREATED:20260322T213216Z
LAST-MODIFIED:20260410T131400Z
UID:10016361-1806346800-1806357600@northbeachlive.com
SUMMARY:Piano night at The Royal Cuckoo Organ Lounge
DESCRIPTION:Piano nights at The Royal Cuckoo Organ Lounge are characterised by their early start times and the use of the venue’s vintage Steinway Upright piano\, which differs from the lounge’s typical focus on its prominent Hammond organ. \nPiano Monday shows start at 7:00 PM and typically run until 10:00 PM. \nCover Charge: There is never a cover charge for entry. However\, musicians often pass a donation basket\, so bringing a small amount of cash is recommended.
URL:https://northbeachlive.com/event/piano-night-at-the-royal-cuckoo-organ-lounge-doug-hilsinger-and-jamin-barton/2027-03-29/
LOCATION:Royal Cuckoo Organ Lounge\, 3202 Mission St\, San Francisco\, CA\, 94133\, United States
CATEGORIES:Live Music
END:VEVENT
BEGIN:VEVENT
DTSTART;TZID=America/Los_Angeles:20270329T210000
DTEND;TZID=America/Los_Angeles:20270330T010000
DTSTAMP:20260419T072608
CREATED:20251008T203935Z
LAST-MODIFIED:20260216T181814Z
UID:10012217-1806354000-1806368400@northbeachlive.com
SUMMARY:The San Francisco Invitational Jam
DESCRIPTION:Step into the inner circle of the city’s music scene with THE San Francisco Invitational Jam at Tupelo. Held every Monday night from 9:00 PM – 1:00 AM\, this is widely considered the definitive jam session for professional players and serious students of the craft. Hosted by the “nastiest rhythm section this side of South Dakota”—Andrew Coutti on drums and Young Blake on bass—the evening serves as a high-stakes proving ground where the Bay Area’s best talent comes to stretch their creative muscles. \nThe Sound: This isn’t your average open mic; it is a high-octane exploration of Roots\, Soul\, R&B\, and Funk. The house band sets a blistering pace\, and the music often leans into deep-pocket grooves and sophisticated jazz-fusion arrangements that demand technical precision and quick improvisational thinking. \nThe “Invitational” Edge: While the session is open to high-level guests\, it maintains an invitational spirit\, meaning the stage is curated to ensure a top-tier musical experience for the audience. Each week features a different special guest vocalist\, ensuring that the “soul” of the night is always fresh and evolving. \nA Networking Hub: Monday nights at Tupelo act as the unofficial headquarters for off-duty working musicians. It’s a place where bandleaders scout for subs\, songwriters find collaborators\, and the community gathers to celebrate the raw\, unscripted power of live music. \nNo Cover\, All Access: Despite the world-class musicianship on display\, there is no cover charge. It provides an accessible “masterclass” environment for fans who want to see how the city’s musical engine runs behind the scenes. \n\nAbout the Invitational Jam\nFounded on the belief that San Francisco needs a consistent home for professional musical dialogue\, the Invitational Jam has outlasted countless other sessions in the city. Hosts Andrew Coutti and Young Blake are veteran players known for their “unprecedented chemistry” and ability to back any guest with a rock-solid\, funky foundation. Over the years\, the jam has hosted everyone from local legends to touring pros\, cementing Tupelo’s reputation as a vital sanctuary for the preservation of San Francisco’s live R&B and Funk traditions.
URL:https://northbeachlive.com/event/the-san-francisco-invitational-jam-9/2027-03-29/
LOCATION:Tupelo\, 1337 Grant Ave\, San Francisco\, CA\, 94133\, United States
CATEGORIES:Live Music
ATTACH;FMTTYPE=image/jpeg:https://northbeachlive.com/wp-content/uploads/2025/10/IMG_0310.jpeg
GEO:37.799053;-122.407327
X-APPLE-STRUCTURED-LOCATION;VALUE=URI;X-ADDRESS=Tupelo 1337 Grant Ave San Francisco CA 94133 United States;X-APPLE-RADIUS=500;X-TITLE=1337 Grant Ave:geo:-122.407327,37.799053
END:VEVENT
END:VCALENDAR