BEGIN:VCALENDAR
VERSION:2.0
PRODID:-//North Beach Live - ECPv6.15.20//NONSGML v1.0//EN
CALSCALE:GREGORIAN
METHOD:PUBLISH
X-WR-CALNAME:North Beach Live
X-ORIGINAL-URL:https://northbeachlive.com
X-WR-CALDESC:Events for North Beach Live
REFRESH-INTERVAL;VALUE=DURATION:PT1H
X-Robots-Tag:noindex
X-PUBLISHED-TTL:PT1H
BEGIN:VTIMEZONE
TZID:America/Los_Angeles
BEGIN:DAYLIGHT
TZOFFSETFROM:-0800
TZOFFSETTO:-0700
TZNAME:PDT
DTSTART:20250309T100000
END:DAYLIGHT
BEGIN:STANDARD
TZOFFSETFROM:-0700
TZOFFSETTO:-0800
TZNAME:PST
DTSTART:20251102T090000
END:STANDARD
BEGIN:DAYLIGHT
TZOFFSETFROM:-0800
TZOFFSETTO:-0700
TZNAME:PDT
DTSTART:20260308T100000
END:DAYLIGHT
BEGIN:STANDARD
TZOFFSETFROM:-0700
TZOFFSETTO:-0800
TZNAME:PST
DTSTART:20261101T090000
END:STANDARD
BEGIN:DAYLIGHT
TZOFFSETFROM:-0800
TZOFFSETTO:-0700
TZNAME:PDT
DTSTART:20270314T100000
END:DAYLIGHT
BEGIN:STANDARD
TZOFFSETFROM:-0700
TZOFFSETTO:-0800
TZNAME:PST
DTSTART:20271107T090000
END:STANDARD
END:VTIMEZONE
BEGIN:VEVENT
DTSTART;TZID=America/Los_Angeles:20260111T170000
DTEND;TZID=America/Los_Angeles:20260111T190000
DTSTAMP:20260421T223208
CREATED:20260108T004859Z
LAST-MODIFIED:20260108T005304Z
UID:10009914-1768150800-1768158000@northbeachlive.com
SUMMARY:Marissa McLain
DESCRIPTION:Relax and unwind from the week with us every other Sunday with the classic jazz vocal stylings of @marissa_m_sings and a rotating cast of friends on musical accompaniment. \nBecause Sundays at Otherwise Brewing are just better with sunshine\, drinks\, and live music.
URL:https://northbeachlive.com/event/marissa-mclain-2/2026-01-11/
LOCATION:Otherwise Brewing\, 1402 Grant Ave\, San Francisco\, CA\, 94133\, United States
CATEGORIES:Live Music
ATTACH;FMTTYPE=image/jpeg:https://northbeachlive.com/wp-content/uploads/2026/01/IMG_0122.jpeg
GEO:37.799735;-122.407324
X-APPLE-STRUCTURED-LOCATION;VALUE=URI;X-ADDRESS=Otherwise Brewing 1402 Grant Ave San Francisco CA 94133 United States;X-APPLE-RADIUS=500;X-TITLE=1402 Grant Ave:geo:-122.407324,37.799735
END:VEVENT
BEGIN:VEVENT
DTSTART;TZID=America/Los_Angeles:20260111T180000
DTEND;TZID=America/Los_Angeles:20260111T191500
DTSTAMP:20260421T223208
CREATED:20260104T215910Z
LAST-MODIFIED:20260104T215910Z
UID:10011867-1768154400-1768158900@northbeachlive.com
SUMMARY:Aaron Germain Quartet
DESCRIPTION:Isaac Swatz | Drums\nJesse Levit | Alto\nAaron Germain | Bass
URL:https://northbeachlive.com/event/aaron-germain-quartet/2026-01-11/1/
LOCATION:Mr. Tipples\, 39 Fell St\, San Francisco\, CA\, 94102\, United States
CATEGORIES:Live Music
GEO:37.776449;-122.418193
X-APPLE-STRUCTURED-LOCATION;VALUE=URI;X-ADDRESS=Mr. Tipples 39 Fell St San Francisco CA 94102 United States;X-APPLE-RADIUS=500;X-TITLE=39 Fell St:geo:-122.418193,37.776449
END:VEVENT
BEGIN:VEVENT
DTSTART;TZID=America/Los_Angeles:20260111T180000
DTEND;TZID=America/Los_Angeles:20260111T210000
DTSTAMP:20260421T223208
CREATED:20260106T004905Z
LAST-MODIFIED:20260106T004905Z
UID:10012017-1768154400-1768165200@northbeachlive.com
SUMMARY:Annie Orzen Trio
DESCRIPTION:Annie Orzen is a 22-year-old pianist\, bandleader\, and educator based in San Francisco. While her formal training is rooted in jazz\, Annie’s musical voice is shaped by a wide range of influences\, from indie pop to classical to rock. \nShe holds a Bachelor of Music in Jazz Piano Performance from the Eastman School of Music\, where she studied with pianist Gary Versace. During her time at Eastman\, she performed with ensembles including the Eastman Jazz Ensemble (under Christine Jensen)\, the New Jazz Ensemble\, the Studio Orchestra\, and the Jazz Vocal Ensemble. She also co-founded several student-led projects\, including the jazz/Indian-folk fusion group The Sonic Alchemists and her own Annie Orzen Trio. Annie also formed and leads Seldon\, a pop-jazz group that has gained online traction with over 100\,000 streams across streaming platforms.
URL:https://northbeachlive.com/event/annie-orzen-trio/
LOCATION:Waystone\, 1609 Powell St\, San Francisco\, CA\, 94133\, United States
CATEGORIES:Live Music
GEO:37.799367;-122.410729
X-APPLE-STRUCTURED-LOCATION;VALUE=URI;X-ADDRESS=Waystone 1609 Powell St San Francisco CA 94133 United States;X-APPLE-RADIUS=500;X-TITLE=1609 Powell St:geo:-122.410729,37.799367
END:VEVENT
BEGIN:VEVENT
DTSTART;TZID=America/Los_Angeles:20260111T180000
DTEND;TZID=America/Los_Angeles:20260111T210000
DTSTAMP:20260421T223208
CREATED:20251014T235808Z
LAST-MODIFIED:20260307T005902Z
UID:10011691-1768154400-1768165200@northbeachlive.com
SUMMARY:Twango SF
DESCRIPTION:Twango SF plays every Sunday evening at Etcetera Wine bar. This gypsy jazz group that plays hot swing music in the style of Django Reinhardt.
URL:https://northbeachlive.com/event/twango-sf/2026-01-11/
LOCATION:Etcetera Wine Bar\, 795 Valencia St\, San Francisco\, CA\, 94110\, United States
CATEGORIES:Live Music
ATTACH;FMTTYPE=image/png:https://northbeachlive.com/wp-content/uploads/2025/10/IMG_0403.png
END:VEVENT
BEGIN:VEVENT
DTSTART;TZID=America/Los_Angeles:20260111T190000
DTEND;TZID=America/Los_Angeles:20260111T203000
DTSTAMP:20260421T223208
CREATED:20260109T221851Z
LAST-MODIFIED:20260109T221851Z
UID:10012314-1768158000-1768163400@northbeachlive.com
SUMMARY:The Cowboy & The Samurai: Bruce & Akira
DESCRIPTION:A cowboy and a samurai walk into a bar…it could happen! Bruce Forman and Akira Tana team up to explore the archetypes\, and their relation to the jazz ethos. Expect thrilling improvisation\, storytelling\, and tons of fun! \n“Bruce Forman is one of the great lights of our age.” Barney Kessel\, Jazz Times \nA hectic touring schedule; twenty-one recordings as a leader\,  countless sideman recordings including Ray Brown\, Bobby Hutcherson\, Roger Kellaway; soundtrack performances on three of Clint Eastwood’s distinguished films—most notably Academy Award-winning Million Dollar Baby; raconteur\, arranger\, acclaimed educator\, in residence at USC’s Studio/Jazz Guitar Dept.\, when does Bruce Forman rest? \nBorn and raised in California\, Akira Tana earned degrees from Harvard University and the New Conservatory of Music. Tana has worked with\, among others\, Sonny Rollins\, Sonny Stitt\, Zoot Sims\, Hubert Laws\, Milt Jackson\, Jim Hall\, Art Farmer\, The Paul Winter Consort\, Paquito D’Rivera\, James Moody\, J.J. Johnson\, Lena Horne\, The Manhattan Transfer\, Ruth Brown\, Charles Aznavour\, Maurice Hines\, and Van Dyke Parks. He has appeared on over 200 recordings.
URL:https://northbeachlive.com/event/the-cowboy-the-samurai-bruce-akira/2026-01-11/2/
LOCATION:Keys Jazz Bistro\, 498 Broadway\, San Francisco\, CA\, 94133\, United States
CATEGORIES:Live Music
GEO:37.798017;-122.405473
X-APPLE-STRUCTURED-LOCATION;VALUE=URI;X-ADDRESS=Keys Jazz Bistro 498 Broadway San Francisco CA 94133 United States;X-APPLE-RADIUS=500;X-TITLE=498 Broadway:geo:-122.405473,37.798017
END:VEVENT
BEGIN:VEVENT
DTSTART;TZID=America/Los_Angeles:20260111T190000
DTEND;TZID=America/Los_Angeles:20260111T203000
DTSTAMP:20260421T223208
CREATED:20260104T215952Z
LAST-MODIFIED:20260104T215952Z
UID:10011910-1768158000-1768163400@northbeachlive.com
SUMMARY:Ethan Iverson Trio
DESCRIPTION:From co-founding The Bad Plus—the avant-garde trio that redefined jazz and indie rock—to crafting critically acclaimed albums on ECM and Blue Note\, Ethan Iverson is a master of melody and innovation. \nWith collaborations spanning jazz legends like Tom Harrell\, Jack DeJohnette\, and Billy Hart\, his music is as adventurous as it is accessible. Whether commanding the stage\, composing for modern dance\, or publishing sharp-witted jazz criticism\, Iverson continues to shape the sound and conversation of contemporary jazz. \n“A natural\, consistent crowd-pleaser.” – Stereophile “A master of melody.” – Downbeat\n“Better than anyone at melding post-’60s jazz and indie rock.” – The New York Times \nCatch him live and experience the bold\, brilliant artistry of Ethan Iverson!
URL:https://northbeachlive.com/event/ethan-iverson-trio/2026-01-11/1/
LOCATION:Black Cat Jazz Supper Club\, 400 Eddy St\, San Francisco\, CA\, 94109\, United States
CATEGORIES:Live Music
END:VEVENT
BEGIN:VEVENT
DTSTART;TZID=America/Los_Angeles:20260111T190000
DTEND;TZID=America/Los_Angeles:20260111T213000
DTSTAMP:20260421T223208
CREATED:20260106T025523Z
LAST-MODIFIED:20260420T212559Z
UID:10012029-1768158000-1768167000@northbeachlive.com
SUMMARY:Dennis Palmieri: Pop Piano Cabaret
DESCRIPTION:Dennis offers an evening of loungy renditions of memorable songs from decades past—come and relax with a tour of favorites you”re likely know all the words to! Favorites from the 70s\, 80s\, standards and original songs. \nHis first EP was recently released in early October 2025\, with original songs influenced by singer-songwriters of the 70s.
URL:https://northbeachlive.com/event/dennis-palmieri-pop-piano-cabaret/2026-01-11/
LOCATION:Stookey’s Blue Room\, 891 Bush St\, San Francisco\, CA\, 94108\, United States
CATEGORIES:Live Music
ATTACH;FMTTYPE=image/jpeg:https://northbeachlive.com/wp-content/uploads/2026/01/IMG_0153.jpeg
END:VEVENT
BEGIN:VEVENT
DTSTART;TZID=America/Los_Angeles:20260111T190000
DTEND;TZID=America/Los_Angeles:20260111T230000
DTSTAMP:20260421T223208
CREATED:20250903T221605Z
LAST-MODIFIED:20260325T162745Z
UID:10015435-1768158000-1768172400@northbeachlive.com
SUMMARY:Spanish Folk live music
DESCRIPTION:
URL:https://northbeachlive.com/event/locura-latin-jazz-live-music/2026-01-11/
LOCATION:Amelie\, 1754 Polk St\, San Francisco\, CA\, 94109\, United States
CATEGORIES:Live Music
ATTACH;FMTTYPE=image/webp:https://northbeachlive.com/wp-content/uploads/2025/09/IMG_0240.webp
END:VEVENT
BEGIN:VEVENT
DTSTART;TZID=America/Los_Angeles:20260111T193000
DTEND;TZID=America/Los_Angeles:20260111T223000
DTSTAMP:20260421T223208
CREATED:20251211T224002Z
LAST-MODIFIED:20260227T224911Z
UID:10012020-1768159800-1768170600@northbeachlive.com
SUMMARY:Bohemian Knuckleboogie
DESCRIPTION:Bohemian Knuckleboogie is a unique San Francisco an eclectic and high-octane mix of Blues\, Funk\, and Neo-soul playing weekly Sundays at Sheba Piano Lounge. \nFeaturing Elaine Alt on Saxophone\, Miles Spearman on Trumpet\, Rob Bassinette on Bass\, and Gary Williams on Drums. \nBohemian Knuckleboogie carries on the torch for former band lead RIP Mike Pitre’s “blues for your shoes”\, infusing traditional blues with modern\, energetic instrumentation and distinctive vocals. \n 
URL:https://northbeachlive.com/event/12357/2026-01-11/
LOCATION:Sheba Piano Lounge\, 1419 Filmore St\, San Francisco\, CA\, 94115\, United States
CATEGORIES:Live Music
ATTACH;FMTTYPE=image/jpeg:https://northbeachlive.com/wp-content/uploads/2025/12/IMG_0327-e1772232205892.jpeg
END:VEVENT
BEGIN:VEVENT
DTSTART;TZID=America/Los_Angeles:20260111T194500
DTEND;TZID=America/Los_Angeles:20260111T210000
DTSTAMP:20260421T223208
CREATED:20260104T215910Z
LAST-MODIFIED:20260104T215910Z
UID:10011868-1768160700-1768165200@northbeachlive.com
SUMMARY:Aaron Germain Quartet
DESCRIPTION:Isaac Swatz | Drums\nJesse Levit | Alto\nAaron Germain | Bass
URL:https://northbeachlive.com/event/aaron-germain-quartet/2026-01-11/2/
LOCATION:Mr. Tipples\, 39 Fell St\, San Francisco\, CA\, 94102\, United States
CATEGORIES:Live Music
GEO:37.776449;-122.418193
X-APPLE-STRUCTURED-LOCATION;VALUE=URI;X-ADDRESS=Mr. Tipples 39 Fell St San Francisco CA 94102 United States;X-APPLE-RADIUS=500;X-TITLE=39 Fell St:geo:-122.418193,37.776449
END:VEVENT
BEGIN:VEVENT
DTSTART;TZID=America/Los_Angeles:20260111T200000
DTEND;TZID=America/Los_Angeles:20260111T230000
DTSTAMP:20260421T223208
CREATED:20251110T194905Z
LAST-MODIFIED:20260109T184543Z
UID:10012239-1768161600-1768172400@northbeachlive.com
SUMMARY:Patrick Wolff Bebop Truth Quartet
DESCRIPTION:Patrick Wolff is a saxophone and clarinet player with a long history in the jazz scenes of New York City and San Francisco. He has performed or recorded with Albert “Tootie” Heath\, Matt Wilson\, Grant Stewart\, Louis Moholo-Moholo\, George Cables\, Dena Derose\, and many other jazz greats. Since moving to San Francisco in 2009\, Wolff has played and recorded regularly in the bands of Marcus Shelby\, Richard Sears\, Graham Connah\, Adam Shulman\, and Diana Gameros. Outside of the jazz world\, he has had an eclectic mix of work including long stints in West African pop/funk group Asiko\, prog metal band Kayo Dot\, and with fuji music legend Adewale Ayuba. With seven albums released under his name\, Wolff has made his mark as a bandleader with various groups playing his original compositions\, and with classic jazz quartets and quintets focused on repertoire of the bebop and hard bop eras. His playing is characterized by a focus on lyricism and an embrace of the whole lineage of jazz styles. \nWolff is also a passionate jazz educator and advocate. For four years\, he hosted and produced a weekly fearure show on KCSM 91.1FM (“Have You Heard”)\, exploring the work of emerging and underrated jazz artists\, and continues to dj for the station on occasion. He was the Faculty Director at the Stanford Jazz Workshop from 2008-2013\, and currently teaches jazz history\, composition\, and ensemble classes at the San Francisco Conservatory of Music and the College of San Mateo throughout the year\, and at the Stanford Jazz Workshop in the summer.
URL:https://northbeachlive.com/event/patrick-wolff-bebop-truth-quartet/2026-01-11/
LOCATION:Specs’ Twelve Adler Museum Cafe\, 12 Saroyan Pl\, San Francisco\, CA\, 94133\, United States
CATEGORIES:Live Music
GEO:37.797489;-122.40619
X-APPLE-STRUCTURED-LOCATION;VALUE=URI;X-ADDRESS=Specs’ Twelve Adler Museum Cafe 12 Saroyan Pl San Francisco CA 94133 United States;X-APPLE-RADIUS=500;X-TITLE=12 Saroyan Pl:geo:-122.40619,37.797489
END:VEVENT
BEGIN:VEVENT
DTSTART;TZID=America/Los_Angeles:20260111T200000
DTEND;TZID=America/Los_Angeles:20260111T230000
DTSTAMP:20260421T223208
CREATED:20251003T201151Z
LAST-MODIFIED:20251003T201151Z
UID:10007806-1768161600-1768172400@northbeachlive.com
SUMMARY:Live Music at the Lion’s Den
DESCRIPTION:Step into the vibrant heart of San Francisco’s Chinatown and discover Lion’s Den Bar and Lounge\, your ultimate destination for electrifying nightlife and unforgettable experiences. With an irresistible fusion of Asian-inspired cocktails\, pulsating beats\, and a captivating ambiance\, Lion’s Den sets the stage for a night you won’t soon forget.
URL:https://northbeachlive.com/event/live-music-at-the-lions-den/2026-01-11/
LOCATION:Lion’s Den\, 57 Wentworth Pl\, San Francisco\, CA\, 94108\, United States
CATEGORIES:Live Music
END:VEVENT
BEGIN:VEVENT
DTSTART;TZID=America/Los_Angeles:20260111T200000
DTEND;TZID=America/Los_Angeles:20260112T000000
DTSTAMP:20260421T223208
CREATED:20251008T203421Z
LAST-MODIFIED:20260326T224433Z
UID:10009165-1768161600-1768176000@northbeachlive.com
SUMMARY:Sunday Artist Series
DESCRIPTION:End your week with a rhythmic bang at the Sunday Artist Series\, a weekly institution at Tupelo that transforms North Beach into a soulful dance party. Hosted by the versatile Shawn Stein\, this residency is built around an “all-pro” house band that provides a world-class foundation for a rotating cast of the Bay Area’s most powerhouse vocalists. From 8:00 PM to midnight\, the room sheds its weekday grit for a polished\, high-fidelity exploration of funk\, R&B\, and soul\, making it the definitive “musician’s hangout” in the neighborhood. \nThe magic of the series lies in its unpredictability and its caliber of talent. Because a different guest artist takes the lead each week\, the sound can pivot from the brassy energy of a James Brown-style funk review to the smooth\, sophisticated textures of modern neo-soul. It is a space where local legends and touring pros often drop in to sit with the band\, creating a “who’s who” environment for the San Francisco music scene. The house band is known for their “deep pocket” and the ability to back any style with technical precision and infectious joy. \nThe atmosphere at Tupelo during the Artist Series is electric yet welcoming\, drawing a diverse crowd of neighborhood regulars\, off-duty musicians\, and soul aficionados. Set against the venue’s classic red-lit stage and historic Grant Avenue backdrop\, the event offers a rare opportunity to experience an elite\, high-energy “dance party throw-down” with no cover charge. Whether you are there to dance off the weekend or simply to appreciate the highest level of local musicianship\, the Sunday Artist Series ensures that the spirit of North Beach soul remains loud and alive.
URL:https://northbeachlive.com/event/sunday-artist-series-6/2026-01-11/
LOCATION:Tupelo\, 1337 Grant Ave\, San Francisco\, CA\, 94133\, United States
CATEGORIES:Live Music
ATTACH;FMTTYPE=image/jpeg:https://northbeachlive.com/wp-content/uploads/2025/10/IMG_0444.jpeg
GEO:37.799053;-122.407327
X-APPLE-STRUCTURED-LOCATION;VALUE=URI;X-ADDRESS=Tupelo 1337 Grant Ave San Francisco CA 94133 United States;X-APPLE-RADIUS=500;X-TITLE=1337 Grant Ave:geo:-122.407327,37.799053
END:VEVENT
BEGIN:VEVENT
DTSTART;TZID=America/Los_Angeles:20260111T200000
DTEND;TZID=America/Los_Angeles:20260112T010000
DTSTAMP:20260421T223208
CREATED:20251115T235749Z
LAST-MODIFIED:20251116T000706Z
UID:10009949-1768161600-1768179600@northbeachlive.com
SUMMARY:Industry Night Blues Jam
DESCRIPTION:Two blocks from Union Square. Every Sunday night is Swigs Industry Night Blues Jam with the Emma Jean Foster Blues Band.
URL:https://northbeachlive.com/event/industry-night-blues-jam/2026-01-11/
LOCATION:Swig\, 561 Geary St\, San Francisco\, CA\, 94102\, United States
CATEGORIES:Live Music
ATTACH;FMTTYPE=image/webp:https://northbeachlive.com/wp-content/uploads/2025/11/IMG_9668.webp
END:VEVENT
BEGIN:VEVENT
DTSTART;TZID=America/Los_Angeles:20260111T211500
DTEND;TZID=America/Los_Angeles:20260111T230000
DTSTAMP:20260421T223208
CREATED:20260104T215952Z
LAST-MODIFIED:20260104T215952Z
UID:10011911-1768166100-1768172400@northbeachlive.com
SUMMARY:Ethan Iverson Trio
DESCRIPTION:From co-founding The Bad Plus—the avant-garde trio that redefined jazz and indie rock—to crafting critically acclaimed albums on ECM and Blue Note\, Ethan Iverson is a master of melody and innovation. \nWith collaborations spanning jazz legends like Tom Harrell\, Jack DeJohnette\, and Billy Hart\, his music is as adventurous as it is accessible. Whether commanding the stage\, composing for modern dance\, or publishing sharp-witted jazz criticism\, Iverson continues to shape the sound and conversation of contemporary jazz. \n“A natural\, consistent crowd-pleaser.” – Stereophile “A master of melody.” – Downbeat\n“Better than anyone at melding post-’60s jazz and indie rock.” – The New York Times \nCatch him live and experience the bold\, brilliant artistry of Ethan Iverson!
URL:https://northbeachlive.com/event/ethan-iverson-trio/2026-01-11/2/
LOCATION:Black Cat Jazz Supper Club\, 400 Eddy St\, San Francisco\, CA\, 94109\, United States
CATEGORIES:Live Music
END:VEVENT
BEGIN:VEVENT
DTSTART;TZID=America/Los_Angeles:20260112T160000
DTEND;TZID=America/Los_Angeles:20260112T200000
DTSTAMP:20260421T223208
CREATED:20251001T233629Z
LAST-MODIFIED:20260414T015344Z
UID:10011430-1768233600-1768248000@northbeachlive.com
SUMMARY:Peter Lindman
DESCRIPTION:Peter Lindman and Roger Rocha turn Monday afternoons at The Saloon into a 4–8 pm time warp of classic rock and sixties-era favorites\, delivered with the easy swagger of true North Beach regulars. \nArmed with Peter’s ringing 12‑string acoustic and Roger’s soulful electric guitar and vocals\, the duo leans into songs you know by heart—Dylan\, Stones\, and more—plus a few originals shaped by decades on the San Francisco scene.
URL:https://northbeachlive.com/event/peter-lindman-14/2026-01-12/
LOCATION:The Saloon\, 1232 Grant Ave\, San Francisco\, CA\, 94133\, United States
CATEGORIES:Live Music
ATTACH;FMTTYPE=image/jpeg:https://northbeachlive.com/wp-content/uploads/2025/10/IMG_2372-scaled.jpeg
GEO:37.79849;-122.407149
X-APPLE-STRUCTURED-LOCATION;VALUE=URI;X-ADDRESS=The Saloon 1232 Grant Ave San Francisco CA 94133 United States;X-APPLE-RADIUS=500;X-TITLE=1232 Grant Ave:geo:-122.407149,37.79849
END:VEVENT
BEGIN:VEVENT
DTSTART;TZID=America/Los_Angeles:20260112T170000
DTEND;TZID=America/Los_Angeles:20260112T200000
DTSTAMP:20260421T223208
CREATED:20251211T010611Z
LAST-MODIFIED:20260403T220011Z
UID:10010528-1768237200-1768248000@northbeachlive.com
SUMMARY:Bistro Moustache with Olivier Zyngier
DESCRIPTION:Join us at Scopo Divino on Monday for a trip across the Atlantic featuring the charm and sounds of Bistro Moustache. \nThis incredible group specializes in French Café Music\, giving you a taste of Paris right here in San Francisco. Their music is a beautiful blend of everything that made French music so popular before and after World War II: Chansons Françaises (French songs)\, lively Musette waltzes\, and the dazzling guitar work of Swing Manouche (Gypsy Jazz). \nGet ready to hear a wonderful mix of waltzes\, foxtrots\, tangos\, love songs\, happy songs\, and sad songs—all performed with authentic flair. It’s sophisticated\, romantic\, and utterly charming. \nSettle in\, enjoy a glass from our curated selection\, and let Bistro Moustache transport you to a cozy café on the Left Bank. C’est magnifique!
URL:https://northbeachlive.com/event/bistro-moustache-with-olivier-zyngier/2026-01-12/
LOCATION:Scopo Divino\, 2800 California St #101\, San Francisco\, CA\, 94115\, United States
CATEGORIES:Live Music
ATTACH;FMTTYPE=image/webp:https://northbeachlive.com/wp-content/uploads/2025/12/IMG_0138.webp
END:VEVENT
BEGIN:VEVENT
DTSTART;TZID=America/Los_Angeles:20260112T180000
DTEND;TZID=America/Los_Angeles:20260112T210000
DTSTAMP:20260421T223208
CREATED:20251015T000545Z
LAST-MODIFIED:20260210T004558Z
UID:10011695-1768240800-1768251600@northbeachlive.com
SUMMARY:Flavio Souza
DESCRIPTION:Flavio Souza performs weekly on Mondays at Etcetera Wine bar. \nBorn in São Paulo\, Brazil\, Flavio started music at 14 years old. His main influences were great musicians such as Chick Corea\, Bill Evans\, Oscar Peterson\, Jimmy Smith\, Joey DeFrancesco\, Joe Satriani\, Sandro Haick and others. \nHe is the owner of Studio Plano 7\, which he founded in 2002 and has continued to record and produce various artists such as: Anderson Dantas\, Célia Soul\, PG\, Samuel Barbosa\, Félix Silva\, Jessik\, Samuel Dativo\, The Bridge Music\, Rafhael Peres\, Banda Patmus and others.
URL:https://northbeachlive.com/event/flavio-souza/2026-01-12/
LOCATION:Etcetera Wine Bar\, 795 Valencia St\, San Francisco\, CA\, 94110\, United States
CATEGORIES:Live Music
ATTACH;FMTTYPE=image/jpeg:https://northbeachlive.com/wp-content/uploads/2025/10/IMG_0149.jpeg
END:VEVENT
BEGIN:VEVENT
DTSTART;TZID=America/Los_Angeles:20260112T180000
DTEND;TZID=America/Los_Angeles:20260112T210000
DTSTAMP:20260421T223208
CREATED:20251002T194402Z
LAST-MODIFIED:20260330T182036Z
UID:10007410-1768240800-1768251600@northbeachlive.com
SUMMARY:Jazz Jam
DESCRIPTION:Waystone’s jazz jam is every Monday\, 6-9pm. Whether you’re a spectator\, jazz lover or musician this is for you.
URL:https://northbeachlive.com/event/jazz-jam-8/2026-01-12/
LOCATION:Waystone\, 1609 Powell St\, San Francisco\, CA\, 94133\, United States
CATEGORIES:Live Music
ATTACH;FMTTYPE=image/jpeg:https://northbeachlive.com/wp-content/uploads/2025/10/IMG_0198.jpeg
GEO:37.799367;-122.410729
X-APPLE-STRUCTURED-LOCATION;VALUE=URI;X-ADDRESS=Waystone 1609 Powell St San Francisco CA 94133 United States;X-APPLE-RADIUS=500;X-TITLE=1609 Powell St:geo:-122.410729,37.799367
END:VEVENT
BEGIN:VEVENT
DTSTART;TZID=America/Los_Angeles:20260112T183000
DTEND;TZID=America/Los_Angeles:20260112T213000
DTSTAMP:20260421T223208
CREATED:20260117T024451Z
LAST-MODIFIED:20260208T185802Z
UID:10012758-1768242600-1768253400@northbeachlive.com
SUMMARY:ZinggFlower: a tribute to Drew Zingg
DESCRIPTION:Join us for a night of captivating live music as GamperDrums presents a stellar ensemble featuring Brian Pardo on guitar\, John R. Burr on piano\, Marina Crouss on vocals\, Ruth Davies on bass\, and Chris Gamper on drums. Blending elements of jazz\, soul\, and improvisational music\, this dynamic group delivers expressive grooves\, rich harmonies\, and inspired performances that highlight the depth and diversity of the Bay Area music scene.
URL:https://northbeachlive.com/event/zinggflower-a-tribute-to-drew-zingg-2/2026-01-12/
LOCATION:Biscuits & Blues\, 401 Mason Street\, San Francisco\, CA\, 94102\, United States
CATEGORIES:Live Music
ATTACH;FMTTYPE=image/webp:https://northbeachlive.com/wp-content/uploads/2026/01/IMG_9986.webp
END:VEVENT
BEGIN:VEVENT
DTSTART;TZID=America/Los_Angeles:20260112T200000
DTEND;TZID=America/Los_Angeles:20260112T230000
DTSTAMP:20260421T223208
CREATED:20260106T223617Z
LAST-MODIFIED:20260204T030417Z
UID:10012085-1768248000-1768258800@northbeachlive.com
SUMMARY:Le Jazz Hot Quartet
DESCRIPTION:Paul PAZZO Mehling- Solo Guitar\, Vocals\, Leader \nIsabelle Fontaine- Rhythm Guitar\, Vocals \nEvan Zeppo Price- Violin \nDexter DeWi Williams- String Bass \nLe Jazz Hot (the Quartet/Trio of the Hot Club of San Francisco) is an ensemble of accomplished and versatile musicians celebrating the music of Django Reinhardt and Stephane Grappelli’s pioneering Hot Club de France. The ensemble borrows the all-string instrumentation of violin\, bass and guitars from the original Hot Club\, but breathes new life into the music with innovative arrangements of classic tunes and original compositions from the group’s superb lead guitarist Paul Mehling. Hearing the ensemble live\, or on any of their eleven albums\, carries the listener back to the 1930’s and to the small\, smoky jazz clubs of Paris or the refined lounges of the famous Hotel Ritz. Often called gypsy jazz\, the music of Le Jazz Hot has entranced audiences around the globe for over 30 years. Critics have hailed the group’s playing as “intricate\, scorching and often brilliant…” Acoustic Guitar. From festivals in Mexico and France to concert halls across North America\, Le Jazz Hot keeps this historic music fresh and alive.
URL:https://northbeachlive.com/event/le-jazz-hot-quartet-2/2026-01-12/
LOCATION:Local Edition\, 691 Market St\, San Francisco\, CA\, 94105\, United States
CATEGORIES:Live Music
ATTACH;FMTTYPE=image/webp:https://northbeachlive.com/wp-content/uploads/2026/01/IMG_0173.webp
END:VEVENT
END:VCALENDAR