BEGIN:VCALENDAR
VERSION:2.0
PRODID:-//North Beach Live - ECPv6.15.20//NONSGML v1.0//EN
CALSCALE:GREGORIAN
METHOD:PUBLISH
X-WR-CALNAME:North Beach Live
X-ORIGINAL-URL:https://northbeachlive.com
X-WR-CALDESC:Events for North Beach Live
REFRESH-INTERVAL;VALUE=DURATION:PT1H
X-Robots-Tag:noindex
X-PUBLISHED-TTL:PT1H
BEGIN:VTIMEZONE
TZID:America/Los_Angeles
BEGIN:DAYLIGHT
TZOFFSETFROM:-0800
TZOFFSETTO:-0700
TZNAME:PDT
DTSTART:20250309T100000
END:DAYLIGHT
BEGIN:STANDARD
TZOFFSETFROM:-0700
TZOFFSETTO:-0800
TZNAME:PST
DTSTART:20251102T090000
END:STANDARD
BEGIN:DAYLIGHT
TZOFFSETFROM:-0800
TZOFFSETTO:-0700
TZNAME:PDT
DTSTART:20260308T100000
END:DAYLIGHT
BEGIN:STANDARD
TZOFFSETFROM:-0700
TZOFFSETTO:-0800
TZNAME:PST
DTSTART:20261101T090000
END:STANDARD
BEGIN:DAYLIGHT
TZOFFSETFROM:-0800
TZOFFSETTO:-0700
TZNAME:PDT
DTSTART:20270314T100000
END:DAYLIGHT
BEGIN:STANDARD
TZOFFSETFROM:-0700
TZOFFSETTO:-0800
TZNAME:PST
DTSTART:20271107T090000
END:STANDARD
END:VTIMEZONE
BEGIN:VEVENT
DTSTART;TZID=America/Los_Angeles:20260426T190000
DTEND;TZID=America/Los_Angeles:20260426T220000
DTSTAMP:20260421T184004
CREATED:20251223T182418Z
LAST-MODIFIED:20251223T183234Z
UID:10011392-1777230000-1777240800@northbeachlive.com
SUMMARY:Guajirón Cuban Jam
DESCRIPTION:Live Cuban jam session every 4th Sunday w/Guajirón band at Bissap Baobab! Come to dance or jump in and jam — it’s free! \nWhether you’re a musician ready to sit in or a dancer looking for a groove\, this night is all about sharing rhythm\, culture\, and vibes with the community. \nWhat to expect:– Open jam session for musicians– Salsa\, Cuban\, and tropical jazz rhythms– Full bar & West African food– Good energy + community vibes \nBring your instrument\, bring your friends\, and let’s make music together.
URL:https://northbeachlive.com/event/guajiron-cuban-jam-at-bissap-baobab/2026-04-26/
CATEGORIES:Live Music
ATTACH;FMTTYPE=image/jpeg:https://northbeachlive.com/wp-content/uploads/2025/12/2ab91c513654ac617b57c7c9af505409.jpg
END:VEVENT
BEGIN:VEVENT
DTSTART;TZID=America/Los_Angeles:20260524T190000
DTEND;TZID=America/Los_Angeles:20260524T220000
DTSTAMP:20260421T184004
CREATED:20251223T182418Z
LAST-MODIFIED:20251223T183234Z
UID:10011393-1779649200-1779660000@northbeachlive.com
SUMMARY:Guajirón Cuban Jam
DESCRIPTION:Live Cuban jam session every 4th Sunday w/Guajirón band at Bissap Baobab! Come to dance or jump in and jam — it’s free! \nWhether you’re a musician ready to sit in or a dancer looking for a groove\, this night is all about sharing rhythm\, culture\, and vibes with the community. \nWhat to expect:– Open jam session for musicians– Salsa\, Cuban\, and tropical jazz rhythms– Full bar & West African food– Good energy + community vibes \nBring your instrument\, bring your friends\, and let’s make music together.
URL:https://northbeachlive.com/event/guajiron-cuban-jam-at-bissap-baobab/2026-05-24/
CATEGORIES:Live Music
ATTACH;FMTTYPE=image/jpeg:https://northbeachlive.com/wp-content/uploads/2025/12/2ab91c513654ac617b57c7c9af505409.jpg
END:VEVENT
BEGIN:VEVENT
DTSTART;TZID=America/Los_Angeles:20260628T190000
DTEND;TZID=America/Los_Angeles:20260628T220000
DTSTAMP:20260421T184004
CREATED:20251223T182418Z
LAST-MODIFIED:20251223T183234Z
UID:10011394-1782673200-1782684000@northbeachlive.com
SUMMARY:Guajirón Cuban Jam
DESCRIPTION:Live Cuban jam session every 4th Sunday w/Guajirón band at Bissap Baobab! Come to dance or jump in and jam — it’s free! \nWhether you’re a musician ready to sit in or a dancer looking for a groove\, this night is all about sharing rhythm\, culture\, and vibes with the community. \nWhat to expect:– Open jam session for musicians– Salsa\, Cuban\, and tropical jazz rhythms– Full bar & West African food– Good energy + community vibes \nBring your instrument\, bring your friends\, and let’s make music together.
URL:https://northbeachlive.com/event/guajiron-cuban-jam-at-bissap-baobab/2026-06-28/
CATEGORIES:Live Music
ATTACH;FMTTYPE=image/jpeg:https://northbeachlive.com/wp-content/uploads/2025/12/2ab91c513654ac617b57c7c9af505409.jpg
END:VEVENT
BEGIN:VEVENT
DTSTART;TZID=America/Los_Angeles:20260726T190000
DTEND;TZID=America/Los_Angeles:20260726T220000
DTSTAMP:20260421T184004
CREATED:20251223T182418Z
LAST-MODIFIED:20251223T183234Z
UID:10011395-1785092400-1785103200@northbeachlive.com
SUMMARY:Guajirón Cuban Jam
DESCRIPTION:Live Cuban jam session every 4th Sunday w/Guajirón band at Bissap Baobab! Come to dance or jump in and jam — it’s free! \nWhether you’re a musician ready to sit in or a dancer looking for a groove\, this night is all about sharing rhythm\, culture\, and vibes with the community. \nWhat to expect:– Open jam session for musicians– Salsa\, Cuban\, and tropical jazz rhythms– Full bar & West African food– Good energy + community vibes \nBring your instrument\, bring your friends\, and let’s make music together.
URL:https://northbeachlive.com/event/guajiron-cuban-jam-at-bissap-baobab/2026-07-26/
CATEGORIES:Live Music
ATTACH;FMTTYPE=image/jpeg:https://northbeachlive.com/wp-content/uploads/2025/12/2ab91c513654ac617b57c7c9af505409.jpg
END:VEVENT
BEGIN:VEVENT
DTSTART;TZID=America/Los_Angeles:20260823T190000
DTEND;TZID=America/Los_Angeles:20260823T220000
DTSTAMP:20260421T184004
CREATED:20251223T182418Z
LAST-MODIFIED:20251223T183234Z
UID:10011396-1787511600-1787522400@northbeachlive.com
SUMMARY:Guajirón Cuban Jam
DESCRIPTION:Live Cuban jam session every 4th Sunday w/Guajirón band at Bissap Baobab! Come to dance or jump in and jam — it’s free! \nWhether you’re a musician ready to sit in or a dancer looking for a groove\, this night is all about sharing rhythm\, culture\, and vibes with the community. \nWhat to expect:– Open jam session for musicians– Salsa\, Cuban\, and tropical jazz rhythms– Full bar & West African food– Good energy + community vibes \nBring your instrument\, bring your friends\, and let’s make music together.
URL:https://northbeachlive.com/event/guajiron-cuban-jam-at-bissap-baobab/2026-08-23/
CATEGORIES:Live Music
ATTACH;FMTTYPE=image/jpeg:https://northbeachlive.com/wp-content/uploads/2025/12/2ab91c513654ac617b57c7c9af505409.jpg
END:VEVENT
BEGIN:VEVENT
DTSTART;TZID=America/Los_Angeles:20260927T190000
DTEND;TZID=America/Los_Angeles:20260927T220000
DTSTAMP:20260421T184004
CREATED:20251223T182418Z
LAST-MODIFIED:20251223T183234Z
UID:10011397-1790535600-1790546400@northbeachlive.com
SUMMARY:Guajirón Cuban Jam
DESCRIPTION:Live Cuban jam session every 4th Sunday w/Guajirón band at Bissap Baobab! Come to dance or jump in and jam — it’s free! \nWhether you’re a musician ready to sit in or a dancer looking for a groove\, this night is all about sharing rhythm\, culture\, and vibes with the community. \nWhat to expect:– Open jam session for musicians– Salsa\, Cuban\, and tropical jazz rhythms– Full bar & West African food– Good energy + community vibes \nBring your instrument\, bring your friends\, and let’s make music together.
URL:https://northbeachlive.com/event/guajiron-cuban-jam-at-bissap-baobab/2026-09-27/
CATEGORIES:Live Music
ATTACH;FMTTYPE=image/jpeg:https://northbeachlive.com/wp-content/uploads/2025/12/2ab91c513654ac617b57c7c9af505409.jpg
END:VEVENT
BEGIN:VEVENT
DTSTART;TZID=America/Los_Angeles:20261025T190000
DTEND;TZID=America/Los_Angeles:20261025T220000
DTSTAMP:20260421T184004
CREATED:20251223T182418Z
LAST-MODIFIED:20251223T183234Z
UID:10011398-1792954800-1792965600@northbeachlive.com
SUMMARY:Guajirón Cuban Jam
DESCRIPTION:Live Cuban jam session every 4th Sunday w/Guajirón band at Bissap Baobab! Come to dance or jump in and jam — it’s free! \nWhether you’re a musician ready to sit in or a dancer looking for a groove\, this night is all about sharing rhythm\, culture\, and vibes with the community. \nWhat to expect:– Open jam session for musicians– Salsa\, Cuban\, and tropical jazz rhythms– Full bar & West African food– Good energy + community vibes \nBring your instrument\, bring your friends\, and let’s make music together.
URL:https://northbeachlive.com/event/guajiron-cuban-jam-at-bissap-baobab/2026-10-25/
CATEGORIES:Live Music
ATTACH;FMTTYPE=image/jpeg:https://northbeachlive.com/wp-content/uploads/2025/12/2ab91c513654ac617b57c7c9af505409.jpg
END:VEVENT
BEGIN:VEVENT
DTSTART;TZID=America/Los_Angeles:20261122T190000
DTEND;TZID=America/Los_Angeles:20261122T220000
DTSTAMP:20260421T184004
CREATED:20251223T182418Z
LAST-MODIFIED:20251223T183234Z
UID:10011399-1795374000-1795384800@northbeachlive.com
SUMMARY:Guajirón Cuban Jam
DESCRIPTION:Live Cuban jam session every 4th Sunday w/Guajirón band at Bissap Baobab! Come to dance or jump in and jam — it’s free! \nWhether you’re a musician ready to sit in or a dancer looking for a groove\, this night is all about sharing rhythm\, culture\, and vibes with the community. \nWhat to expect:– Open jam session for musicians– Salsa\, Cuban\, and tropical jazz rhythms– Full bar & West African food– Good energy + community vibes \nBring your instrument\, bring your friends\, and let’s make music together.
URL:https://northbeachlive.com/event/guajiron-cuban-jam-at-bissap-baobab/2026-11-22/
CATEGORIES:Live Music
ATTACH;FMTTYPE=image/jpeg:https://northbeachlive.com/wp-content/uploads/2025/12/2ab91c513654ac617b57c7c9af505409.jpg
END:VEVENT
END:VCALENDAR