BEGIN:VCALENDAR
VERSION:2.0
PRODID:-//North Beach Live - ECPv6.15.20//NONSGML v1.0//EN
CALSCALE:GREGORIAN
METHOD:PUBLISH
X-WR-CALNAME:North Beach Live
X-ORIGINAL-URL:https://northbeachlive.com
X-WR-CALDESC:Events for North Beach Live
REFRESH-INTERVAL;VALUE=DURATION:PT1H
X-Robots-Tag:noindex
X-PUBLISHED-TTL:PT1H
BEGIN:VTIMEZONE
TZID:America/Los_Angeles
BEGIN:DAYLIGHT
TZOFFSETFROM:-0800
TZOFFSETTO:-0700
TZNAME:PDT
DTSTART:20250309T100000
END:DAYLIGHT
BEGIN:STANDARD
TZOFFSETFROM:-0700
TZOFFSETTO:-0800
TZNAME:PST
DTSTART:20251102T090000
END:STANDARD
BEGIN:DAYLIGHT
TZOFFSETFROM:-0800
TZOFFSETTO:-0700
TZNAME:PDT
DTSTART:20260308T100000
END:DAYLIGHT
BEGIN:STANDARD
TZOFFSETFROM:-0700
TZOFFSETTO:-0800
TZNAME:PST
DTSTART:20261101T090000
END:STANDARD
BEGIN:DAYLIGHT
TZOFFSETFROM:-0800
TZOFFSETTO:-0700
TZNAME:PDT
DTSTART:20270314T100000
END:DAYLIGHT
BEGIN:STANDARD
TZOFFSETFROM:-0700
TZOFFSETTO:-0800
TZNAME:PST
DTSTART:20271107T090000
END:STANDARD
END:VTIMEZONE
BEGIN:VEVENT
DTSTART;TZID=America/Los_Angeles:20260504T200000
DTEND;TZID=America/Los_Angeles:20260504T230000
DTSTAMP:20260424T013913
CREATED:20260404T142933Z
LAST-MODIFIED:20260404T142938Z
UID:10016010-1777924800-1777935600@northbeachlive.com
SUMMARY:Barbary Coast Jazz Band
DESCRIPTION:Barbary Coast Jazz Band performs every other Monday! \nBob Schulz – Lead/Cornet \nDon Neely – Reeds \nClint Baker – Trombone \nBill Reinhart – Tuba \nScott Anthony – Banjo \nMarty Eggers – Piano
URL:https://northbeachlive.com/event/barbary-coast-jazz-band-2-2/2026-05-04/
LOCATION:Local Edition\, 691 Market St\, San Francisco\, CA\, 94105\, United States
CATEGORIES:Live Music
ATTACH;FMTTYPE=image/webp:https://northbeachlive.com/wp-content/uploads/2026/01/BarbaryCoast-e1771091696925.webp
END:VEVENT
BEGIN:VEVENT
DTSTART;TZID=America/Los_Angeles:20260518T200000
DTEND;TZID=America/Los_Angeles:20260518T230000
DTSTAMP:20260424T013914
CREATED:20260404T142933Z
LAST-MODIFIED:20260404T142938Z
UID:10016011-1779134400-1779145200@northbeachlive.com
SUMMARY:Barbary Coast Jazz Band
DESCRIPTION:Barbary Coast Jazz Band performs every other Monday! \nBob Schulz – Lead/Cornet \nDon Neely – Reeds \nClint Baker – Trombone \nBill Reinhart – Tuba \nScott Anthony – Banjo \nMarty Eggers – Piano
URL:https://northbeachlive.com/event/barbary-coast-jazz-band-2-2/2026-05-18/
LOCATION:Local Edition\, 691 Market St\, San Francisco\, CA\, 94105\, United States
CATEGORIES:Live Music
ATTACH;FMTTYPE=image/webp:https://northbeachlive.com/wp-content/uploads/2026/01/BarbaryCoast-e1771091696925.webp
END:VEVENT
BEGIN:VEVENT
DTSTART;TZID=America/Los_Angeles:20260601T200000
DTEND;TZID=America/Los_Angeles:20260601T230000
DTSTAMP:20260424T013914
CREATED:20260404T142933Z
LAST-MODIFIED:20260404T142938Z
UID:10016012-1780344000-1780354800@northbeachlive.com
SUMMARY:Barbary Coast Jazz Band
DESCRIPTION:Barbary Coast Jazz Band performs every other Monday! \nBob Schulz – Lead/Cornet \nDon Neely – Reeds \nClint Baker – Trombone \nBill Reinhart – Tuba \nScott Anthony – Banjo \nMarty Eggers – Piano
URL:https://northbeachlive.com/event/barbary-coast-jazz-band-2-2/2026-06-01/
LOCATION:Local Edition\, 691 Market St\, San Francisco\, CA\, 94105\, United States
CATEGORIES:Live Music
ATTACH;FMTTYPE=image/webp:https://northbeachlive.com/wp-content/uploads/2026/01/BarbaryCoast-e1771091696925.webp
END:VEVENT
BEGIN:VEVENT
DTSTART;TZID=America/Los_Angeles:20260615T200000
DTEND;TZID=America/Los_Angeles:20260615T230000
DTSTAMP:20260424T013914
CREATED:20260404T142933Z
LAST-MODIFIED:20260404T142938Z
UID:10016013-1781553600-1781564400@northbeachlive.com
SUMMARY:Barbary Coast Jazz Band
DESCRIPTION:Barbary Coast Jazz Band performs every other Monday! \nBob Schulz – Lead/Cornet \nDon Neely – Reeds \nClint Baker – Trombone \nBill Reinhart – Tuba \nScott Anthony – Banjo \nMarty Eggers – Piano
URL:https://northbeachlive.com/event/barbary-coast-jazz-band-2-2/2026-06-15/
LOCATION:Local Edition\, 691 Market St\, San Francisco\, CA\, 94105\, United States
CATEGORIES:Live Music
ATTACH;FMTTYPE=image/webp:https://northbeachlive.com/wp-content/uploads/2026/01/BarbaryCoast-e1771091696925.webp
END:VEVENT
BEGIN:VEVENT
DTSTART;TZID=America/Los_Angeles:20260629T200000
DTEND;TZID=America/Los_Angeles:20260629T230000
DTSTAMP:20260424T013914
CREATED:20260404T142933Z
LAST-MODIFIED:20260404T142938Z
UID:10016014-1782763200-1782774000@northbeachlive.com
SUMMARY:Barbary Coast Jazz Band
DESCRIPTION:Barbary Coast Jazz Band performs every other Monday! \nBob Schulz – Lead/Cornet \nDon Neely – Reeds \nClint Baker – Trombone \nBill Reinhart – Tuba \nScott Anthony – Banjo \nMarty Eggers – Piano
URL:https://northbeachlive.com/event/barbary-coast-jazz-band-2-2/2026-06-29/
LOCATION:Local Edition\, 691 Market St\, San Francisco\, CA\, 94105\, United States
CATEGORIES:Live Music
ATTACH;FMTTYPE=image/webp:https://northbeachlive.com/wp-content/uploads/2026/01/BarbaryCoast-e1771091696925.webp
END:VEVENT
BEGIN:VEVENT
DTSTART;TZID=America/Los_Angeles:20260713T200000
DTEND;TZID=America/Los_Angeles:20260713T230000
DTSTAMP:20260424T013914
CREATED:20260404T142933Z
LAST-MODIFIED:20260404T142938Z
UID:10016015-1783972800-1783983600@northbeachlive.com
SUMMARY:Barbary Coast Jazz Band
DESCRIPTION:Barbary Coast Jazz Band performs every other Monday! \nBob Schulz – Lead/Cornet \nDon Neely – Reeds \nClint Baker – Trombone \nBill Reinhart – Tuba \nScott Anthony – Banjo \nMarty Eggers – Piano
URL:https://northbeachlive.com/event/barbary-coast-jazz-band-2-2/2026-07-13/
LOCATION:Local Edition\, 691 Market St\, San Francisco\, CA\, 94105\, United States
CATEGORIES:Live Music
ATTACH;FMTTYPE=image/webp:https://northbeachlive.com/wp-content/uploads/2026/01/BarbaryCoast-e1771091696925.webp
END:VEVENT
BEGIN:VEVENT
DTSTART;TZID=America/Los_Angeles:20260727T200000
DTEND;TZID=America/Los_Angeles:20260727T230000
DTSTAMP:20260424T013914
CREATED:20260404T142933Z
LAST-MODIFIED:20260404T142938Z
UID:10016016-1785182400-1785193200@northbeachlive.com
SUMMARY:Barbary Coast Jazz Band
DESCRIPTION:Barbary Coast Jazz Band performs every other Monday! \nBob Schulz – Lead/Cornet \nDon Neely – Reeds \nClint Baker – Trombone \nBill Reinhart – Tuba \nScott Anthony – Banjo \nMarty Eggers – Piano
URL:https://northbeachlive.com/event/barbary-coast-jazz-band-2-2/2026-07-27/
LOCATION:Local Edition\, 691 Market St\, San Francisco\, CA\, 94105\, United States
CATEGORIES:Live Music
ATTACH;FMTTYPE=image/webp:https://northbeachlive.com/wp-content/uploads/2026/01/BarbaryCoast-e1771091696925.webp
END:VEVENT
BEGIN:VEVENT
DTSTART;TZID=America/Los_Angeles:20260810T200000
DTEND;TZID=America/Los_Angeles:20260810T230000
DTSTAMP:20260424T013914
CREATED:20260404T142933Z
LAST-MODIFIED:20260404T142938Z
UID:10016017-1786392000-1786402800@northbeachlive.com
SUMMARY:Barbary Coast Jazz Band
DESCRIPTION:Barbary Coast Jazz Band performs every other Monday! \nBob Schulz – Lead/Cornet \nDon Neely – Reeds \nClint Baker – Trombone \nBill Reinhart – Tuba \nScott Anthony – Banjo \nMarty Eggers – Piano
URL:https://northbeachlive.com/event/barbary-coast-jazz-band-2-2/2026-08-10/
LOCATION:Local Edition\, 691 Market St\, San Francisco\, CA\, 94105\, United States
CATEGORIES:Live Music
ATTACH;FMTTYPE=image/webp:https://northbeachlive.com/wp-content/uploads/2026/01/BarbaryCoast-e1771091696925.webp
END:VEVENT
BEGIN:VEVENT
DTSTART;TZID=America/Los_Angeles:20260824T200000
DTEND;TZID=America/Los_Angeles:20260824T230000
DTSTAMP:20260424T013914
CREATED:20260404T142933Z
LAST-MODIFIED:20260404T142938Z
UID:10016018-1787601600-1787612400@northbeachlive.com
SUMMARY:Barbary Coast Jazz Band
DESCRIPTION:Barbary Coast Jazz Band performs every other Monday! \nBob Schulz – Lead/Cornet \nDon Neely – Reeds \nClint Baker – Trombone \nBill Reinhart – Tuba \nScott Anthony – Banjo \nMarty Eggers – Piano
URL:https://northbeachlive.com/event/barbary-coast-jazz-band-2-2/2026-08-24/
LOCATION:Local Edition\, 691 Market St\, San Francisco\, CA\, 94105\, United States
CATEGORIES:Live Music
ATTACH;FMTTYPE=image/webp:https://northbeachlive.com/wp-content/uploads/2026/01/BarbaryCoast-e1771091696925.webp
END:VEVENT
BEGIN:VEVENT
DTSTART;TZID=America/Los_Angeles:20260907T200000
DTEND;TZID=America/Los_Angeles:20260907T230000
DTSTAMP:20260424T013914
CREATED:20260404T142933Z
LAST-MODIFIED:20260404T142938Z
UID:10016019-1788811200-1788822000@northbeachlive.com
SUMMARY:Barbary Coast Jazz Band
DESCRIPTION:Barbary Coast Jazz Band performs every other Monday! \nBob Schulz – Lead/Cornet \nDon Neely – Reeds \nClint Baker – Trombone \nBill Reinhart – Tuba \nScott Anthony – Banjo \nMarty Eggers – Piano
URL:https://northbeachlive.com/event/barbary-coast-jazz-band-2-2/2026-09-07/
LOCATION:Local Edition\, 691 Market St\, San Francisco\, CA\, 94105\, United States
CATEGORIES:Live Music
ATTACH;FMTTYPE=image/webp:https://northbeachlive.com/wp-content/uploads/2026/01/BarbaryCoast-e1771091696925.webp
END:VEVENT
BEGIN:VEVENT
DTSTART;TZID=America/Los_Angeles:20260921T200000
DTEND;TZID=America/Los_Angeles:20260921T230000
DTSTAMP:20260424T013914
CREATED:20260404T142933Z
LAST-MODIFIED:20260404T142938Z
UID:10016020-1790020800-1790031600@northbeachlive.com
SUMMARY:Barbary Coast Jazz Band
DESCRIPTION:Barbary Coast Jazz Band performs every other Monday! \nBob Schulz – Lead/Cornet \nDon Neely – Reeds \nClint Baker – Trombone \nBill Reinhart – Tuba \nScott Anthony – Banjo \nMarty Eggers – Piano
URL:https://northbeachlive.com/event/barbary-coast-jazz-band-2-2/2026-09-21/
LOCATION:Local Edition\, 691 Market St\, San Francisco\, CA\, 94105\, United States
CATEGORIES:Live Music
ATTACH;FMTTYPE=image/webp:https://northbeachlive.com/wp-content/uploads/2026/01/BarbaryCoast-e1771091696925.webp
END:VEVENT
BEGIN:VEVENT
DTSTART;TZID=America/Los_Angeles:20261005T200000
DTEND;TZID=America/Los_Angeles:20261005T230000
DTSTAMP:20260424T013914
CREATED:20260404T142933Z
LAST-MODIFIED:20260404T142938Z
UID:10016021-1791230400-1791241200@northbeachlive.com
SUMMARY:Barbary Coast Jazz Band
DESCRIPTION:Barbary Coast Jazz Band performs every other Monday! \nBob Schulz – Lead/Cornet \nDon Neely – Reeds \nClint Baker – Trombone \nBill Reinhart – Tuba \nScott Anthony – Banjo \nMarty Eggers – Piano
URL:https://northbeachlive.com/event/barbary-coast-jazz-band-2-2/2026-10-05/
LOCATION:Local Edition\, 691 Market St\, San Francisco\, CA\, 94105\, United States
CATEGORIES:Live Music
ATTACH;FMTTYPE=image/webp:https://northbeachlive.com/wp-content/uploads/2026/01/BarbaryCoast-e1771091696925.webp
END:VEVENT
BEGIN:VEVENT
DTSTART;TZID=America/Los_Angeles:20261019T200000
DTEND;TZID=America/Los_Angeles:20261019T230000
DTSTAMP:20260424T013914
CREATED:20260404T142933Z
LAST-MODIFIED:20260404T142938Z
UID:10016022-1792440000-1792450800@northbeachlive.com
SUMMARY:Barbary Coast Jazz Band
DESCRIPTION:Barbary Coast Jazz Band performs every other Monday! \nBob Schulz – Lead/Cornet \nDon Neely – Reeds \nClint Baker – Trombone \nBill Reinhart – Tuba \nScott Anthony – Banjo \nMarty Eggers – Piano
URL:https://northbeachlive.com/event/barbary-coast-jazz-band-2-2/2026-10-19/
LOCATION:Local Edition\, 691 Market St\, San Francisco\, CA\, 94105\, United States
CATEGORIES:Live Music
ATTACH;FMTTYPE=image/webp:https://northbeachlive.com/wp-content/uploads/2026/01/BarbaryCoast-e1771091696925.webp
END:VEVENT
BEGIN:VEVENT
DTSTART;TZID=America/Los_Angeles:20261102T200000
DTEND;TZID=America/Los_Angeles:20261102T230000
DTSTAMP:20260424T013914
CREATED:20260404T142933Z
LAST-MODIFIED:20260404T142938Z
UID:10016023-1793649600-1793660400@northbeachlive.com
SUMMARY:Barbary Coast Jazz Band
DESCRIPTION:Barbary Coast Jazz Band performs every other Monday! \nBob Schulz – Lead/Cornet \nDon Neely – Reeds \nClint Baker – Trombone \nBill Reinhart – Tuba \nScott Anthony – Banjo \nMarty Eggers – Piano
URL:https://northbeachlive.com/event/barbary-coast-jazz-band-2-2/2026-11-02/
LOCATION:Local Edition\, 691 Market St\, San Francisco\, CA\, 94105\, United States
CATEGORIES:Live Music
ATTACH;FMTTYPE=image/webp:https://northbeachlive.com/wp-content/uploads/2026/01/BarbaryCoast-e1771091696925.webp
END:VEVENT
BEGIN:VEVENT
DTSTART;TZID=America/Los_Angeles:20261116T200000
DTEND;TZID=America/Los_Angeles:20261116T230000
DTSTAMP:20260424T013914
CREATED:20260404T142933Z
LAST-MODIFIED:20260404T142938Z
UID:10016024-1794859200-1794870000@northbeachlive.com
SUMMARY:Barbary Coast Jazz Band
DESCRIPTION:Barbary Coast Jazz Band performs every other Monday! \nBob Schulz – Lead/Cornet \nDon Neely – Reeds \nClint Baker – Trombone \nBill Reinhart – Tuba \nScott Anthony – Banjo \nMarty Eggers – Piano
URL:https://northbeachlive.com/event/barbary-coast-jazz-band-2-2/2026-11-16/
LOCATION:Local Edition\, 691 Market St\, San Francisco\, CA\, 94105\, United States
CATEGORIES:Live Music
ATTACH;FMTTYPE=image/webp:https://northbeachlive.com/wp-content/uploads/2026/01/BarbaryCoast-e1771091696925.webp
END:VEVENT
BEGIN:VEVENT
DTSTART;TZID=America/Los_Angeles:20261130T200000
DTEND;TZID=America/Los_Angeles:20261130T230000
DTSTAMP:20260424T013914
CREATED:20260404T142933Z
LAST-MODIFIED:20260404T142938Z
UID:10016025-1796068800-1796079600@northbeachlive.com
SUMMARY:Barbary Coast Jazz Band
DESCRIPTION:Barbary Coast Jazz Band performs every other Monday! \nBob Schulz – Lead/Cornet \nDon Neely – Reeds \nClint Baker – Trombone \nBill Reinhart – Tuba \nScott Anthony – Banjo \nMarty Eggers – Piano
URL:https://northbeachlive.com/event/barbary-coast-jazz-band-2-2/2026-11-30/
LOCATION:Local Edition\, 691 Market St\, San Francisco\, CA\, 94105\, United States
CATEGORIES:Live Music
ATTACH;FMTTYPE=image/webp:https://northbeachlive.com/wp-content/uploads/2026/01/BarbaryCoast-e1771091696925.webp
END:VEVENT
BEGIN:VEVENT
DTSTART;TZID=America/Los_Angeles:20261214T200000
DTEND;TZID=America/Los_Angeles:20261214T230000
DTSTAMP:20260424T013914
CREATED:20260404T142933Z
LAST-MODIFIED:20260404T142938Z
UID:10016026-1797278400-1797289200@northbeachlive.com
SUMMARY:Barbary Coast Jazz Band
DESCRIPTION:Barbary Coast Jazz Band performs every other Monday! \nBob Schulz – Lead/Cornet \nDon Neely – Reeds \nClint Baker – Trombone \nBill Reinhart – Tuba \nScott Anthony – Banjo \nMarty Eggers – Piano
URL:https://northbeachlive.com/event/barbary-coast-jazz-band-2-2/2026-12-14/
LOCATION:Local Edition\, 691 Market St\, San Francisco\, CA\, 94105\, United States
CATEGORIES:Live Music
ATTACH;FMTTYPE=image/webp:https://northbeachlive.com/wp-content/uploads/2026/01/BarbaryCoast-e1771091696925.webp
END:VEVENT
END:VCALENDAR