BEGIN:VCALENDAR
VERSION:2.0
PRODID:-//North Beach Live - ECPv6.15.20//NONSGML v1.0//EN
CALSCALE:GREGORIAN
METHOD:PUBLISH
X-WR-CALNAME:North Beach Live
X-ORIGINAL-URL:https://northbeachlive.com
X-WR-CALDESC:Events for North Beach Live
REFRESH-INTERVAL;VALUE=DURATION:PT1H
X-Robots-Tag:noindex
X-PUBLISHED-TTL:PT1H
BEGIN:VTIMEZONE
TZID:America/Los_Angeles
BEGIN:DAYLIGHT
TZOFFSETFROM:-0800
TZOFFSETTO:-0700
TZNAME:PDT
DTSTART:20250309T100000
END:DAYLIGHT
BEGIN:STANDARD
TZOFFSETFROM:-0700
TZOFFSETTO:-0800
TZNAME:PST
DTSTART:20251102T090000
END:STANDARD
BEGIN:DAYLIGHT
TZOFFSETFROM:-0800
TZOFFSETTO:-0700
TZNAME:PDT
DTSTART:20260308T100000
END:DAYLIGHT
BEGIN:STANDARD
TZOFFSETFROM:-0700
TZOFFSETTO:-0800
TZNAME:PST
DTSTART:20261101T090000
END:STANDARD
BEGIN:DAYLIGHT
TZOFFSETFROM:-0800
TZOFFSETTO:-0700
TZNAME:PDT
DTSTART:20270314T100000
END:DAYLIGHT
BEGIN:STANDARD
TZOFFSETFROM:-0700
TZOFFSETTO:-0800
TZNAME:PST
DTSTART:20271107T090000
END:STANDARD
END:VTIMEZONE
BEGIN:VEVENT
DTSTART;TZID=America/Los_Angeles:20260507T200000
DTEND;TZID=America/Los_Angeles:20260507T230000
DTSTAMP:20260424T174630
CREATED:20260307T001451Z
LAST-MODIFIED:20260307T001543Z
UID:10012365-1778184000-1778194800@northbeachlive.com
SUMMARY:Dirty Works Jazz Jam & Burlesque Show
DESCRIPTION:The Dirty Works Jazz Band brings its signature jam session to Paris 75 every 1st Thursday at Paris 75.  Led by upright bassist Kyle Finley\, these “Dirty Works & Friends” nights transform the North Beach venue into a buzzing jazz laboratory. Far from a casual background set\, this is a professional performance environment where the house band sets a high bar before inviting local players to sit in and trade solos on the fly. \nThe only Jazz Jam to feature a burlesque dancer\, Raya\, who performs with the band from 9-10pm. \nThe repertoire is heavily inspired by the “Golden Era” of jazz (1945–1965)\, specifically the catalogs of Riverside\, Impulse\, and Blue Note records. Expect a hard-driving mix of bebop\, hard bop\, heavy swing\, and Latin jazz. \nEvery session begins with the house rhythm section—usually featuring Finley on bass alongside keys\, guitar\, and drums—anchoring the first few numbers. As the night progresses\, local jazz musicians are swapped in\, creating a dynamic\, evolving soundscape. \nUnlike “casual jam circles\,” Finley emphasizes that these nights are first and foremost a show for the audience. The band prioritizes a polished\, professional sound\, ensuring that even the most experimental improvisations remain engaging for the listeners in the room. \nPro Tip: If you’re looking to play\, ask for “the Bass dude”. \n\nAbout Kyle Finley \nKyle Finley is a San Francisco-based upright bassist and the driving force behind the Dirty Works musical collective. His mission is to foster a “living jazz scene” through consistent residencies and jams that prioritize musical excellence and community. Beyond his work on stage\, Finley is known for his commitment to the local jazz culture\, often documenting these sessions through his own photography and managing a rigorous schedule of “Dirty Works” events across the city to ensure the music never stops.
URL:https://northbeachlive.com/event/dirty-works-jazz-jam-4/2026-05-07/
LOCATION:Paris 75\, 515 Broadway\, San Francisco\, CA\, 94133\, United States
CATEGORIES:Live Music
ATTACH;FMTTYPE=image/jpeg:https://northbeachlive.com/wp-content/uploads/2026/01/IMG_0402.jpeg
GEO:37.797891;-122.405783
X-APPLE-STRUCTURED-LOCATION;VALUE=URI;X-ADDRESS=Paris 75 515 Broadway San Francisco CA 94133 United States;X-APPLE-RADIUS=500;X-TITLE=515 Broadway:geo:-122.405783,37.797891
END:VEVENT
BEGIN:VEVENT
DTSTART;TZID=America/Los_Angeles:20260604T200000
DTEND;TZID=America/Los_Angeles:20260604T230000
DTSTAMP:20260424T174630
CREATED:20260307T001451Z
LAST-MODIFIED:20260307T001543Z
UID:10012366-1780603200-1780614000@northbeachlive.com
SUMMARY:Dirty Works Jazz Jam & Burlesque Show
DESCRIPTION:The Dirty Works Jazz Band brings its signature jam session to Paris 75 every 1st Thursday at Paris 75.  Led by upright bassist Kyle Finley\, these “Dirty Works & Friends” nights transform the North Beach venue into a buzzing jazz laboratory. Far from a casual background set\, this is a professional performance environment where the house band sets a high bar before inviting local players to sit in and trade solos on the fly. \nThe only Jazz Jam to feature a burlesque dancer\, Raya\, who performs with the band from 9-10pm. \nThe repertoire is heavily inspired by the “Golden Era” of jazz (1945–1965)\, specifically the catalogs of Riverside\, Impulse\, and Blue Note records. Expect a hard-driving mix of bebop\, hard bop\, heavy swing\, and Latin jazz. \nEvery session begins with the house rhythm section—usually featuring Finley on bass alongside keys\, guitar\, and drums—anchoring the first few numbers. As the night progresses\, local jazz musicians are swapped in\, creating a dynamic\, evolving soundscape. \nUnlike “casual jam circles\,” Finley emphasizes that these nights are first and foremost a show for the audience. The band prioritizes a polished\, professional sound\, ensuring that even the most experimental improvisations remain engaging for the listeners in the room. \nPro Tip: If you’re looking to play\, ask for “the Bass dude”. \n\nAbout Kyle Finley \nKyle Finley is a San Francisco-based upright bassist and the driving force behind the Dirty Works musical collective. His mission is to foster a “living jazz scene” through consistent residencies and jams that prioritize musical excellence and community. Beyond his work on stage\, Finley is known for his commitment to the local jazz culture\, often documenting these sessions through his own photography and managing a rigorous schedule of “Dirty Works” events across the city to ensure the music never stops.
URL:https://northbeachlive.com/event/dirty-works-jazz-jam-4/2026-06-04/
LOCATION:Paris 75\, 515 Broadway\, San Francisco\, CA\, 94133\, United States
CATEGORIES:Live Music
ATTACH;FMTTYPE=image/jpeg:https://northbeachlive.com/wp-content/uploads/2026/01/IMG_0402.jpeg
GEO:37.797891;-122.405783
X-APPLE-STRUCTURED-LOCATION;VALUE=URI;X-ADDRESS=Paris 75 515 Broadway San Francisco CA 94133 United States;X-APPLE-RADIUS=500;X-TITLE=515 Broadway:geo:-122.405783,37.797891
END:VEVENT
BEGIN:VEVENT
DTSTART;TZID=America/Los_Angeles:20260702T200000
DTEND;TZID=America/Los_Angeles:20260702T230000
DTSTAMP:20260424T174630
CREATED:20260307T001451Z
LAST-MODIFIED:20260307T001543Z
UID:10012367-1783022400-1783033200@northbeachlive.com
SUMMARY:Dirty Works Jazz Jam & Burlesque Show
DESCRIPTION:The Dirty Works Jazz Band brings its signature jam session to Paris 75 every 1st Thursday at Paris 75.  Led by upright bassist Kyle Finley\, these “Dirty Works & Friends” nights transform the North Beach venue into a buzzing jazz laboratory. Far from a casual background set\, this is a professional performance environment where the house band sets a high bar before inviting local players to sit in and trade solos on the fly. \nThe only Jazz Jam to feature a burlesque dancer\, Raya\, who performs with the band from 9-10pm. \nThe repertoire is heavily inspired by the “Golden Era” of jazz (1945–1965)\, specifically the catalogs of Riverside\, Impulse\, and Blue Note records. Expect a hard-driving mix of bebop\, hard bop\, heavy swing\, and Latin jazz. \nEvery session begins with the house rhythm section—usually featuring Finley on bass alongside keys\, guitar\, and drums—anchoring the first few numbers. As the night progresses\, local jazz musicians are swapped in\, creating a dynamic\, evolving soundscape. \nUnlike “casual jam circles\,” Finley emphasizes that these nights are first and foremost a show for the audience. The band prioritizes a polished\, professional sound\, ensuring that even the most experimental improvisations remain engaging for the listeners in the room. \nPro Tip: If you’re looking to play\, ask for “the Bass dude”. \n\nAbout Kyle Finley \nKyle Finley is a San Francisco-based upright bassist and the driving force behind the Dirty Works musical collective. His mission is to foster a “living jazz scene” through consistent residencies and jams that prioritize musical excellence and community. Beyond his work on stage\, Finley is known for his commitment to the local jazz culture\, often documenting these sessions through his own photography and managing a rigorous schedule of “Dirty Works” events across the city to ensure the music never stops.
URL:https://northbeachlive.com/event/dirty-works-jazz-jam-4/2026-07-02/
LOCATION:Paris 75\, 515 Broadway\, San Francisco\, CA\, 94133\, United States
CATEGORIES:Live Music
ATTACH;FMTTYPE=image/jpeg:https://northbeachlive.com/wp-content/uploads/2026/01/IMG_0402.jpeg
GEO:37.797891;-122.405783
X-APPLE-STRUCTURED-LOCATION;VALUE=URI;X-ADDRESS=Paris 75 515 Broadway San Francisco CA 94133 United States;X-APPLE-RADIUS=500;X-TITLE=515 Broadway:geo:-122.405783,37.797891
END:VEVENT
BEGIN:VEVENT
DTSTART;TZID=America/Los_Angeles:20260806T200000
DTEND;TZID=America/Los_Angeles:20260806T230000
DTSTAMP:20260424T174630
CREATED:20260307T001451Z
LAST-MODIFIED:20260307T001543Z
UID:10012368-1786046400-1786057200@northbeachlive.com
SUMMARY:Dirty Works Jazz Jam & Burlesque Show
DESCRIPTION:The Dirty Works Jazz Band brings its signature jam session to Paris 75 every 1st Thursday at Paris 75.  Led by upright bassist Kyle Finley\, these “Dirty Works & Friends” nights transform the North Beach venue into a buzzing jazz laboratory. Far from a casual background set\, this is a professional performance environment where the house band sets a high bar before inviting local players to sit in and trade solos on the fly. \nThe only Jazz Jam to feature a burlesque dancer\, Raya\, who performs with the band from 9-10pm. \nThe repertoire is heavily inspired by the “Golden Era” of jazz (1945–1965)\, specifically the catalogs of Riverside\, Impulse\, and Blue Note records. Expect a hard-driving mix of bebop\, hard bop\, heavy swing\, and Latin jazz. \nEvery session begins with the house rhythm section—usually featuring Finley on bass alongside keys\, guitar\, and drums—anchoring the first few numbers. As the night progresses\, local jazz musicians are swapped in\, creating a dynamic\, evolving soundscape. \nUnlike “casual jam circles\,” Finley emphasizes that these nights are first and foremost a show for the audience. The band prioritizes a polished\, professional sound\, ensuring that even the most experimental improvisations remain engaging for the listeners in the room. \nPro Tip: If you’re looking to play\, ask for “the Bass dude”. \n\nAbout Kyle Finley \nKyle Finley is a San Francisco-based upright bassist and the driving force behind the Dirty Works musical collective. His mission is to foster a “living jazz scene” through consistent residencies and jams that prioritize musical excellence and community. Beyond his work on stage\, Finley is known for his commitment to the local jazz culture\, often documenting these sessions through his own photography and managing a rigorous schedule of “Dirty Works” events across the city to ensure the music never stops.
URL:https://northbeachlive.com/event/dirty-works-jazz-jam-4/2026-08-06/
LOCATION:Paris 75\, 515 Broadway\, San Francisco\, CA\, 94133\, United States
CATEGORIES:Live Music
ATTACH;FMTTYPE=image/jpeg:https://northbeachlive.com/wp-content/uploads/2026/01/IMG_0402.jpeg
GEO:37.797891;-122.405783
X-APPLE-STRUCTURED-LOCATION;VALUE=URI;X-ADDRESS=Paris 75 515 Broadway San Francisco CA 94133 United States;X-APPLE-RADIUS=500;X-TITLE=515 Broadway:geo:-122.405783,37.797891
END:VEVENT
BEGIN:VEVENT
DTSTART;TZID=America/Los_Angeles:20260903T200000
DTEND;TZID=America/Los_Angeles:20260903T230000
DTSTAMP:20260424T174630
CREATED:20260307T001451Z
LAST-MODIFIED:20260307T001543Z
UID:10012369-1788465600-1788476400@northbeachlive.com
SUMMARY:Dirty Works Jazz Jam & Burlesque Show
DESCRIPTION:The Dirty Works Jazz Band brings its signature jam session to Paris 75 every 1st Thursday at Paris 75.  Led by upright bassist Kyle Finley\, these “Dirty Works & Friends” nights transform the North Beach venue into a buzzing jazz laboratory. Far from a casual background set\, this is a professional performance environment where the house band sets a high bar before inviting local players to sit in and trade solos on the fly. \nThe only Jazz Jam to feature a burlesque dancer\, Raya\, who performs with the band from 9-10pm. \nThe repertoire is heavily inspired by the “Golden Era” of jazz (1945–1965)\, specifically the catalogs of Riverside\, Impulse\, and Blue Note records. Expect a hard-driving mix of bebop\, hard bop\, heavy swing\, and Latin jazz. \nEvery session begins with the house rhythm section—usually featuring Finley on bass alongside keys\, guitar\, and drums—anchoring the first few numbers. As the night progresses\, local jazz musicians are swapped in\, creating a dynamic\, evolving soundscape. \nUnlike “casual jam circles\,” Finley emphasizes that these nights are first and foremost a show for the audience. The band prioritizes a polished\, professional sound\, ensuring that even the most experimental improvisations remain engaging for the listeners in the room. \nPro Tip: If you’re looking to play\, ask for “the Bass dude”. \n\nAbout Kyle Finley \nKyle Finley is a San Francisco-based upright bassist and the driving force behind the Dirty Works musical collective. His mission is to foster a “living jazz scene” through consistent residencies and jams that prioritize musical excellence and community. Beyond his work on stage\, Finley is known for his commitment to the local jazz culture\, often documenting these sessions through his own photography and managing a rigorous schedule of “Dirty Works” events across the city to ensure the music never stops.
URL:https://northbeachlive.com/event/dirty-works-jazz-jam-4/2026-09-03/
LOCATION:Paris 75\, 515 Broadway\, San Francisco\, CA\, 94133\, United States
CATEGORIES:Live Music
ATTACH;FMTTYPE=image/jpeg:https://northbeachlive.com/wp-content/uploads/2026/01/IMG_0402.jpeg
GEO:37.797891;-122.405783
X-APPLE-STRUCTURED-LOCATION;VALUE=URI;X-ADDRESS=Paris 75 515 Broadway San Francisco CA 94133 United States;X-APPLE-RADIUS=500;X-TITLE=515 Broadway:geo:-122.405783,37.797891
END:VEVENT
BEGIN:VEVENT
DTSTART;TZID=America/Los_Angeles:20261001T200000
DTEND;TZID=America/Los_Angeles:20261001T230000
DTSTAMP:20260424T174630
CREATED:20260307T001451Z
LAST-MODIFIED:20260307T001543Z
UID:10012370-1790884800-1790895600@northbeachlive.com
SUMMARY:Dirty Works Jazz Jam & Burlesque Show
DESCRIPTION:The Dirty Works Jazz Band brings its signature jam session to Paris 75 every 1st Thursday at Paris 75.  Led by upright bassist Kyle Finley\, these “Dirty Works & Friends” nights transform the North Beach venue into a buzzing jazz laboratory. Far from a casual background set\, this is a professional performance environment where the house band sets a high bar before inviting local players to sit in and trade solos on the fly. \nThe only Jazz Jam to feature a burlesque dancer\, Raya\, who performs with the band from 9-10pm. \nThe repertoire is heavily inspired by the “Golden Era” of jazz (1945–1965)\, specifically the catalogs of Riverside\, Impulse\, and Blue Note records. Expect a hard-driving mix of bebop\, hard bop\, heavy swing\, and Latin jazz. \nEvery session begins with the house rhythm section—usually featuring Finley on bass alongside keys\, guitar\, and drums—anchoring the first few numbers. As the night progresses\, local jazz musicians are swapped in\, creating a dynamic\, evolving soundscape. \nUnlike “casual jam circles\,” Finley emphasizes that these nights are first and foremost a show for the audience. The band prioritizes a polished\, professional sound\, ensuring that even the most experimental improvisations remain engaging for the listeners in the room. \nPro Tip: If you’re looking to play\, ask for “the Bass dude”. \n\nAbout Kyle Finley \nKyle Finley is a San Francisco-based upright bassist and the driving force behind the Dirty Works musical collective. His mission is to foster a “living jazz scene” through consistent residencies and jams that prioritize musical excellence and community. Beyond his work on stage\, Finley is known for his commitment to the local jazz culture\, often documenting these sessions through his own photography and managing a rigorous schedule of “Dirty Works” events across the city to ensure the music never stops.
URL:https://northbeachlive.com/event/dirty-works-jazz-jam-4/2026-10-01/
LOCATION:Paris 75\, 515 Broadway\, San Francisco\, CA\, 94133\, United States
CATEGORIES:Live Music
ATTACH;FMTTYPE=image/jpeg:https://northbeachlive.com/wp-content/uploads/2026/01/IMG_0402.jpeg
GEO:37.797891;-122.405783
X-APPLE-STRUCTURED-LOCATION;VALUE=URI;X-ADDRESS=Paris 75 515 Broadway San Francisco CA 94133 United States;X-APPLE-RADIUS=500;X-TITLE=515 Broadway:geo:-122.405783,37.797891
END:VEVENT
BEGIN:VEVENT
DTSTART;TZID=America/Los_Angeles:20261105T200000
DTEND;TZID=America/Los_Angeles:20261105T230000
DTSTAMP:20260424T174630
CREATED:20260307T001451Z
LAST-MODIFIED:20260307T001543Z
UID:10012371-1793908800-1793919600@northbeachlive.com
SUMMARY:Dirty Works Jazz Jam & Burlesque Show
DESCRIPTION:The Dirty Works Jazz Band brings its signature jam session to Paris 75 every 1st Thursday at Paris 75.  Led by upright bassist Kyle Finley\, these “Dirty Works & Friends” nights transform the North Beach venue into a buzzing jazz laboratory. Far from a casual background set\, this is a professional performance environment where the house band sets a high bar before inviting local players to sit in and trade solos on the fly. \nThe only Jazz Jam to feature a burlesque dancer\, Raya\, who performs with the band from 9-10pm. \nThe repertoire is heavily inspired by the “Golden Era” of jazz (1945–1965)\, specifically the catalogs of Riverside\, Impulse\, and Blue Note records. Expect a hard-driving mix of bebop\, hard bop\, heavy swing\, and Latin jazz. \nEvery session begins with the house rhythm section—usually featuring Finley on bass alongside keys\, guitar\, and drums—anchoring the first few numbers. As the night progresses\, local jazz musicians are swapped in\, creating a dynamic\, evolving soundscape. \nUnlike “casual jam circles\,” Finley emphasizes that these nights are first and foremost a show for the audience. The band prioritizes a polished\, professional sound\, ensuring that even the most experimental improvisations remain engaging for the listeners in the room. \nPro Tip: If you’re looking to play\, ask for “the Bass dude”. \n\nAbout Kyle Finley \nKyle Finley is a San Francisco-based upright bassist and the driving force behind the Dirty Works musical collective. His mission is to foster a “living jazz scene” through consistent residencies and jams that prioritize musical excellence and community. Beyond his work on stage\, Finley is known for his commitment to the local jazz culture\, often documenting these sessions through his own photography and managing a rigorous schedule of “Dirty Works” events across the city to ensure the music never stops.
URL:https://northbeachlive.com/event/dirty-works-jazz-jam-4/2026-11-05/
LOCATION:Paris 75\, 515 Broadway\, San Francisco\, CA\, 94133\, United States
CATEGORIES:Live Music
ATTACH;FMTTYPE=image/jpeg:https://northbeachlive.com/wp-content/uploads/2026/01/IMG_0402.jpeg
GEO:37.797891;-122.405783
X-APPLE-STRUCTURED-LOCATION;VALUE=URI;X-ADDRESS=Paris 75 515 Broadway San Francisco CA 94133 United States;X-APPLE-RADIUS=500;X-TITLE=515 Broadway:geo:-122.405783,37.797891
END:VEVENT
BEGIN:VEVENT
DTSTART;TZID=America/Los_Angeles:20261203T200000
DTEND;TZID=America/Los_Angeles:20261203T230000
DTSTAMP:20260424T174630
CREATED:20260307T001451Z
LAST-MODIFIED:20260307T001543Z
UID:10012372-1796328000-1796338800@northbeachlive.com
SUMMARY:Dirty Works Jazz Jam & Burlesque Show
DESCRIPTION:The Dirty Works Jazz Band brings its signature jam session to Paris 75 every 1st Thursday at Paris 75.  Led by upright bassist Kyle Finley\, these “Dirty Works & Friends” nights transform the North Beach venue into a buzzing jazz laboratory. Far from a casual background set\, this is a professional performance environment where the house band sets a high bar before inviting local players to sit in and trade solos on the fly. \nThe only Jazz Jam to feature a burlesque dancer\, Raya\, who performs with the band from 9-10pm. \nThe repertoire is heavily inspired by the “Golden Era” of jazz (1945–1965)\, specifically the catalogs of Riverside\, Impulse\, and Blue Note records. Expect a hard-driving mix of bebop\, hard bop\, heavy swing\, and Latin jazz. \nEvery session begins with the house rhythm section—usually featuring Finley on bass alongside keys\, guitar\, and drums—anchoring the first few numbers. As the night progresses\, local jazz musicians are swapped in\, creating a dynamic\, evolving soundscape. \nUnlike “casual jam circles\,” Finley emphasizes that these nights are first and foremost a show for the audience. The band prioritizes a polished\, professional sound\, ensuring that even the most experimental improvisations remain engaging for the listeners in the room. \nPro Tip: If you’re looking to play\, ask for “the Bass dude”. \n\nAbout Kyle Finley \nKyle Finley is a San Francisco-based upright bassist and the driving force behind the Dirty Works musical collective. His mission is to foster a “living jazz scene” through consistent residencies and jams that prioritize musical excellence and community. Beyond his work on stage\, Finley is known for his commitment to the local jazz culture\, often documenting these sessions through his own photography and managing a rigorous schedule of “Dirty Works” events across the city to ensure the music never stops.
URL:https://northbeachlive.com/event/dirty-works-jazz-jam-4/2026-12-03/
LOCATION:Paris 75\, 515 Broadway\, San Francisco\, CA\, 94133\, United States
CATEGORIES:Live Music
ATTACH;FMTTYPE=image/jpeg:https://northbeachlive.com/wp-content/uploads/2026/01/IMG_0402.jpeg
GEO:37.797891;-122.405783
X-APPLE-STRUCTURED-LOCATION;VALUE=URI;X-ADDRESS=Paris 75 515 Broadway San Francisco CA 94133 United States;X-APPLE-RADIUS=500;X-TITLE=515 Broadway:geo:-122.405783,37.797891
END:VEVENT
END:VCALENDAR