BEGIN:VCALENDAR
VERSION:2.0
PRODID:-//North Beach Live - ECPv6.15.20//NONSGML v1.0//EN
CALSCALE:GREGORIAN
METHOD:PUBLISH
X-WR-CALNAME:North Beach Live
X-ORIGINAL-URL:https://northbeachlive.com
X-WR-CALDESC:Events for North Beach Live
REFRESH-INTERVAL;VALUE=DURATION:PT1H
X-Robots-Tag:noindex
X-PUBLISHED-TTL:PT1H
BEGIN:VTIMEZONE
TZID:America/Los_Angeles
BEGIN:DAYLIGHT
TZOFFSETFROM:-0800
TZOFFSETTO:-0700
TZNAME:PDT
DTSTART:20250309T100000
END:DAYLIGHT
BEGIN:STANDARD
TZOFFSETFROM:-0700
TZOFFSETTO:-0800
TZNAME:PST
DTSTART:20251102T090000
END:STANDARD
BEGIN:DAYLIGHT
TZOFFSETFROM:-0800
TZOFFSETTO:-0700
TZNAME:PDT
DTSTART:20260308T100000
END:DAYLIGHT
BEGIN:STANDARD
TZOFFSETFROM:-0700
TZOFFSETTO:-0800
TZNAME:PST
DTSTART:20261101T090000
END:STANDARD
BEGIN:DAYLIGHT
TZOFFSETFROM:-0800
TZOFFSETTO:-0700
TZNAME:PDT
DTSTART:20270314T100000
END:DAYLIGHT
BEGIN:STANDARD
TZOFFSETFROM:-0700
TZOFFSETTO:-0800
TZNAME:PST
DTSTART:20271107T090000
END:STANDARD
END:VTIMEZONE
BEGIN:VEVENT
DTSTART;TZID=America/Los_Angeles:20260421T200000
DTEND;TZID=America/Los_Angeles:20260421T235900
DTSTAMP:20260421T123559
CREATED:20260218T031739Z
LAST-MODIFIED:20260410T022933Z
UID:10016298-1776801600-1776815940@northbeachlive.com
SUMMARY:Smith Dobson Quartet
DESCRIPTION:Drummer/Vibraphonist/Saxophonist Smith Dobson V has been performing in the Bay Area for nearly twenty years. Originally from Santa Cruz\, Ca.\, Dobson is a member of an important Jazz family. His father\, the late Smith Dobson IV\, was a world renown Pianist and director of the Jazz series at the Garden City in San Jose for over twenty years\, where he accompanied artists’ like Art Pepper\, Stan Getz\, Bobby Hutcherson\, Harold Land\, Chet Baker\, Red Norvo\, Tal Farlow\, and Lee Konitz\, to name a few. \nAlso in the family\, Grandfather Smith III is a Jazz Accordionist\, Grandmother Norma\, Mother Gail\, and Sister Sasha are all Jazz Vocalists. The family often performed as a group at the Garden City\, and other venues\, as well as many local schools and workshops. As a child\, Smith V had the opportunity to study with legendary Jazz Drummer Albert “Tootie” Heath\, who said of his pupil\, “He has the talent\, determination and persistence as a musician\, combined with the dedication necessary to succeed… improvisational skills totally advanced\, excellent sensitivity\, both solo and as an accompanist… my most talented student!” \nSmith has had the honor of working with some of the great Jazz artists\, locally and internationally\, such as Bobby Hutcherson\, Red Rodney\, John Handy\, Sheila Jordan\, Red Holloway\, Pete and Conte Condoli\, Phillip Harper\, Hal Stein\, Noel Jewekes\, Ben Goldberg\, Graham Connahs’ Sour Note Seven\, Darren Johnstone\, Will Bernard\, and Kenny Brooks.
URL:https://northbeachlive.com/event/smith-dobson-quartet-2/2026-04-21/
LOCATION:Dawn Club\, 10 Annie St\, San Francisco\, CA\, 94103\, United States
CATEGORIES:Live Music
ATTACH;FMTTYPE=image/png:https://northbeachlive.com/wp-content/uploads/2026/01/IMG_0077.png
END:VEVENT
END:VCALENDAR