BEGIN:VCALENDAR
VERSION:2.0
PRODID:-//North Beach Live - ECPv6.15.20//NONSGML v1.0//EN
CALSCALE:GREGORIAN
METHOD:PUBLISH
X-WR-CALNAME:North Beach Live
X-ORIGINAL-URL:https://northbeachlive.com
X-WR-CALDESC:Events for North Beach Live
REFRESH-INTERVAL;VALUE=DURATION:PT1H
X-Robots-Tag:noindex
X-PUBLISHED-TTL:PT1H
BEGIN:VTIMEZONE
TZID:America/Los_Angeles
BEGIN:DAYLIGHT
TZOFFSETFROM:-0800
TZOFFSETTO:-0700
TZNAME:PDT
DTSTART:20250309T100000
END:DAYLIGHT
BEGIN:STANDARD
TZOFFSETFROM:-0700
TZOFFSETTO:-0800
TZNAME:PST
DTSTART:20251102T090000
END:STANDARD
BEGIN:DAYLIGHT
TZOFFSETFROM:-0800
TZOFFSETTO:-0700
TZNAME:PDT
DTSTART:20260308T100000
END:DAYLIGHT
BEGIN:STANDARD
TZOFFSETFROM:-0700
TZOFFSETTO:-0800
TZNAME:PST
DTSTART:20261101T090000
END:STANDARD
BEGIN:DAYLIGHT
TZOFFSETFROM:-0800
TZOFFSETTO:-0700
TZNAME:PDT
DTSTART:20270314T100000
END:DAYLIGHT
BEGIN:STANDARD
TZOFFSETFROM:-0700
TZOFFSETTO:-0800
TZNAME:PST
DTSTART:20271107T090000
END:STANDARD
END:VTIMEZONE
BEGIN:VEVENT
DTSTART;TZID=America/Los_Angeles:20260426T180000
DTEND;TZID=America/Los_Angeles:20260426T190000
DTSTAMP:20260422T080400
CREATED:20260303T225602Z
LAST-MODIFIED:20260303T225602Z
UID:10014916-1777226400-1777230000@northbeachlive.com
SUMMARY:A Sunday Music Cafe
DESCRIPTION:Meet the owners of Peña Pachamama\, co-founders of SUKAY & Savia Andina. Every Sunday\, Eddy Navia & Quentin Navia invite you into the heart of Peña Pachamama 𝗛𝗮𝗽𝗽𝘆 𝗛𝗼𝘂𝗿 𝗮𝗹𝗹 𝗱𝗮𝘆
URL:https://northbeachlive.com/event/a-sunday-music-cafe/2026-04-26/
LOCATION:Peña Pachamama\, 1630 Powell St\, San Francisco\, 94133\, United States
CATEGORIES:Live Music
ATTACH;FMTTYPE=image/jpeg:https://northbeachlive.com/wp-content/uploads/2026/03/IMG_0373.jpeg
END:VEVENT
BEGIN:VEVENT
DTSTART;TZID=America/Los_Angeles:20260503T180000
DTEND;TZID=America/Los_Angeles:20260503T190000
DTSTAMP:20260422T080400
CREATED:20260303T225602Z
LAST-MODIFIED:20260303T225602Z
UID:10014917-1777831200-1777834800@northbeachlive.com
SUMMARY:A Sunday Music Cafe
DESCRIPTION:Meet the owners of Peña Pachamama\, co-founders of SUKAY & Savia Andina. Every Sunday\, Eddy Navia & Quentin Navia invite you into the heart of Peña Pachamama 𝗛𝗮𝗽𝗽𝘆 𝗛𝗼𝘂𝗿 𝗮𝗹𝗹 𝗱𝗮𝘆
URL:https://northbeachlive.com/event/a-sunday-music-cafe/2026-05-03/
LOCATION:Peña Pachamama\, 1630 Powell St\, San Francisco\, 94133\, United States
CATEGORIES:Live Music
ATTACH;FMTTYPE=image/jpeg:https://northbeachlive.com/wp-content/uploads/2026/03/IMG_0373.jpeg
END:VEVENT
BEGIN:VEVENT
DTSTART;TZID=America/Los_Angeles:20260510T180000
DTEND;TZID=America/Los_Angeles:20260510T190000
DTSTAMP:20260422T080400
CREATED:20260303T225602Z
LAST-MODIFIED:20260303T225602Z
UID:10014918-1778436000-1778439600@northbeachlive.com
SUMMARY:A Sunday Music Cafe
DESCRIPTION:Meet the owners of Peña Pachamama\, co-founders of SUKAY & Savia Andina. Every Sunday\, Eddy Navia & Quentin Navia invite you into the heart of Peña Pachamama 𝗛𝗮𝗽𝗽𝘆 𝗛𝗼𝘂𝗿 𝗮𝗹𝗹 𝗱𝗮𝘆
URL:https://northbeachlive.com/event/a-sunday-music-cafe/2026-05-10/
LOCATION:Peña Pachamama\, 1630 Powell St\, San Francisco\, 94133\, United States
CATEGORIES:Live Music
ATTACH;FMTTYPE=image/jpeg:https://northbeachlive.com/wp-content/uploads/2026/03/IMG_0373.jpeg
END:VEVENT
BEGIN:VEVENT
DTSTART;TZID=America/Los_Angeles:20260517T180000
DTEND;TZID=America/Los_Angeles:20260517T190000
DTSTAMP:20260422T080400
CREATED:20260303T225602Z
LAST-MODIFIED:20260303T225602Z
UID:10014919-1779040800-1779044400@northbeachlive.com
SUMMARY:A Sunday Music Cafe
DESCRIPTION:Meet the owners of Peña Pachamama\, co-founders of SUKAY & Savia Andina. Every Sunday\, Eddy Navia & Quentin Navia invite you into the heart of Peña Pachamama 𝗛𝗮𝗽𝗽𝘆 𝗛𝗼𝘂𝗿 𝗮𝗹𝗹 𝗱𝗮𝘆
URL:https://northbeachlive.com/event/a-sunday-music-cafe/2026-05-17/
LOCATION:Peña Pachamama\, 1630 Powell St\, San Francisco\, 94133\, United States
CATEGORIES:Live Music
ATTACH;FMTTYPE=image/jpeg:https://northbeachlive.com/wp-content/uploads/2026/03/IMG_0373.jpeg
END:VEVENT
BEGIN:VEVENT
DTSTART;TZID=America/Los_Angeles:20260524T180000
DTEND;TZID=America/Los_Angeles:20260524T190000
DTSTAMP:20260422T080400
CREATED:20260303T225602Z
LAST-MODIFIED:20260303T225602Z
UID:10014920-1779645600-1779649200@northbeachlive.com
SUMMARY:A Sunday Music Cafe
DESCRIPTION:Meet the owners of Peña Pachamama\, co-founders of SUKAY & Savia Andina. Every Sunday\, Eddy Navia & Quentin Navia invite you into the heart of Peña Pachamama 𝗛𝗮𝗽𝗽𝘆 𝗛𝗼𝘂𝗿 𝗮𝗹𝗹 𝗱𝗮𝘆
URL:https://northbeachlive.com/event/a-sunday-music-cafe/2026-05-24/
LOCATION:Peña Pachamama\, 1630 Powell St\, San Francisco\, 94133\, United States
CATEGORIES:Live Music
ATTACH;FMTTYPE=image/jpeg:https://northbeachlive.com/wp-content/uploads/2026/03/IMG_0373.jpeg
END:VEVENT
BEGIN:VEVENT
DTSTART;TZID=America/Los_Angeles:20260531T180000
DTEND;TZID=America/Los_Angeles:20260531T190000
DTSTAMP:20260422T080400
CREATED:20260303T225602Z
LAST-MODIFIED:20260303T225602Z
UID:10014921-1780250400-1780254000@northbeachlive.com
SUMMARY:A Sunday Music Cafe
DESCRIPTION:Meet the owners of Peña Pachamama\, co-founders of SUKAY & Savia Andina. Every Sunday\, Eddy Navia & Quentin Navia invite you into the heart of Peña Pachamama 𝗛𝗮𝗽𝗽𝘆 𝗛𝗼𝘂𝗿 𝗮𝗹𝗹 𝗱𝗮𝘆
URL:https://northbeachlive.com/event/a-sunday-music-cafe/2026-05-31/
LOCATION:Peña Pachamama\, 1630 Powell St\, San Francisco\, 94133\, United States
CATEGORIES:Live Music
ATTACH;FMTTYPE=image/jpeg:https://northbeachlive.com/wp-content/uploads/2026/03/IMG_0373.jpeg
END:VEVENT
BEGIN:VEVENT
DTSTART;TZID=America/Los_Angeles:20260607T180000
DTEND;TZID=America/Los_Angeles:20260607T190000
DTSTAMP:20260422T080400
CREATED:20260303T225602Z
LAST-MODIFIED:20260303T225602Z
UID:10014922-1780855200-1780858800@northbeachlive.com
SUMMARY:A Sunday Music Cafe
DESCRIPTION:Meet the owners of Peña Pachamama\, co-founders of SUKAY & Savia Andina. Every Sunday\, Eddy Navia & Quentin Navia invite you into the heart of Peña Pachamama 𝗛𝗮𝗽𝗽𝘆 𝗛𝗼𝘂𝗿 𝗮𝗹𝗹 𝗱𝗮𝘆
URL:https://northbeachlive.com/event/a-sunday-music-cafe/2026-06-07/
LOCATION:Peña Pachamama\, 1630 Powell St\, San Francisco\, 94133\, United States
CATEGORIES:Live Music
ATTACH;FMTTYPE=image/jpeg:https://northbeachlive.com/wp-content/uploads/2026/03/IMG_0373.jpeg
END:VEVENT
BEGIN:VEVENT
DTSTART;TZID=America/Los_Angeles:20260614T180000
DTEND;TZID=America/Los_Angeles:20260614T190000
DTSTAMP:20260422T080400
CREATED:20260303T225602Z
LAST-MODIFIED:20260303T225602Z
UID:10014923-1781460000-1781463600@northbeachlive.com
SUMMARY:A Sunday Music Cafe
DESCRIPTION:Meet the owners of Peña Pachamama\, co-founders of SUKAY & Savia Andina. Every Sunday\, Eddy Navia & Quentin Navia invite you into the heart of Peña Pachamama 𝗛𝗮𝗽𝗽𝘆 𝗛𝗼𝘂𝗿 𝗮𝗹𝗹 𝗱𝗮𝘆
URL:https://northbeachlive.com/event/a-sunday-music-cafe/2026-06-14/
LOCATION:Peña Pachamama\, 1630 Powell St\, San Francisco\, 94133\, United States
CATEGORIES:Live Music
ATTACH;FMTTYPE=image/jpeg:https://northbeachlive.com/wp-content/uploads/2026/03/IMG_0373.jpeg
END:VEVENT
BEGIN:VEVENT
DTSTART;TZID=America/Los_Angeles:20260621T180000
DTEND;TZID=America/Los_Angeles:20260621T190000
DTSTAMP:20260422T080400
CREATED:20260303T225602Z
LAST-MODIFIED:20260303T225602Z
UID:10014924-1782064800-1782068400@northbeachlive.com
SUMMARY:A Sunday Music Cafe
DESCRIPTION:Meet the owners of Peña Pachamama\, co-founders of SUKAY & Savia Andina. Every Sunday\, Eddy Navia & Quentin Navia invite you into the heart of Peña Pachamama 𝗛𝗮𝗽𝗽𝘆 𝗛𝗼𝘂𝗿 𝗮𝗹𝗹 𝗱𝗮𝘆
URL:https://northbeachlive.com/event/a-sunday-music-cafe/2026-06-21/
LOCATION:Peña Pachamama\, 1630 Powell St\, San Francisco\, 94133\, United States
CATEGORIES:Live Music
ATTACH;FMTTYPE=image/jpeg:https://northbeachlive.com/wp-content/uploads/2026/03/IMG_0373.jpeg
END:VEVENT
BEGIN:VEVENT
DTSTART;TZID=America/Los_Angeles:20260628T180000
DTEND;TZID=America/Los_Angeles:20260628T190000
DTSTAMP:20260422T080400
CREATED:20260303T225602Z
LAST-MODIFIED:20260303T225602Z
UID:10014925-1782669600-1782673200@northbeachlive.com
SUMMARY:A Sunday Music Cafe
DESCRIPTION:Meet the owners of Peña Pachamama\, co-founders of SUKAY & Savia Andina. Every Sunday\, Eddy Navia & Quentin Navia invite you into the heart of Peña Pachamama 𝗛𝗮𝗽𝗽𝘆 𝗛𝗼𝘂𝗿 𝗮𝗹𝗹 𝗱𝗮𝘆
URL:https://northbeachlive.com/event/a-sunday-music-cafe/2026-06-28/
LOCATION:Peña Pachamama\, 1630 Powell St\, San Francisco\, 94133\, United States
CATEGORIES:Live Music
ATTACH;FMTTYPE=image/jpeg:https://northbeachlive.com/wp-content/uploads/2026/03/IMG_0373.jpeg
END:VEVENT
BEGIN:VEVENT
DTSTART;TZID=America/Los_Angeles:20260705T180000
DTEND;TZID=America/Los_Angeles:20260705T190000
DTSTAMP:20260422T080400
CREATED:20260303T225602Z
LAST-MODIFIED:20260303T225602Z
UID:10014926-1783274400-1783278000@northbeachlive.com
SUMMARY:A Sunday Music Cafe
DESCRIPTION:Meet the owners of Peña Pachamama\, co-founders of SUKAY & Savia Andina. Every Sunday\, Eddy Navia & Quentin Navia invite you into the heart of Peña Pachamama 𝗛𝗮𝗽𝗽𝘆 𝗛𝗼𝘂𝗿 𝗮𝗹𝗹 𝗱𝗮𝘆
URL:https://northbeachlive.com/event/a-sunday-music-cafe/2026-07-05/
LOCATION:Peña Pachamama\, 1630 Powell St\, San Francisco\, 94133\, United States
CATEGORIES:Live Music
ATTACH;FMTTYPE=image/jpeg:https://northbeachlive.com/wp-content/uploads/2026/03/IMG_0373.jpeg
END:VEVENT
BEGIN:VEVENT
DTSTART;TZID=America/Los_Angeles:20260712T180000
DTEND;TZID=America/Los_Angeles:20260712T190000
DTSTAMP:20260422T080400
CREATED:20260303T225602Z
LAST-MODIFIED:20260303T225602Z
UID:10014927-1783879200-1783882800@northbeachlive.com
SUMMARY:A Sunday Music Cafe
DESCRIPTION:Meet the owners of Peña Pachamama\, co-founders of SUKAY & Savia Andina. Every Sunday\, Eddy Navia & Quentin Navia invite you into the heart of Peña Pachamama 𝗛𝗮𝗽𝗽𝘆 𝗛𝗼𝘂𝗿 𝗮𝗹𝗹 𝗱𝗮𝘆
URL:https://northbeachlive.com/event/a-sunday-music-cafe/2026-07-12/
LOCATION:Peña Pachamama\, 1630 Powell St\, San Francisco\, 94133\, United States
CATEGORIES:Live Music
ATTACH;FMTTYPE=image/jpeg:https://northbeachlive.com/wp-content/uploads/2026/03/IMG_0373.jpeg
END:VEVENT
BEGIN:VEVENT
DTSTART;TZID=America/Los_Angeles:20260719T180000
DTEND;TZID=America/Los_Angeles:20260719T190000
DTSTAMP:20260422T080400
CREATED:20260303T225602Z
LAST-MODIFIED:20260303T225602Z
UID:10014928-1784484000-1784487600@northbeachlive.com
SUMMARY:A Sunday Music Cafe
DESCRIPTION:Meet the owners of Peña Pachamama\, co-founders of SUKAY & Savia Andina. Every Sunday\, Eddy Navia & Quentin Navia invite you into the heart of Peña Pachamama 𝗛𝗮𝗽𝗽𝘆 𝗛𝗼𝘂𝗿 𝗮𝗹𝗹 𝗱𝗮𝘆
URL:https://northbeachlive.com/event/a-sunday-music-cafe/2026-07-19/
LOCATION:Peña Pachamama\, 1630 Powell St\, San Francisco\, 94133\, United States
CATEGORIES:Live Music
ATTACH;FMTTYPE=image/jpeg:https://northbeachlive.com/wp-content/uploads/2026/03/IMG_0373.jpeg
END:VEVENT
BEGIN:VEVENT
DTSTART;TZID=America/Los_Angeles:20260726T180000
DTEND;TZID=America/Los_Angeles:20260726T190000
DTSTAMP:20260422T080400
CREATED:20260303T225602Z
LAST-MODIFIED:20260303T225602Z
UID:10014929-1785088800-1785092400@northbeachlive.com
SUMMARY:A Sunday Music Cafe
DESCRIPTION:Meet the owners of Peña Pachamama\, co-founders of SUKAY & Savia Andina. Every Sunday\, Eddy Navia & Quentin Navia invite you into the heart of Peña Pachamama 𝗛𝗮𝗽𝗽𝘆 𝗛𝗼𝘂𝗿 𝗮𝗹𝗹 𝗱𝗮𝘆
URL:https://northbeachlive.com/event/a-sunday-music-cafe/2026-07-26/
LOCATION:Peña Pachamama\, 1630 Powell St\, San Francisco\, 94133\, United States
CATEGORIES:Live Music
ATTACH;FMTTYPE=image/jpeg:https://northbeachlive.com/wp-content/uploads/2026/03/IMG_0373.jpeg
END:VEVENT
BEGIN:VEVENT
DTSTART;TZID=America/Los_Angeles:20260802T180000
DTEND;TZID=America/Los_Angeles:20260802T190000
DTSTAMP:20260422T080400
CREATED:20260303T225602Z
LAST-MODIFIED:20260303T225602Z
UID:10014930-1785693600-1785697200@northbeachlive.com
SUMMARY:A Sunday Music Cafe
DESCRIPTION:Meet the owners of Peña Pachamama\, co-founders of SUKAY & Savia Andina. Every Sunday\, Eddy Navia & Quentin Navia invite you into the heart of Peña Pachamama 𝗛𝗮𝗽𝗽𝘆 𝗛𝗼𝘂𝗿 𝗮𝗹𝗹 𝗱𝗮𝘆
URL:https://northbeachlive.com/event/a-sunday-music-cafe/2026-08-02/
LOCATION:Peña Pachamama\, 1630 Powell St\, San Francisco\, 94133\, United States
CATEGORIES:Live Music
ATTACH;FMTTYPE=image/jpeg:https://northbeachlive.com/wp-content/uploads/2026/03/IMG_0373.jpeg
END:VEVENT
BEGIN:VEVENT
DTSTART;TZID=America/Los_Angeles:20260809T180000
DTEND;TZID=America/Los_Angeles:20260809T190000
DTSTAMP:20260422T080400
CREATED:20260303T225602Z
LAST-MODIFIED:20260303T225602Z
UID:10014931-1786298400-1786302000@northbeachlive.com
SUMMARY:A Sunday Music Cafe
DESCRIPTION:Meet the owners of Peña Pachamama\, co-founders of SUKAY & Savia Andina. Every Sunday\, Eddy Navia & Quentin Navia invite you into the heart of Peña Pachamama 𝗛𝗮𝗽𝗽𝘆 𝗛𝗼𝘂𝗿 𝗮𝗹𝗹 𝗱𝗮𝘆
URL:https://northbeachlive.com/event/a-sunday-music-cafe/2026-08-09/
LOCATION:Peña Pachamama\, 1630 Powell St\, San Francisco\, 94133\, United States
CATEGORIES:Live Music
ATTACH;FMTTYPE=image/jpeg:https://northbeachlive.com/wp-content/uploads/2026/03/IMG_0373.jpeg
END:VEVENT
BEGIN:VEVENT
DTSTART;TZID=America/Los_Angeles:20260816T180000
DTEND;TZID=America/Los_Angeles:20260816T190000
DTSTAMP:20260422T080400
CREATED:20260303T225602Z
LAST-MODIFIED:20260303T225602Z
UID:10014932-1786903200-1786906800@northbeachlive.com
SUMMARY:A Sunday Music Cafe
DESCRIPTION:Meet the owners of Peña Pachamama\, co-founders of SUKAY & Savia Andina. Every Sunday\, Eddy Navia & Quentin Navia invite you into the heart of Peña Pachamama 𝗛𝗮𝗽𝗽𝘆 𝗛𝗼𝘂𝗿 𝗮𝗹𝗹 𝗱𝗮𝘆
URL:https://northbeachlive.com/event/a-sunday-music-cafe/2026-08-16/
LOCATION:Peña Pachamama\, 1630 Powell St\, San Francisco\, 94133\, United States
CATEGORIES:Live Music
ATTACH;FMTTYPE=image/jpeg:https://northbeachlive.com/wp-content/uploads/2026/03/IMG_0373.jpeg
END:VEVENT
BEGIN:VEVENT
DTSTART;TZID=America/Los_Angeles:20260823T180000
DTEND;TZID=America/Los_Angeles:20260823T190000
DTSTAMP:20260422T080400
CREATED:20260303T225602Z
LAST-MODIFIED:20260303T225602Z
UID:10014933-1787508000-1787511600@northbeachlive.com
SUMMARY:A Sunday Music Cafe
DESCRIPTION:Meet the owners of Peña Pachamama\, co-founders of SUKAY & Savia Andina. Every Sunday\, Eddy Navia & Quentin Navia invite you into the heart of Peña Pachamama 𝗛𝗮𝗽𝗽𝘆 𝗛𝗼𝘂𝗿 𝗮𝗹𝗹 𝗱𝗮𝘆
URL:https://northbeachlive.com/event/a-sunday-music-cafe/2026-08-23/
LOCATION:Peña Pachamama\, 1630 Powell St\, San Francisco\, 94133\, United States
CATEGORIES:Live Music
ATTACH;FMTTYPE=image/jpeg:https://northbeachlive.com/wp-content/uploads/2026/03/IMG_0373.jpeg
END:VEVENT
BEGIN:VEVENT
DTSTART;TZID=America/Los_Angeles:20260830T180000
DTEND;TZID=America/Los_Angeles:20260830T190000
DTSTAMP:20260422T080400
CREATED:20260303T225602Z
LAST-MODIFIED:20260303T225602Z
UID:10014934-1788112800-1788116400@northbeachlive.com
SUMMARY:A Sunday Music Cafe
DESCRIPTION:Meet the owners of Peña Pachamama\, co-founders of SUKAY & Savia Andina. Every Sunday\, Eddy Navia & Quentin Navia invite you into the heart of Peña Pachamama 𝗛𝗮𝗽𝗽𝘆 𝗛𝗼𝘂𝗿 𝗮𝗹𝗹 𝗱𝗮𝘆
URL:https://northbeachlive.com/event/a-sunday-music-cafe/2026-08-30/
LOCATION:Peña Pachamama\, 1630 Powell St\, San Francisco\, 94133\, United States
CATEGORIES:Live Music
ATTACH;FMTTYPE=image/jpeg:https://northbeachlive.com/wp-content/uploads/2026/03/IMG_0373.jpeg
END:VEVENT
BEGIN:VEVENT
DTSTART;TZID=America/Los_Angeles:20260906T180000
DTEND;TZID=America/Los_Angeles:20260906T190000
DTSTAMP:20260422T080400
CREATED:20260303T225602Z
LAST-MODIFIED:20260303T225602Z
UID:10014935-1788717600-1788721200@northbeachlive.com
SUMMARY:A Sunday Music Cafe
DESCRIPTION:Meet the owners of Peña Pachamama\, co-founders of SUKAY & Savia Andina. Every Sunday\, Eddy Navia & Quentin Navia invite you into the heart of Peña Pachamama 𝗛𝗮𝗽𝗽𝘆 𝗛𝗼𝘂𝗿 𝗮𝗹𝗹 𝗱𝗮𝘆
URL:https://northbeachlive.com/event/a-sunday-music-cafe/2026-09-06/
LOCATION:Peña Pachamama\, 1630 Powell St\, San Francisco\, 94133\, United States
CATEGORIES:Live Music
ATTACH;FMTTYPE=image/jpeg:https://northbeachlive.com/wp-content/uploads/2026/03/IMG_0373.jpeg
END:VEVENT
BEGIN:VEVENT
DTSTART;TZID=America/Los_Angeles:20260913T180000
DTEND;TZID=America/Los_Angeles:20260913T190000
DTSTAMP:20260422T080400
CREATED:20260303T225602Z
LAST-MODIFIED:20260303T225602Z
UID:10014936-1789322400-1789326000@northbeachlive.com
SUMMARY:A Sunday Music Cafe
DESCRIPTION:Meet the owners of Peña Pachamama\, co-founders of SUKAY & Savia Andina. Every Sunday\, Eddy Navia & Quentin Navia invite you into the heart of Peña Pachamama 𝗛𝗮𝗽𝗽𝘆 𝗛𝗼𝘂𝗿 𝗮𝗹𝗹 𝗱𝗮𝘆
URL:https://northbeachlive.com/event/a-sunday-music-cafe/2026-09-13/
LOCATION:Peña Pachamama\, 1630 Powell St\, San Francisco\, 94133\, United States
CATEGORIES:Live Music
ATTACH;FMTTYPE=image/jpeg:https://northbeachlive.com/wp-content/uploads/2026/03/IMG_0373.jpeg
END:VEVENT
BEGIN:VEVENT
DTSTART;TZID=America/Los_Angeles:20260920T180000
DTEND;TZID=America/Los_Angeles:20260920T190000
DTSTAMP:20260422T080400
CREATED:20260303T225602Z
LAST-MODIFIED:20260303T225602Z
UID:10014937-1789927200-1789930800@northbeachlive.com
SUMMARY:A Sunday Music Cafe
DESCRIPTION:Meet the owners of Peña Pachamama\, co-founders of SUKAY & Savia Andina. Every Sunday\, Eddy Navia & Quentin Navia invite you into the heart of Peña Pachamama 𝗛𝗮𝗽𝗽𝘆 𝗛𝗼𝘂𝗿 𝗮𝗹𝗹 𝗱𝗮𝘆
URL:https://northbeachlive.com/event/a-sunday-music-cafe/2026-09-20/
LOCATION:Peña Pachamama\, 1630 Powell St\, San Francisco\, 94133\, United States
CATEGORIES:Live Music
ATTACH;FMTTYPE=image/jpeg:https://northbeachlive.com/wp-content/uploads/2026/03/IMG_0373.jpeg
END:VEVENT
BEGIN:VEVENT
DTSTART;TZID=America/Los_Angeles:20260927T180000
DTEND;TZID=America/Los_Angeles:20260927T190000
DTSTAMP:20260422T080400
CREATED:20260303T225602Z
LAST-MODIFIED:20260303T225602Z
UID:10014938-1790532000-1790535600@northbeachlive.com
SUMMARY:A Sunday Music Cafe
DESCRIPTION:Meet the owners of Peña Pachamama\, co-founders of SUKAY & Savia Andina. Every Sunday\, Eddy Navia & Quentin Navia invite you into the heart of Peña Pachamama 𝗛𝗮𝗽𝗽𝘆 𝗛𝗼𝘂𝗿 𝗮𝗹𝗹 𝗱𝗮𝘆
URL:https://northbeachlive.com/event/a-sunday-music-cafe/2026-09-27/
LOCATION:Peña Pachamama\, 1630 Powell St\, San Francisco\, 94133\, United States
CATEGORIES:Live Music
ATTACH;FMTTYPE=image/jpeg:https://northbeachlive.com/wp-content/uploads/2026/03/IMG_0373.jpeg
END:VEVENT
BEGIN:VEVENT
DTSTART;TZID=America/Los_Angeles:20261004T180000
DTEND;TZID=America/Los_Angeles:20261004T190000
DTSTAMP:20260422T080400
CREATED:20260303T225602Z
LAST-MODIFIED:20260303T225602Z
UID:10014939-1791136800-1791140400@northbeachlive.com
SUMMARY:A Sunday Music Cafe
DESCRIPTION:Meet the owners of Peña Pachamama\, co-founders of SUKAY & Savia Andina. Every Sunday\, Eddy Navia & Quentin Navia invite you into the heart of Peña Pachamama 𝗛𝗮𝗽𝗽𝘆 𝗛𝗼𝘂𝗿 𝗮𝗹𝗹 𝗱𝗮𝘆
URL:https://northbeachlive.com/event/a-sunday-music-cafe/2026-10-04/
LOCATION:Peña Pachamama\, 1630 Powell St\, San Francisco\, 94133\, United States
CATEGORIES:Live Music
ATTACH;FMTTYPE=image/jpeg:https://northbeachlive.com/wp-content/uploads/2026/03/IMG_0373.jpeg
END:VEVENT
BEGIN:VEVENT
DTSTART;TZID=America/Los_Angeles:20261011T180000
DTEND;TZID=America/Los_Angeles:20261011T190000
DTSTAMP:20260422T080400
CREATED:20260303T225602Z
LAST-MODIFIED:20260303T225602Z
UID:10014940-1791741600-1791745200@northbeachlive.com
SUMMARY:A Sunday Music Cafe
DESCRIPTION:Meet the owners of Peña Pachamama\, co-founders of SUKAY & Savia Andina. Every Sunday\, Eddy Navia & Quentin Navia invite you into the heart of Peña Pachamama 𝗛𝗮𝗽𝗽𝘆 𝗛𝗼𝘂𝗿 𝗮𝗹𝗹 𝗱𝗮𝘆
URL:https://northbeachlive.com/event/a-sunday-music-cafe/2026-10-11/
LOCATION:Peña Pachamama\, 1630 Powell St\, San Francisco\, 94133\, United States
CATEGORIES:Live Music
ATTACH;FMTTYPE=image/jpeg:https://northbeachlive.com/wp-content/uploads/2026/03/IMG_0373.jpeg
END:VEVENT
BEGIN:VEVENT
DTSTART;TZID=America/Los_Angeles:20261018T180000
DTEND;TZID=America/Los_Angeles:20261018T190000
DTSTAMP:20260422T080400
CREATED:20260303T225602Z
LAST-MODIFIED:20260303T225602Z
UID:10014941-1792346400-1792350000@northbeachlive.com
SUMMARY:A Sunday Music Cafe
DESCRIPTION:Meet the owners of Peña Pachamama\, co-founders of SUKAY & Savia Andina. Every Sunday\, Eddy Navia & Quentin Navia invite you into the heart of Peña Pachamama 𝗛𝗮𝗽𝗽𝘆 𝗛𝗼𝘂𝗿 𝗮𝗹𝗹 𝗱𝗮𝘆
URL:https://northbeachlive.com/event/a-sunday-music-cafe/2026-10-18/
LOCATION:Peña Pachamama\, 1630 Powell St\, San Francisco\, 94133\, United States
CATEGORIES:Live Music
ATTACH;FMTTYPE=image/jpeg:https://northbeachlive.com/wp-content/uploads/2026/03/IMG_0373.jpeg
END:VEVENT
BEGIN:VEVENT
DTSTART;TZID=America/Los_Angeles:20261025T180000
DTEND;TZID=America/Los_Angeles:20261025T190000
DTSTAMP:20260422T080400
CREATED:20260303T225602Z
LAST-MODIFIED:20260303T225602Z
UID:10014942-1792951200-1792954800@northbeachlive.com
SUMMARY:A Sunday Music Cafe
DESCRIPTION:Meet the owners of Peña Pachamama\, co-founders of SUKAY & Savia Andina. Every Sunday\, Eddy Navia & Quentin Navia invite you into the heart of Peña Pachamama 𝗛𝗮𝗽𝗽𝘆 𝗛𝗼𝘂𝗿 𝗮𝗹𝗹 𝗱𝗮𝘆
URL:https://northbeachlive.com/event/a-sunday-music-cafe/2026-10-25/
LOCATION:Peña Pachamama\, 1630 Powell St\, San Francisco\, 94133\, United States
CATEGORIES:Live Music
ATTACH;FMTTYPE=image/jpeg:https://northbeachlive.com/wp-content/uploads/2026/03/IMG_0373.jpeg
END:VEVENT
BEGIN:VEVENT
DTSTART;TZID=America/Los_Angeles:20261101T180000
DTEND;TZID=America/Los_Angeles:20261101T190000
DTSTAMP:20260422T080400
CREATED:20260303T225602Z
LAST-MODIFIED:20260303T225602Z
UID:10014943-1793556000-1793559600@northbeachlive.com
SUMMARY:A Sunday Music Cafe
DESCRIPTION:Meet the owners of Peña Pachamama\, co-founders of SUKAY & Savia Andina. Every Sunday\, Eddy Navia & Quentin Navia invite you into the heart of Peña Pachamama 𝗛𝗮𝗽𝗽𝘆 𝗛𝗼𝘂𝗿 𝗮𝗹𝗹 𝗱𝗮𝘆
URL:https://northbeachlive.com/event/a-sunday-music-cafe/2026-11-01/
LOCATION:Peña Pachamama\, 1630 Powell St\, San Francisco\, 94133\, United States
CATEGORIES:Live Music
ATTACH;FMTTYPE=image/jpeg:https://northbeachlive.com/wp-content/uploads/2026/03/IMG_0373.jpeg
END:VEVENT
BEGIN:VEVENT
DTSTART;TZID=America/Los_Angeles:20261108T180000
DTEND;TZID=America/Los_Angeles:20261108T190000
DTSTAMP:20260422T080400
CREATED:20260303T225602Z
LAST-MODIFIED:20260303T225602Z
UID:10014944-1794160800-1794164400@northbeachlive.com
SUMMARY:A Sunday Music Cafe
DESCRIPTION:Meet the owners of Peña Pachamama\, co-founders of SUKAY & Savia Andina. Every Sunday\, Eddy Navia & Quentin Navia invite you into the heart of Peña Pachamama 𝗛𝗮𝗽𝗽𝘆 𝗛𝗼𝘂𝗿 𝗮𝗹𝗹 𝗱𝗮𝘆
URL:https://northbeachlive.com/event/a-sunday-music-cafe/2026-11-08/
LOCATION:Peña Pachamama\, 1630 Powell St\, San Francisco\, 94133\, United States
CATEGORIES:Live Music
ATTACH;FMTTYPE=image/jpeg:https://northbeachlive.com/wp-content/uploads/2026/03/IMG_0373.jpeg
END:VEVENT
BEGIN:VEVENT
DTSTART;TZID=America/Los_Angeles:20261115T180000
DTEND;TZID=America/Los_Angeles:20261115T190000
DTSTAMP:20260422T080400
CREATED:20260303T225602Z
LAST-MODIFIED:20260303T225602Z
UID:10014945-1794765600-1794769200@northbeachlive.com
SUMMARY:A Sunday Music Cafe
DESCRIPTION:Meet the owners of Peña Pachamama\, co-founders of SUKAY & Savia Andina. Every Sunday\, Eddy Navia & Quentin Navia invite you into the heart of Peña Pachamama 𝗛𝗮𝗽𝗽𝘆 𝗛𝗼𝘂𝗿 𝗮𝗹𝗹 𝗱𝗮𝘆
URL:https://northbeachlive.com/event/a-sunday-music-cafe/2026-11-15/
LOCATION:Peña Pachamama\, 1630 Powell St\, San Francisco\, 94133\, United States
CATEGORIES:Live Music
ATTACH;FMTTYPE=image/jpeg:https://northbeachlive.com/wp-content/uploads/2026/03/IMG_0373.jpeg
END:VEVENT
END:VCALENDAR