BEGIN:VCALENDAR
VERSION:2.0
PRODID:-//North Beach Live - ECPv6.15.20//NONSGML v1.0//EN
CALSCALE:GREGORIAN
METHOD:PUBLISH
X-WR-CALNAME:North Beach Live
X-ORIGINAL-URL:https://northbeachlive.com
X-WR-CALDESC:Events for North Beach Live
REFRESH-INTERVAL;VALUE=DURATION:PT1H
X-Robots-Tag:noindex
X-PUBLISHED-TTL:PT1H
BEGIN:VTIMEZONE
TZID:America/Los_Angeles
BEGIN:DAYLIGHT
TZOFFSETFROM:-0800
TZOFFSETTO:-0700
TZNAME:PDT
DTSTART:20250309T100000
END:DAYLIGHT
BEGIN:STANDARD
TZOFFSETFROM:-0700
TZOFFSETTO:-0800
TZNAME:PST
DTSTART:20251102T090000
END:STANDARD
BEGIN:DAYLIGHT
TZOFFSETFROM:-0800
TZOFFSETTO:-0700
TZNAME:PDT
DTSTART:20260308T100000
END:DAYLIGHT
BEGIN:STANDARD
TZOFFSETFROM:-0700
TZOFFSETTO:-0800
TZNAME:PST
DTSTART:20261101T090000
END:STANDARD
BEGIN:DAYLIGHT
TZOFFSETFROM:-0800
TZOFFSETTO:-0700
TZNAME:PDT
DTSTART:20270314T100000
END:DAYLIGHT
BEGIN:STANDARD
TZOFFSETFROM:-0700
TZOFFSETTO:-0800
TZNAME:PST
DTSTART:20271107T090000
END:STANDARD
END:VTIMEZONE
BEGIN:VEVENT
DTSTART;TZID=America/Los_Angeles:20260515T183000
DTEND;TZID=America/Los_Angeles:20260515T200000
DTSTAMP:20260424T002643
CREATED:20260307T194705Z
LAST-MODIFIED:20260321T204254Z
UID:10015084-1778869800-1778875200@northbeachlive.com
SUMMARY:Chris Cain
DESCRIPTION:Chris Cain is a master of modern blues\, known for his soulful voice\, fiery guitar work\, and jazz-infused phrasing. Raised in San Jose\, he was immersed in the blues from an early age—attending his first B.B. King concert at three and performing professionally by his teens. \nHis 1987 debut Late Night City Blues earned four Blues Music Award nominations and led to performances with legends like Albert King and Albert Collins. With over a dozen acclaimed albums\, Cain blends deep blues roots with jazz sophistication. \nWhether on stage or in the studio\, Cain delivers powerful\, soul-stirring performances that have made him a standout figure in contemporary blues for over three decades.
URL:https://northbeachlive.com/event/chris-cain-2/
LOCATION:Biscuits & Blues\, 401 Mason Street\, San Francisco\, CA\, 94102\, United States
CATEGORIES:Live Music
ATTACH;FMTTYPE=image/jpeg:https://northbeachlive.com/wp-content/uploads/2026/03/0a8591fdc9d41bbc84343b29a0bdd23b.jpg
END:VEVENT
END:VCALENDAR