BEGIN:VCALENDAR
VERSION:2.0
PRODID:-//North Beach Live - ECPv6.15.20//NONSGML v1.0//EN
CALSCALE:GREGORIAN
METHOD:PUBLISH
X-WR-CALNAME:North Beach Live
X-ORIGINAL-URL:https://northbeachlive.com
X-WR-CALDESC:Events for North Beach Live
REFRESH-INTERVAL;VALUE=DURATION:PT1H
X-Robots-Tag:noindex
X-PUBLISHED-TTL:PT1H
BEGIN:VTIMEZONE
TZID:America/Los_Angeles
BEGIN:DAYLIGHT
TZOFFSETFROM:-0800
TZOFFSETTO:-0700
TZNAME:PDT
DTSTART:20250309T100000
END:DAYLIGHT
BEGIN:STANDARD
TZOFFSETFROM:-0700
TZOFFSETTO:-0800
TZNAME:PST
DTSTART:20251102T090000
END:STANDARD
BEGIN:DAYLIGHT
TZOFFSETFROM:-0800
TZOFFSETTO:-0700
TZNAME:PDT
DTSTART:20260308T100000
END:DAYLIGHT
BEGIN:STANDARD
TZOFFSETFROM:-0700
TZOFFSETTO:-0800
TZNAME:PST
DTSTART:20261101T090000
END:STANDARD
BEGIN:DAYLIGHT
TZOFFSETFROM:-0800
TZOFFSETTO:-0700
TZNAME:PDT
DTSTART:20270314T100000
END:DAYLIGHT
BEGIN:STANDARD
TZOFFSETFROM:-0700
TZOFFSETTO:-0800
TZNAME:PST
DTSTART:20271107T090000
END:STANDARD
END:VTIMEZONE
BEGIN:VEVENT
DTSTART;TZID=America/Los_Angeles:20260508T200000
DTEND;TZID=America/Los_Angeles:20260508T223000
DTSTAMP:20260420T213602
CREATED:20260213T005200Z
LAST-MODIFIED:20260420T212928Z
UID:10016848-1778270400-1778279400@northbeachlive.com
SUMMARY:The Cottontails Trio featuring Karina Denike
DESCRIPTION:THE COTTONTAILS are one of San Francisco’s most exciting musical groups\, playing a wide range of styles ranging from 20’/30s Gatsby-era jazz\, classic 40’s swing\, and vintage 50’s/60’s R&B.  \nWith Michael MacIntosh on piano\, Joe Kyle Jr on bass and Karina Denike on vocals. \n \n“ Karina Denike Possesses a voice so rich and luxuriant she sounds like she was born to sing any song that comes her way “ – KQED California Report \n \n“Michael McIntosh’s solos can evoke everyone from Jelly Roll Morton to Herbie Hancock\, and he is known to pound out liturgical music on the pump organ in his spare time. He epitomizes the pluck and spirit of The Cottontails – dogged\, versatile\, virtuosic; a light-fingered role player where called for\, but a spine tingling soloist when he chooses.” – The Bay Bridged \n \n“…Special shout out to Karina Denike whose vocal prowess recalls traditional jazz chops with modern style\, relevance\, and soul.” – Owl Mag
URL:https://northbeachlive.com/event/the-cottontails-trio-featuring-karina-denike/2026-05-08/
LOCATION:Stookey’s Blue Room\, 891 Bush St\, San Francisco\, CA\, 94108\, United States
CATEGORIES:Live Music
ATTACH;FMTTYPE=image/jpeg:https://northbeachlive.com/wp-content/uploads/2026/02/IMG_0192.jpeg
END:VEVENT
END:VCALENDAR