BEGIN:VCALENDAR
VERSION:2.0
PRODID:-//North Beach Live - ECPv6.15.20//NONSGML v1.0//EN
CALSCALE:GREGORIAN
METHOD:PUBLISH
X-WR-CALNAME:North Beach Live
X-ORIGINAL-URL:https://northbeachlive.com
X-WR-CALDESC:Events for North Beach Live
REFRESH-INTERVAL;VALUE=DURATION:PT1H
X-Robots-Tag:noindex
X-PUBLISHED-TTL:PT1H
BEGIN:VTIMEZONE
TZID:America/Los_Angeles
BEGIN:DAYLIGHT
TZOFFSETFROM:-0800
TZOFFSETTO:-0700
TZNAME:PDT
DTSTART:20250309T100000
END:DAYLIGHT
BEGIN:STANDARD
TZOFFSETFROM:-0700
TZOFFSETTO:-0800
TZNAME:PST
DTSTART:20251102T090000
END:STANDARD
BEGIN:DAYLIGHT
TZOFFSETFROM:-0800
TZOFFSETTO:-0700
TZNAME:PDT
DTSTART:20260308T100000
END:DAYLIGHT
BEGIN:STANDARD
TZOFFSETFROM:-0700
TZOFFSETTO:-0800
TZNAME:PST
DTSTART:20261101T090000
END:STANDARD
BEGIN:DAYLIGHT
TZOFFSETFROM:-0800
TZOFFSETTO:-0700
TZNAME:PDT
DTSTART:20270314T100000
END:DAYLIGHT
BEGIN:STANDARD
TZOFFSETFROM:-0700
TZOFFSETTO:-0800
TZNAME:PST
DTSTART:20271107T090000
END:STANDARD
END:VTIMEZONE
BEGIN:VEVENT
DTSTART;TZID=America/Los_Angeles:20260515T200000
DTEND;TZID=America/Los_Angeles:20260515T223000
DTSTAMP:20260420T232936
CREATED:20260213T004324Z
LAST-MODIFIED:20260420T213630Z
UID:10016851-1778875200-1778884200@northbeachlive.com
SUMMARY:Patrick Wolff Trio
DESCRIPTION:Patrick Wolff is a saxophonist and clarinetist with deep roots in the jazz scenes of New York City and San Francisco\, known for his lyrical playing and deep engagement with the full lineage of jazz styles. He has performed with renowned artists such as Matt Wilson\, Albert “Tootie” Heath\, Grant Stewart\, and Louis Moholo-Moholo\, and since relocating to San Francisco in 2009\, has been a frequent collaborator with Marcus Shelby\, Richard Sears\, Adam Shulman\, and Diana Gameros. As a bandleader\, he has released six albums\, leading ensembles that showcase both his original compositions and repertoire from the bebop and hard bop eras. A dedicated educator and advocate\, Wolff teaches at the San Francisco Conservatory of Music\, the College of San Mateo\, and the Stanford Jazz Workshop\, and previously hosted the weekly KCSM radio show Have You Heard\, spotlighting emerging and underrated jazz voices. \n \nWe are pleased to welcome to the Stookey’s Blue Room floor\, for the first time: the Patrick Wolff Trio!
URL:https://northbeachlive.com/event/patrick-wolff-trio/2026-05-15/
LOCATION:Stookey’s Blue Room\, 891 Bush St\, San Francisco\, CA\, 94108\, United States
CATEGORIES:Live Music
ATTACH;FMTTYPE=image/jpeg:https://northbeachlive.com/wp-content/uploads/2026/02/IMG_0190.jpeg
END:VEVENT
END:VCALENDAR