BEGIN:VCALENDAR
VERSION:2.0
PRODID:-//North Beach Live - ECPv6.15.20//NONSGML v1.0//EN
CALSCALE:GREGORIAN
METHOD:PUBLISH
X-WR-CALNAME:North Beach Live
X-ORIGINAL-URL:https://northbeachlive.com
X-WR-CALDESC:Events for North Beach Live
REFRESH-INTERVAL;VALUE=DURATION:PT1H
X-Robots-Tag:noindex
X-PUBLISHED-TTL:PT1H
BEGIN:VTIMEZONE
TZID:America/Los_Angeles
BEGIN:DAYLIGHT
TZOFFSETFROM:-0800
TZOFFSETTO:-0700
TZNAME:PDT
DTSTART:20250309T100000
END:DAYLIGHT
BEGIN:STANDARD
TZOFFSETFROM:-0700
TZOFFSETTO:-0800
TZNAME:PST
DTSTART:20251102T090000
END:STANDARD
BEGIN:DAYLIGHT
TZOFFSETFROM:-0800
TZOFFSETTO:-0700
TZNAME:PDT
DTSTART:20260308T100000
END:DAYLIGHT
BEGIN:STANDARD
TZOFFSETFROM:-0700
TZOFFSETTO:-0800
TZNAME:PST
DTSTART:20261101T090000
END:STANDARD
BEGIN:DAYLIGHT
TZOFFSETFROM:-0800
TZOFFSETTO:-0700
TZNAME:PDT
DTSTART:20270314T100000
END:DAYLIGHT
BEGIN:STANDARD
TZOFFSETFROM:-0700
TZOFFSETTO:-0800
TZNAME:PST
DTSTART:20271107T090000
END:STANDARD
END:VTIMEZONE
BEGIN:VEVENT
DTSTART;TZID=America/Los_Angeles:20260430T084500
DTEND;TZID=America/Los_Angeles:20260430T220000
DTSTAMP:20260425T094619
CREATED:20260415T204257Z
LAST-MODIFIED:20260422T184334Z
UID:10016882-1777538700-1777586400@northbeachlive.com
SUMMARY:Paul Hanson Quartet
DESCRIPTION:Jeff Denson | Bass\nMichael Echaniz | Piano\nPaul Hanson | Basson\nDeszon Claiborne | Drums\nPaul Hanson is internationally known as a top jazz bassoonist performing and recording with Bela Fleck and the Flecktones\, Jon Batiste\, Billy Cobham\, Taylor Eigsti\, Wayne Shorter\, Randy Brecker\, Billy Childs\, Billy Higgins\, Brian Blade\, Jonas Hellborg\, Charlie Hunter\, Peter Erskine\, Jeff Sipe among others. He has won awards both in classical and jazz music such as Woodwinds on Fire Grand Prize from JAZZIZ Magazine in 1995 and Robert Mondavi Concerto Competition winner in 1984. He has appeared on 2 Grammy winning albums with Bela Fleck and Jon Batiste. His recent album “CALLIOPE” charted strong on jazz radio.
URL:https://northbeachlive.com/event/paul-hanson-quartet/2026-04-30/1/
LOCATION:Mr. Tipples\, 39 Fell St\, San Francisco\, CA\, 94102\, United States
CATEGORIES:Live Music
ATTACH;FMTTYPE=image/png:https://northbeachlive.com/wp-content/uploads/2026/04/PAUL-HANSON-Promo-Picture-small-file-tPUWYr.png
GEO:37.776449;-122.418193
X-APPLE-STRUCTURED-LOCATION;VALUE=URI;X-ADDRESS=Mr. Tipples 39 Fell St San Francisco CA 94102 United States;X-APPLE-RADIUS=500;X-TITLE=39 Fell St:geo:-122.418193,37.776449
END:VEVENT
BEGIN:VEVENT
DTSTART;TZID=America/Los_Angeles:20260430T190000
DTEND;TZID=America/Los_Angeles:20260430T201500
DTSTAMP:20260425T094619
CREATED:20260415T204257Z
LAST-MODIFIED:20260422T184334Z
UID:10016783-1777575600-1777580100@northbeachlive.com
SUMMARY:Paul Hanson Quartet
DESCRIPTION:Jeff Denson | Bass\nMichael Echaniz | Piano\nPaul Hanson | Basson\nDeszon Claiborne | Drums\nPaul Hanson is internationally known as a top jazz bassoonist performing and recording with Bela Fleck and the Flecktones\, Jon Batiste\, Billy Cobham\, Taylor Eigsti\, Wayne Shorter\, Randy Brecker\, Billy Childs\, Billy Higgins\, Brian Blade\, Jonas Hellborg\, Charlie Hunter\, Peter Erskine\, Jeff Sipe among others. He has won awards both in classical and jazz music such as Woodwinds on Fire Grand Prize from JAZZIZ Magazine in 1995 and Robert Mondavi Concerto Competition winner in 1984. He has appeared on 2 Grammy winning albums with Bela Fleck and Jon Batiste. His recent album “CALLIOPE” charted strong on jazz radio.
URL:https://northbeachlive.com/event/paul-hanson-quartet/2026-04-30/2/
LOCATION:Mr. Tipples\, 39 Fell St\, San Francisco\, CA\, 94102\, United States
CATEGORIES:Live Music
ATTACH;FMTTYPE=image/png:https://northbeachlive.com/wp-content/uploads/2026/04/PAUL-HANSON-Promo-Picture-small-file-tPUWYr.png
GEO:37.776449;-122.418193
X-APPLE-STRUCTURED-LOCATION;VALUE=URI;X-ADDRESS=Mr. Tipples 39 Fell St San Francisco CA 94102 United States;X-APPLE-RADIUS=500;X-TITLE=39 Fell St:geo:-122.418193,37.776449
END:VEVENT
END:VCALENDAR