BEGIN:VCALENDAR
VERSION:2.0
PRODID:-//North Beach Live - ECPv6.15.20//NONSGML v1.0//EN
CALSCALE:GREGORIAN
METHOD:PUBLISH
X-WR-CALNAME:North Beach Live
X-ORIGINAL-URL:https://northbeachlive.com
X-WR-CALDESC:Events for North Beach Live
REFRESH-INTERVAL;VALUE=DURATION:PT1H
X-Robots-Tag:noindex
X-PUBLISHED-TTL:PT1H
BEGIN:VTIMEZONE
TZID:America/Los_Angeles
BEGIN:DAYLIGHT
TZOFFSETFROM:-0800
TZOFFSETTO:-0700
TZNAME:PDT
DTSTART:20250309T100000
END:DAYLIGHT
BEGIN:STANDARD
TZOFFSETFROM:-0700
TZOFFSETTO:-0800
TZNAME:PST
DTSTART:20251102T090000
END:STANDARD
BEGIN:DAYLIGHT
TZOFFSETFROM:-0800
TZOFFSETTO:-0700
TZNAME:PDT
DTSTART:20260308T100000
END:DAYLIGHT
BEGIN:STANDARD
TZOFFSETFROM:-0700
TZOFFSETTO:-0800
TZNAME:PST
DTSTART:20261101T090000
END:STANDARD
BEGIN:DAYLIGHT
TZOFFSETFROM:-0800
TZOFFSETTO:-0700
TZNAME:PDT
DTSTART:20270314T100000
END:DAYLIGHT
BEGIN:STANDARD
TZOFFSETFROM:-0700
TZOFFSETTO:-0800
TZNAME:PST
DTSTART:20271107T090000
END:STANDARD
END:VTIMEZONE
BEGIN:VEVENT
DTSTART;TZID=America/Los_Angeles:20260515T204500
DTEND;TZID=America/Los_Angeles:20260515T234500
DTSTAMP:20260425T210039
CREATED:20260204T043846Z
LAST-MODIFIED:20260425T172854Z
UID:10017086-1778877900-1778888700@northbeachlive.com
SUMMARY:Menacho + Reed
DESCRIPTION:Join Menacho + Reed at the Royale. \nThis duo funk jazz set features Bob Menacho on stings and Micheal Reed on drums.
URL:https://northbeachlive.com/event/menacho-reed/2026-05-15/
LOCATION:The Royale\, 800 Post St\, San Francisco\, CA\, 94109\, United States
CATEGORIES:Live Music
GEO:37.787454;-122.414995
X-APPLE-STRUCTURED-LOCATION;VALUE=URI;X-ADDRESS=The Royale 800 Post St San Francisco CA 94109 United States;X-APPLE-RADIUS=500;X-TITLE=800 Post St:geo:-122.414995,37.787454
END:VEVENT
END:VCALENDAR