BEGIN:VCALENDAR
VERSION:2.0
PRODID:-//North Beach Live - ECPv6.15.20//NONSGML v1.0//EN
CALSCALE:GREGORIAN
METHOD:PUBLISH
X-WR-CALNAME:North Beach Live
X-ORIGINAL-URL:https://northbeachlive.com
X-WR-CALDESC:Events for North Beach Live
REFRESH-INTERVAL;VALUE=DURATION:PT1H
X-Robots-Tag:noindex
X-PUBLISHED-TTL:PT1H
BEGIN:VTIMEZONE
TZID:America/Los_Angeles
BEGIN:DAYLIGHT
TZOFFSETFROM:-0800
TZOFFSETTO:-0700
TZNAME:PDT
DTSTART:20250309T100000
END:DAYLIGHT
BEGIN:STANDARD
TZOFFSETFROM:-0700
TZOFFSETTO:-0800
TZNAME:PST
DTSTART:20251102T090000
END:STANDARD
BEGIN:DAYLIGHT
TZOFFSETFROM:-0800
TZOFFSETTO:-0700
TZNAME:PDT
DTSTART:20260308T100000
END:DAYLIGHT
BEGIN:STANDARD
TZOFFSETFROM:-0700
TZOFFSETTO:-0800
TZNAME:PST
DTSTART:20261101T090000
END:STANDARD
BEGIN:DAYLIGHT
TZOFFSETFROM:-0800
TZOFFSETTO:-0700
TZNAME:PDT
DTSTART:20270314T100000
END:DAYLIGHT
BEGIN:STANDARD
TZOFFSETFROM:-0700
TZOFFSETTO:-0800
TZNAME:PST
DTSTART:20271107T090000
END:STANDARD
BEGIN:DAYLIGHT
TZOFFSETFROM:-0800
TZOFFSETTO:-0700
TZNAME:PDT
DTSTART:20280312T100000
END:DAYLIGHT
BEGIN:STANDARD
TZOFFSETFROM:-0700
TZOFFSETTO:-0800
TZNAME:PST
DTSTART:20281105T090000
END:STANDARD
END:VTIMEZONE
BEGIN:VEVENT
DTSTART;TZID=America/Los_Angeles:20260715T200000
DTEND;TZID=America/Los_Angeles:20260715T230000
DTSTAMP:20260421T222012
CREATED:20260111T220525Z
LAST-MODIFIED:20260128T183204Z
UID:10012400-1784145600-1784156400@northbeachlive.com
SUMMARY:Magic School Busk
DESCRIPTION:Turn your midweek slump into a vibe at Persona SF! Every Wednesday at 8 PM\, the Magic School Busk brings an electrifying fusion of Funk\, Soul\, Latin\, Afro\, and more to keep the energy high all night long. \nLet the rhythm elevate your evening as this dynamic collective delivers a genre-blending experience that’s impossible to ignore. Whether you’re sipping on our signature cocktails or simply soaking in the sounds\, Wednesdays at Persona are your new weekly ritual.
URL:https://northbeachlive.com/event/magic-school-busk-4/2026-07-15/
LOCATION:Persona\, 685 Sutter St\, San Francisco\, CA\, 94102\, United States
CATEGORIES:Live Music
ATTACH;FMTTYPE=image/png:https://northbeachlive.com/wp-content/uploads/2026/01/IMG_0154.png
END:VEVENT
BEGIN:VEVENT
DTSTART;TZID=America/Los_Angeles:20260722T200000
DTEND;TZID=America/Los_Angeles:20260722T230000
DTSTAMP:20260421T222012
CREATED:20260111T220525Z
LAST-MODIFIED:20260128T183204Z
UID:10012401-1784750400-1784761200@northbeachlive.com
SUMMARY:Magic School Busk
DESCRIPTION:Turn your midweek slump into a vibe at Persona SF! Every Wednesday at 8 PM\, the Magic School Busk brings an electrifying fusion of Funk\, Soul\, Latin\, Afro\, and more to keep the energy high all night long. \nLet the rhythm elevate your evening as this dynamic collective delivers a genre-blending experience that’s impossible to ignore. Whether you’re sipping on our signature cocktails or simply soaking in the sounds\, Wednesdays at Persona are your new weekly ritual.
URL:https://northbeachlive.com/event/magic-school-busk-4/2026-07-22/
LOCATION:Persona\, 685 Sutter St\, San Francisco\, CA\, 94102\, United States
CATEGORIES:Live Music
ATTACH;FMTTYPE=image/png:https://northbeachlive.com/wp-content/uploads/2026/01/IMG_0154.png
END:VEVENT
BEGIN:VEVENT
DTSTART;TZID=America/Los_Angeles:20260729T200000
DTEND;TZID=America/Los_Angeles:20260729T230000
DTSTAMP:20260421T222012
CREATED:20260111T220525Z
LAST-MODIFIED:20260128T183204Z
UID:10012402-1785355200-1785366000@northbeachlive.com
SUMMARY:Magic School Busk
DESCRIPTION:Turn your midweek slump into a vibe at Persona SF! Every Wednesday at 8 PM\, the Magic School Busk brings an electrifying fusion of Funk\, Soul\, Latin\, Afro\, and more to keep the energy high all night long. \nLet the rhythm elevate your evening as this dynamic collective delivers a genre-blending experience that’s impossible to ignore. Whether you’re sipping on our signature cocktails or simply soaking in the sounds\, Wednesdays at Persona are your new weekly ritual.
URL:https://northbeachlive.com/event/magic-school-busk-4/2026-07-29/
LOCATION:Persona\, 685 Sutter St\, San Francisco\, CA\, 94102\, United States
CATEGORIES:Live Music
ATTACH;FMTTYPE=image/png:https://northbeachlive.com/wp-content/uploads/2026/01/IMG_0154.png
END:VEVENT
BEGIN:VEVENT
DTSTART;TZID=America/Los_Angeles:20260805T200000
DTEND;TZID=America/Los_Angeles:20260805T230000
DTSTAMP:20260421T222012
CREATED:20260111T220525Z
LAST-MODIFIED:20260128T183204Z
UID:10012403-1785960000-1785970800@northbeachlive.com
SUMMARY:Magic School Busk
DESCRIPTION:Turn your midweek slump into a vibe at Persona SF! Every Wednesday at 8 PM\, the Magic School Busk brings an electrifying fusion of Funk\, Soul\, Latin\, Afro\, and more to keep the energy high all night long. \nLet the rhythm elevate your evening as this dynamic collective delivers a genre-blending experience that’s impossible to ignore. Whether you’re sipping on our signature cocktails or simply soaking in the sounds\, Wednesdays at Persona are your new weekly ritual.
URL:https://northbeachlive.com/event/magic-school-busk-4/2026-08-05/
LOCATION:Persona\, 685 Sutter St\, San Francisco\, CA\, 94102\, United States
CATEGORIES:Live Music
ATTACH;FMTTYPE=image/png:https://northbeachlive.com/wp-content/uploads/2026/01/IMG_0154.png
END:VEVENT
BEGIN:VEVENT
DTSTART;TZID=America/Los_Angeles:20260812T200000
DTEND;TZID=America/Los_Angeles:20260812T230000
DTSTAMP:20260421T222012
CREATED:20260111T220525Z
LAST-MODIFIED:20260128T183204Z
UID:10012404-1786564800-1786575600@northbeachlive.com
SUMMARY:Magic School Busk
DESCRIPTION:Turn your midweek slump into a vibe at Persona SF! Every Wednesday at 8 PM\, the Magic School Busk brings an electrifying fusion of Funk\, Soul\, Latin\, Afro\, and more to keep the energy high all night long. \nLet the rhythm elevate your evening as this dynamic collective delivers a genre-blending experience that’s impossible to ignore. Whether you’re sipping on our signature cocktails or simply soaking in the sounds\, Wednesdays at Persona are your new weekly ritual.
URL:https://northbeachlive.com/event/magic-school-busk-4/2026-08-12/
LOCATION:Persona\, 685 Sutter St\, San Francisco\, CA\, 94102\, United States
CATEGORIES:Live Music
ATTACH;FMTTYPE=image/png:https://northbeachlive.com/wp-content/uploads/2026/01/IMG_0154.png
END:VEVENT
BEGIN:VEVENT
DTSTART;TZID=America/Los_Angeles:20260819T200000
DTEND;TZID=America/Los_Angeles:20260819T230000
DTSTAMP:20260421T222012
CREATED:20260111T220525Z
LAST-MODIFIED:20260128T183204Z
UID:10012405-1787169600-1787180400@northbeachlive.com
SUMMARY:Magic School Busk
DESCRIPTION:Turn your midweek slump into a vibe at Persona SF! Every Wednesday at 8 PM\, the Magic School Busk brings an electrifying fusion of Funk\, Soul\, Latin\, Afro\, and more to keep the energy high all night long. \nLet the rhythm elevate your evening as this dynamic collective delivers a genre-blending experience that’s impossible to ignore. Whether you’re sipping on our signature cocktails or simply soaking in the sounds\, Wednesdays at Persona are your new weekly ritual.
URL:https://northbeachlive.com/event/magic-school-busk-4/2026-08-19/
LOCATION:Persona\, 685 Sutter St\, San Francisco\, CA\, 94102\, United States
CATEGORIES:Live Music
ATTACH;FMTTYPE=image/png:https://northbeachlive.com/wp-content/uploads/2026/01/IMG_0154.png
END:VEVENT
BEGIN:VEVENT
DTSTART;TZID=America/Los_Angeles:20260826T200000
DTEND;TZID=America/Los_Angeles:20260826T230000
DTSTAMP:20260421T222012
CREATED:20260111T220525Z
LAST-MODIFIED:20260128T183204Z
UID:10012406-1787774400-1787785200@northbeachlive.com
SUMMARY:Magic School Busk
DESCRIPTION:Turn your midweek slump into a vibe at Persona SF! Every Wednesday at 8 PM\, the Magic School Busk brings an electrifying fusion of Funk\, Soul\, Latin\, Afro\, and more to keep the energy high all night long. \nLet the rhythm elevate your evening as this dynamic collective delivers a genre-blending experience that’s impossible to ignore. Whether you’re sipping on our signature cocktails or simply soaking in the sounds\, Wednesdays at Persona are your new weekly ritual.
URL:https://northbeachlive.com/event/magic-school-busk-4/2026-08-26/
LOCATION:Persona\, 685 Sutter St\, San Francisco\, CA\, 94102\, United States
CATEGORIES:Live Music
ATTACH;FMTTYPE=image/png:https://northbeachlive.com/wp-content/uploads/2026/01/IMG_0154.png
END:VEVENT
BEGIN:VEVENT
DTSTART;TZID=America/Los_Angeles:20260902T200000
DTEND;TZID=America/Los_Angeles:20260902T230000
DTSTAMP:20260421T222012
CREATED:20260111T220525Z
LAST-MODIFIED:20260128T183204Z
UID:10012407-1788379200-1788390000@northbeachlive.com
SUMMARY:Magic School Busk
DESCRIPTION:Turn your midweek slump into a vibe at Persona SF! Every Wednesday at 8 PM\, the Magic School Busk brings an electrifying fusion of Funk\, Soul\, Latin\, Afro\, and more to keep the energy high all night long. \nLet the rhythm elevate your evening as this dynamic collective delivers a genre-blending experience that’s impossible to ignore. Whether you’re sipping on our signature cocktails or simply soaking in the sounds\, Wednesdays at Persona are your new weekly ritual.
URL:https://northbeachlive.com/event/magic-school-busk-4/2026-09-02/
LOCATION:Persona\, 685 Sutter St\, San Francisco\, CA\, 94102\, United States
CATEGORIES:Live Music
ATTACH;FMTTYPE=image/png:https://northbeachlive.com/wp-content/uploads/2026/01/IMG_0154.png
END:VEVENT
BEGIN:VEVENT
DTSTART;TZID=America/Los_Angeles:20260909T200000
DTEND;TZID=America/Los_Angeles:20260909T230000
DTSTAMP:20260421T222012
CREATED:20260111T220525Z
LAST-MODIFIED:20260128T183204Z
UID:10012408-1788984000-1788994800@northbeachlive.com
SUMMARY:Magic School Busk
DESCRIPTION:Turn your midweek slump into a vibe at Persona SF! Every Wednesday at 8 PM\, the Magic School Busk brings an electrifying fusion of Funk\, Soul\, Latin\, Afro\, and more to keep the energy high all night long. \nLet the rhythm elevate your evening as this dynamic collective delivers a genre-blending experience that’s impossible to ignore. Whether you’re sipping on our signature cocktails or simply soaking in the sounds\, Wednesdays at Persona are your new weekly ritual.
URL:https://northbeachlive.com/event/magic-school-busk-4/2026-09-09/
LOCATION:Persona\, 685 Sutter St\, San Francisco\, CA\, 94102\, United States
CATEGORIES:Live Music
ATTACH;FMTTYPE=image/png:https://northbeachlive.com/wp-content/uploads/2026/01/IMG_0154.png
END:VEVENT
BEGIN:VEVENT
DTSTART;TZID=America/Los_Angeles:20260916T200000
DTEND;TZID=America/Los_Angeles:20260916T230000
DTSTAMP:20260421T222012
CREATED:20260111T220525Z
LAST-MODIFIED:20260128T183204Z
UID:10012409-1789588800-1789599600@northbeachlive.com
SUMMARY:Magic School Busk
DESCRIPTION:Turn your midweek slump into a vibe at Persona SF! Every Wednesday at 8 PM\, the Magic School Busk brings an electrifying fusion of Funk\, Soul\, Latin\, Afro\, and more to keep the energy high all night long. \nLet the rhythm elevate your evening as this dynamic collective delivers a genre-blending experience that’s impossible to ignore. Whether you’re sipping on our signature cocktails or simply soaking in the sounds\, Wednesdays at Persona are your new weekly ritual.
URL:https://northbeachlive.com/event/magic-school-busk-4/2026-09-16/
LOCATION:Persona\, 685 Sutter St\, San Francisco\, CA\, 94102\, United States
CATEGORIES:Live Music
ATTACH;FMTTYPE=image/png:https://northbeachlive.com/wp-content/uploads/2026/01/IMG_0154.png
END:VEVENT
BEGIN:VEVENT
DTSTART;TZID=America/Los_Angeles:20260923T200000
DTEND;TZID=America/Los_Angeles:20260923T230000
DTSTAMP:20260421T222012
CREATED:20260111T220525Z
LAST-MODIFIED:20260128T183204Z
UID:10012410-1790193600-1790204400@northbeachlive.com
SUMMARY:Magic School Busk
DESCRIPTION:Turn your midweek slump into a vibe at Persona SF! Every Wednesday at 8 PM\, the Magic School Busk brings an electrifying fusion of Funk\, Soul\, Latin\, Afro\, and more to keep the energy high all night long. \nLet the rhythm elevate your evening as this dynamic collective delivers a genre-blending experience that’s impossible to ignore. Whether you’re sipping on our signature cocktails or simply soaking in the sounds\, Wednesdays at Persona are your new weekly ritual.
URL:https://northbeachlive.com/event/magic-school-busk-4/2026-09-23/
LOCATION:Persona\, 685 Sutter St\, San Francisco\, CA\, 94102\, United States
CATEGORIES:Live Music
ATTACH;FMTTYPE=image/png:https://northbeachlive.com/wp-content/uploads/2026/01/IMG_0154.png
END:VEVENT
BEGIN:VEVENT
DTSTART;TZID=America/Los_Angeles:20260930T200000
DTEND;TZID=America/Los_Angeles:20260930T230000
DTSTAMP:20260421T222012
CREATED:20260111T220525Z
LAST-MODIFIED:20260128T183204Z
UID:10012411-1790798400-1790809200@northbeachlive.com
SUMMARY:Magic School Busk
DESCRIPTION:Turn your midweek slump into a vibe at Persona SF! Every Wednesday at 8 PM\, the Magic School Busk brings an electrifying fusion of Funk\, Soul\, Latin\, Afro\, and more to keep the energy high all night long. \nLet the rhythm elevate your evening as this dynamic collective delivers a genre-blending experience that’s impossible to ignore. Whether you’re sipping on our signature cocktails or simply soaking in the sounds\, Wednesdays at Persona are your new weekly ritual.
URL:https://northbeachlive.com/event/magic-school-busk-4/2026-09-30/
LOCATION:Persona\, 685 Sutter St\, San Francisco\, CA\, 94102\, United States
CATEGORIES:Live Music
ATTACH;FMTTYPE=image/png:https://northbeachlive.com/wp-content/uploads/2026/01/IMG_0154.png
END:VEVENT
BEGIN:VEVENT
DTSTART;TZID=America/Los_Angeles:20261007T200000
DTEND;TZID=America/Los_Angeles:20261007T230000
DTSTAMP:20260421T222012
CREATED:20260111T220525Z
LAST-MODIFIED:20260128T183204Z
UID:10012412-1791403200-1791414000@northbeachlive.com
SUMMARY:Magic School Busk
DESCRIPTION:Turn your midweek slump into a vibe at Persona SF! Every Wednesday at 8 PM\, the Magic School Busk brings an electrifying fusion of Funk\, Soul\, Latin\, Afro\, and more to keep the energy high all night long. \nLet the rhythm elevate your evening as this dynamic collective delivers a genre-blending experience that’s impossible to ignore. Whether you’re sipping on our signature cocktails or simply soaking in the sounds\, Wednesdays at Persona are your new weekly ritual.
URL:https://northbeachlive.com/event/magic-school-busk-4/2026-10-07/
LOCATION:Persona\, 685 Sutter St\, San Francisco\, CA\, 94102\, United States
CATEGORIES:Live Music
ATTACH;FMTTYPE=image/png:https://northbeachlive.com/wp-content/uploads/2026/01/IMG_0154.png
END:VEVENT
BEGIN:VEVENT
DTSTART;TZID=America/Los_Angeles:20261014T200000
DTEND;TZID=America/Los_Angeles:20261014T230000
DTSTAMP:20260421T222012
CREATED:20260111T220525Z
LAST-MODIFIED:20260128T183204Z
UID:10012413-1792008000-1792018800@northbeachlive.com
SUMMARY:Magic School Busk
DESCRIPTION:Turn your midweek slump into a vibe at Persona SF! Every Wednesday at 8 PM\, the Magic School Busk brings an electrifying fusion of Funk\, Soul\, Latin\, Afro\, and more to keep the energy high all night long. \nLet the rhythm elevate your evening as this dynamic collective delivers a genre-blending experience that’s impossible to ignore. Whether you’re sipping on our signature cocktails or simply soaking in the sounds\, Wednesdays at Persona are your new weekly ritual.
URL:https://northbeachlive.com/event/magic-school-busk-4/2026-10-14/
LOCATION:Persona\, 685 Sutter St\, San Francisco\, CA\, 94102\, United States
CATEGORIES:Live Music
ATTACH;FMTTYPE=image/png:https://northbeachlive.com/wp-content/uploads/2026/01/IMG_0154.png
END:VEVENT
BEGIN:VEVENT
DTSTART;TZID=America/Los_Angeles:20261021T200000
DTEND;TZID=America/Los_Angeles:20261021T230000
DTSTAMP:20260421T222012
CREATED:20260111T220525Z
LAST-MODIFIED:20260128T183204Z
UID:10012414-1792612800-1792623600@northbeachlive.com
SUMMARY:Magic School Busk
DESCRIPTION:Turn your midweek slump into a vibe at Persona SF! Every Wednesday at 8 PM\, the Magic School Busk brings an electrifying fusion of Funk\, Soul\, Latin\, Afro\, and more to keep the energy high all night long. \nLet the rhythm elevate your evening as this dynamic collective delivers a genre-blending experience that’s impossible to ignore. Whether you’re sipping on our signature cocktails or simply soaking in the sounds\, Wednesdays at Persona are your new weekly ritual.
URL:https://northbeachlive.com/event/magic-school-busk-4/2026-10-21/
LOCATION:Persona\, 685 Sutter St\, San Francisco\, CA\, 94102\, United States
CATEGORIES:Live Music
ATTACH;FMTTYPE=image/png:https://northbeachlive.com/wp-content/uploads/2026/01/IMG_0154.png
END:VEVENT
BEGIN:VEVENT
DTSTART;TZID=America/Los_Angeles:20261028T200000
DTEND;TZID=America/Los_Angeles:20261028T230000
DTSTAMP:20260421T222012
CREATED:20260111T220525Z
LAST-MODIFIED:20260128T183204Z
UID:10012415-1793217600-1793228400@northbeachlive.com
SUMMARY:Magic School Busk
DESCRIPTION:Turn your midweek slump into a vibe at Persona SF! Every Wednesday at 8 PM\, the Magic School Busk brings an electrifying fusion of Funk\, Soul\, Latin\, Afro\, and more to keep the energy high all night long. \nLet the rhythm elevate your evening as this dynamic collective delivers a genre-blending experience that’s impossible to ignore. Whether you’re sipping on our signature cocktails or simply soaking in the sounds\, Wednesdays at Persona are your new weekly ritual.
URL:https://northbeachlive.com/event/magic-school-busk-4/2026-10-28/
LOCATION:Persona\, 685 Sutter St\, San Francisco\, CA\, 94102\, United States
CATEGORIES:Live Music
ATTACH;FMTTYPE=image/png:https://northbeachlive.com/wp-content/uploads/2026/01/IMG_0154.png
END:VEVENT
BEGIN:VEVENT
DTSTART;TZID=America/Los_Angeles:20261104T200000
DTEND;TZID=America/Los_Angeles:20261104T230000
DTSTAMP:20260421T222012
CREATED:20260111T220525Z
LAST-MODIFIED:20260128T183204Z
UID:10012416-1793822400-1793833200@northbeachlive.com
SUMMARY:Magic School Busk
DESCRIPTION:Turn your midweek slump into a vibe at Persona SF! Every Wednesday at 8 PM\, the Magic School Busk brings an electrifying fusion of Funk\, Soul\, Latin\, Afro\, and more to keep the energy high all night long. \nLet the rhythm elevate your evening as this dynamic collective delivers a genre-blending experience that’s impossible to ignore. Whether you’re sipping on our signature cocktails or simply soaking in the sounds\, Wednesdays at Persona are your new weekly ritual.
URL:https://northbeachlive.com/event/magic-school-busk-4/2026-11-04/
LOCATION:Persona\, 685 Sutter St\, San Francisco\, CA\, 94102\, United States
CATEGORIES:Live Music
ATTACH;FMTTYPE=image/png:https://northbeachlive.com/wp-content/uploads/2026/01/IMG_0154.png
END:VEVENT
BEGIN:VEVENT
DTSTART;TZID=America/Los_Angeles:20261111T200000
DTEND;TZID=America/Los_Angeles:20261111T230000
DTSTAMP:20260421T222012
CREATED:20260111T220525Z
LAST-MODIFIED:20260128T183204Z
UID:10012417-1794427200-1794438000@northbeachlive.com
SUMMARY:Magic School Busk
DESCRIPTION:Turn your midweek slump into a vibe at Persona SF! Every Wednesday at 8 PM\, the Magic School Busk brings an electrifying fusion of Funk\, Soul\, Latin\, Afro\, and more to keep the energy high all night long. \nLet the rhythm elevate your evening as this dynamic collective delivers a genre-blending experience that’s impossible to ignore. Whether you’re sipping on our signature cocktails or simply soaking in the sounds\, Wednesdays at Persona are your new weekly ritual.
URL:https://northbeachlive.com/event/magic-school-busk-4/2026-11-11/
LOCATION:Persona\, 685 Sutter St\, San Francisco\, CA\, 94102\, United States
CATEGORIES:Live Music
ATTACH;FMTTYPE=image/png:https://northbeachlive.com/wp-content/uploads/2026/01/IMG_0154.png
END:VEVENT
BEGIN:VEVENT
DTSTART;TZID=America/Los_Angeles:20261118T200000
DTEND;TZID=America/Los_Angeles:20261118T230000
DTSTAMP:20260421T222012
CREATED:20260111T220525Z
LAST-MODIFIED:20260128T183204Z
UID:10012418-1795032000-1795042800@northbeachlive.com
SUMMARY:Magic School Busk
DESCRIPTION:Turn your midweek slump into a vibe at Persona SF! Every Wednesday at 8 PM\, the Magic School Busk brings an electrifying fusion of Funk\, Soul\, Latin\, Afro\, and more to keep the energy high all night long. \nLet the rhythm elevate your evening as this dynamic collective delivers a genre-blending experience that’s impossible to ignore. Whether you’re sipping on our signature cocktails or simply soaking in the sounds\, Wednesdays at Persona are your new weekly ritual.
URL:https://northbeachlive.com/event/magic-school-busk-4/2026-11-18/
LOCATION:Persona\, 685 Sutter St\, San Francisco\, CA\, 94102\, United States
CATEGORIES:Live Music
ATTACH;FMTTYPE=image/png:https://northbeachlive.com/wp-content/uploads/2026/01/IMG_0154.png
END:VEVENT
BEGIN:VEVENT
DTSTART;TZID=America/Los_Angeles:20261125T200000
DTEND;TZID=America/Los_Angeles:20261125T230000
DTSTAMP:20260421T222012
CREATED:20260111T220525Z
LAST-MODIFIED:20260128T183204Z
UID:10012419-1795636800-1795647600@northbeachlive.com
SUMMARY:Magic School Busk
DESCRIPTION:Turn your midweek slump into a vibe at Persona SF! Every Wednesday at 8 PM\, the Magic School Busk brings an electrifying fusion of Funk\, Soul\, Latin\, Afro\, and more to keep the energy high all night long. \nLet the rhythm elevate your evening as this dynamic collective delivers a genre-blending experience that’s impossible to ignore. Whether you’re sipping on our signature cocktails or simply soaking in the sounds\, Wednesdays at Persona are your new weekly ritual.
URL:https://northbeachlive.com/event/magic-school-busk-4/2026-11-25/
LOCATION:Persona\, 685 Sutter St\, San Francisco\, CA\, 94102\, United States
CATEGORIES:Live Music
ATTACH;FMTTYPE=image/png:https://northbeachlive.com/wp-content/uploads/2026/01/IMG_0154.png
END:VEVENT
BEGIN:VEVENT
DTSTART;TZID=America/Los_Angeles:20261202T200000
DTEND;TZID=America/Los_Angeles:20261202T230000
DTSTAMP:20260421T222012
CREATED:20260111T220525Z
LAST-MODIFIED:20260128T183204Z
UID:10012420-1796241600-1796252400@northbeachlive.com
SUMMARY:Magic School Busk
DESCRIPTION:Turn your midweek slump into a vibe at Persona SF! Every Wednesday at 8 PM\, the Magic School Busk brings an electrifying fusion of Funk\, Soul\, Latin\, Afro\, and more to keep the energy high all night long. \nLet the rhythm elevate your evening as this dynamic collective delivers a genre-blending experience that’s impossible to ignore. Whether you’re sipping on our signature cocktails or simply soaking in the sounds\, Wednesdays at Persona are your new weekly ritual.
URL:https://northbeachlive.com/event/magic-school-busk-4/2026-12-02/
LOCATION:Persona\, 685 Sutter St\, San Francisco\, CA\, 94102\, United States
CATEGORIES:Live Music
ATTACH;FMTTYPE=image/png:https://northbeachlive.com/wp-content/uploads/2026/01/IMG_0154.png
END:VEVENT
BEGIN:VEVENT
DTSTART;TZID=America/Los_Angeles:20261209T200000
DTEND;TZID=America/Los_Angeles:20261209T230000
DTSTAMP:20260421T222012
CREATED:20260111T220525Z
LAST-MODIFIED:20260128T183204Z
UID:10012421-1796846400-1796857200@northbeachlive.com
SUMMARY:Magic School Busk
DESCRIPTION:Turn your midweek slump into a vibe at Persona SF! Every Wednesday at 8 PM\, the Magic School Busk brings an electrifying fusion of Funk\, Soul\, Latin\, Afro\, and more to keep the energy high all night long. \nLet the rhythm elevate your evening as this dynamic collective delivers a genre-blending experience that’s impossible to ignore. Whether you’re sipping on our signature cocktails or simply soaking in the sounds\, Wednesdays at Persona are your new weekly ritual.
URL:https://northbeachlive.com/event/magic-school-busk-4/2026-12-09/
LOCATION:Persona\, 685 Sutter St\, San Francisco\, CA\, 94102\, United States
CATEGORIES:Live Music
ATTACH;FMTTYPE=image/png:https://northbeachlive.com/wp-content/uploads/2026/01/IMG_0154.png
END:VEVENT
BEGIN:VEVENT
DTSTART;TZID=America/Los_Angeles:20261216T200000
DTEND;TZID=America/Los_Angeles:20261216T230000
DTSTAMP:20260421T222012
CREATED:20260111T220525Z
LAST-MODIFIED:20260128T183204Z
UID:10012422-1797451200-1797462000@northbeachlive.com
SUMMARY:Magic School Busk
DESCRIPTION:Turn your midweek slump into a vibe at Persona SF! Every Wednesday at 8 PM\, the Magic School Busk brings an electrifying fusion of Funk\, Soul\, Latin\, Afro\, and more to keep the energy high all night long. \nLet the rhythm elevate your evening as this dynamic collective delivers a genre-blending experience that’s impossible to ignore. Whether you’re sipping on our signature cocktails or simply soaking in the sounds\, Wednesdays at Persona are your new weekly ritual.
URL:https://northbeachlive.com/event/magic-school-busk-4/2026-12-16/
LOCATION:Persona\, 685 Sutter St\, San Francisco\, CA\, 94102\, United States
CATEGORIES:Live Music
ATTACH;FMTTYPE=image/png:https://northbeachlive.com/wp-content/uploads/2026/01/IMG_0154.png
END:VEVENT
BEGIN:VEVENT
DTSTART;TZID=America/Los_Angeles:20261223T200000
DTEND;TZID=America/Los_Angeles:20261223T230000
DTSTAMP:20260421T222012
CREATED:20260111T220525Z
LAST-MODIFIED:20260128T183204Z
UID:10012423-1798056000-1798066800@northbeachlive.com
SUMMARY:Magic School Busk
DESCRIPTION:Turn your midweek slump into a vibe at Persona SF! Every Wednesday at 8 PM\, the Magic School Busk brings an electrifying fusion of Funk\, Soul\, Latin\, Afro\, and more to keep the energy high all night long. \nLet the rhythm elevate your evening as this dynamic collective delivers a genre-blending experience that’s impossible to ignore. Whether you’re sipping on our signature cocktails or simply soaking in the sounds\, Wednesdays at Persona are your new weekly ritual.
URL:https://northbeachlive.com/event/magic-school-busk-4/2026-12-23/
LOCATION:Persona\, 685 Sutter St\, San Francisco\, CA\, 94102\, United States
CATEGORIES:Live Music
ATTACH;FMTTYPE=image/png:https://northbeachlive.com/wp-content/uploads/2026/01/IMG_0154.png
END:VEVENT
BEGIN:VEVENT
DTSTART;TZID=America/Los_Angeles:20261230T200000
DTEND;TZID=America/Los_Angeles:20261230T230000
DTSTAMP:20260421T222012
CREATED:20260111T220525Z
LAST-MODIFIED:20260128T183204Z
UID:10012424-1798660800-1798671600@northbeachlive.com
SUMMARY:Magic School Busk
DESCRIPTION:Turn your midweek slump into a vibe at Persona SF! Every Wednesday at 8 PM\, the Magic School Busk brings an electrifying fusion of Funk\, Soul\, Latin\, Afro\, and more to keep the energy high all night long. \nLet the rhythm elevate your evening as this dynamic collective delivers a genre-blending experience that’s impossible to ignore. Whether you’re sipping on our signature cocktails or simply soaking in the sounds\, Wednesdays at Persona are your new weekly ritual.
URL:https://northbeachlive.com/event/magic-school-busk-4/2026-12-30/
LOCATION:Persona\, 685 Sutter St\, San Francisco\, CA\, 94102\, United States
CATEGORIES:Live Music
ATTACH;FMTTYPE=image/png:https://northbeachlive.com/wp-content/uploads/2026/01/IMG_0154.png
END:VEVENT
BEGIN:VEVENT
DTSTART;TZID=America/Los_Angeles:20270106T200000
DTEND;TZID=America/Los_Angeles:20270106T230000
DTSTAMP:20260421T222012
CREATED:20260111T220525Z
LAST-MODIFIED:20260128T183204Z
UID:10012425-1799265600-1799276400@northbeachlive.com
SUMMARY:Magic School Busk
DESCRIPTION:Turn your midweek slump into a vibe at Persona SF! Every Wednesday at 8 PM\, the Magic School Busk brings an electrifying fusion of Funk\, Soul\, Latin\, Afro\, and more to keep the energy high all night long. \nLet the rhythm elevate your evening as this dynamic collective delivers a genre-blending experience that’s impossible to ignore. Whether you’re sipping on our signature cocktails or simply soaking in the sounds\, Wednesdays at Persona are your new weekly ritual.
URL:https://northbeachlive.com/event/magic-school-busk-4/2027-01-06/
LOCATION:Persona\, 685 Sutter St\, San Francisco\, CA\, 94102\, United States
CATEGORIES:Live Music
ATTACH;FMTTYPE=image/png:https://northbeachlive.com/wp-content/uploads/2026/01/IMG_0154.png
END:VEVENT
END:VCALENDAR