BEGIN:VCALENDAR
VERSION:2.0
PRODID:-//North Beach Live - ECPv6.15.20//NONSGML v1.0//EN
CALSCALE:GREGORIAN
METHOD:PUBLISH
X-WR-CALNAME:North Beach Live
X-ORIGINAL-URL:https://northbeachlive.com
X-WR-CALDESC:Events for North Beach Live
REFRESH-INTERVAL;VALUE=DURATION:PT1H
X-Robots-Tag:noindex
X-PUBLISHED-TTL:PT1H
BEGIN:VTIMEZONE
TZID:America/Los_Angeles
BEGIN:DAYLIGHT
TZOFFSETFROM:-0800
TZOFFSETTO:-0700
TZNAME:PDT
DTSTART:20250309T100000
END:DAYLIGHT
BEGIN:STANDARD
TZOFFSETFROM:-0700
TZOFFSETTO:-0800
TZNAME:PST
DTSTART:20251102T090000
END:STANDARD
BEGIN:DAYLIGHT
TZOFFSETFROM:-0800
TZOFFSETTO:-0700
TZNAME:PDT
DTSTART:20260308T100000
END:DAYLIGHT
BEGIN:STANDARD
TZOFFSETFROM:-0700
TZOFFSETTO:-0800
TZNAME:PST
DTSTART:20261101T090000
END:STANDARD
BEGIN:DAYLIGHT
TZOFFSETFROM:-0800
TZOFFSETTO:-0700
TZNAME:PDT
DTSTART:20270314T100000
END:DAYLIGHT
BEGIN:STANDARD
TZOFFSETFROM:-0700
TZOFFSETTO:-0800
TZNAME:PST
DTSTART:20271107T090000
END:STANDARD
END:VTIMEZONE
BEGIN:VEVENT
DTSTART;TZID=America/Los_Angeles:20260420T180000
DTEND;TZID=America/Los_Angeles:20260420T210000
DTSTAMP:20260425T064306
CREATED:20251015T000545Z
LAST-MODIFIED:20260210T004558Z
UID:10011779-1776708000-1776718800@northbeachlive.com
SUMMARY:Flavio Souza
DESCRIPTION:Flavio Souza performs weekly on Mondays at Etcetera Wine bar. \nBorn in São Paulo\, Brazil\, Flavio started music at 14 years old. His main influences were great musicians such as Chick Corea\, Bill Evans\, Oscar Peterson\, Jimmy Smith\, Joey DeFrancesco\, Joe Satriani\, Sandro Haick and others. \nHe is the owner of Studio Plano 7\, which he founded in 2002 and has continued to record and produce various artists such as: Anderson Dantas\, Célia Soul\, PG\, Samuel Barbosa\, Félix Silva\, Jessik\, Samuel Dativo\, The Bridge Music\, Rafhael Peres\, Banda Patmus and others.
URL:https://northbeachlive.com/event/flavio-souza/2026-04-20/
LOCATION:Etcetera Wine Bar\, 795 Valencia St\, San Francisco\, CA\, 94110\, United States
CATEGORIES:Live Music
ATTACH;FMTTYPE=image/jpeg:https://northbeachlive.com/wp-content/uploads/2025/10/IMG_0149.jpeg
END:VEVENT
END:VCALENDAR