BEGIN:VCALENDAR
VERSION:2.0
PRODID:-//North Beach Live - ECPv6.15.20//NONSGML v1.0//EN
CALSCALE:GREGORIAN
METHOD:PUBLISH
X-ORIGINAL-URL:https://northbeachlive.com
X-WR-CALDESC:Events for North Beach Live
REFRESH-INTERVAL;VALUE=DURATION:PT1H
X-Robots-Tag:noindex
X-PUBLISHED-TTL:PT1H
BEGIN:VTIMEZONE
TZID:America/Los_Angeles
BEGIN:DAYLIGHT
TZOFFSETFROM:-0800
TZOFFSETTO:-0700
TZNAME:PDT
DTSTART:20250309T100000
END:DAYLIGHT
BEGIN:STANDARD
TZOFFSETFROM:-0700
TZOFFSETTO:-0800
TZNAME:PST
DTSTART:20251102T090000
END:STANDARD
BEGIN:DAYLIGHT
TZOFFSETFROM:-0800
TZOFFSETTO:-0700
TZNAME:PDT
DTSTART:20260308T100000
END:DAYLIGHT
BEGIN:STANDARD
TZOFFSETFROM:-0700
TZOFFSETTO:-0800
TZNAME:PST
DTSTART:20261101T090000
END:STANDARD
BEGIN:DAYLIGHT
TZOFFSETFROM:-0800
TZOFFSETTO:-0700
TZNAME:PDT
DTSTART:20270314T100000
END:DAYLIGHT
BEGIN:STANDARD
TZOFFSETFROM:-0700
TZOFFSETTO:-0800
TZNAME:PST
DTSTART:20271107T090000
END:STANDARD
END:VTIMEZONE
BEGIN:VEVENT
DTSTART;TZID=America/Los_Angeles:20260422T163000
DTEND;TZID=America/Los_Angeles:20260422T203000
DTSTAMP:20260423T031348
CREATED:20251101T203507Z
LAST-MODIFIED:20260310T233356Z
UID:10009553-1776875400-1776889800@northbeachlive.com
SUMMARY:Jose Simioni Trio
DESCRIPTION:Jose Simioni Trio’s improvisational jazz performance at The Saloon from 4:30pm to 6:30pm with Dylan Garrison on drums and Tony Stead on the organ.
URL:https://northbeachlive.com/event/jose-simioni-trio/2026-04-22/
LOCATION:The Saloon\, 1232 Grant Ave\, San Francisco\, CA\, 94133\, United States
CATEGORIES:Live Music
ATTACH;FMTTYPE=image/jpeg:https://northbeachlive.com/wp-content/uploads/2025/12/IMG_7831.jpeg
GEO:37.79849;-122.407149
X-APPLE-STRUCTURED-LOCATION;VALUE=URI;X-ADDRESS=The Saloon 1232 Grant Ave San Francisco CA 94133 United States;X-APPLE-RADIUS=500;X-TITLE=1232 Grant Ave:geo:-122.407149,37.79849
END:VEVENT
BEGIN:VEVENT
DTSTART;TZID=America/Los_Angeles:20260422T183000
DTEND;TZID=America/Los_Angeles:20260422T213000
DTSTAMP:20260423T031348
CREATED:20260321T204227Z
LAST-MODIFIED:20260324T234758Z
UID:10015301-1776882600-1776893400@northbeachlive.com
SUMMARY:Jr. De Ville
DESCRIPTION:Jr. De Ville is a seasoned blues guitarist and vocalist known for his electrifying live performances and deep Southern sound. He has shared stages with blues legends including Chris Cain\, Joe Louis Walker\, and Daniel Castro\, earning a reputation as a powerful festival and club performer. Since releasing his debut album Just a Blues Cat\, his music has been featured on the House of Blues Radio Hour\, and he continues to captivate audiences while working on new music in the studio.
URL:https://northbeachlive.com/event/jr-de-ville/
LOCATION:Biscuits & Blues\, 401 Mason Street\, San Francisco\, CA\, 94102\, United States
CATEGORIES:Live Music
ATTACH;FMTTYPE=image/jpeg:https://northbeachlive.com/wp-content/uploads/2026/03/fdefb9ae3e5e1ca7480f7fd49541065b.jpg
END:VEVENT
BEGIN:VEVENT
DTSTART;TZID=America/Los_Angeles:20260422T213000
DTEND;TZID=America/Los_Angeles:20260423T013000
DTSTAMP:20260423T031348
CREATED:20260102T211155Z
LAST-MODIFIED:20260403T204335Z
UID:10015910-1776893400-1776907800@northbeachlive.com
SUMMARY:Jesse Cobb
DESCRIPTION:Experience an evening of high-energy electric blues and rock with Jesse Cobb at one of San Francisco’s most iconic historic venues. \nJesse Cobb is a premier electric guitarist based in San Francisco\, recognized for his intricate Telecaster work and creative\, genre-bending arrangements. Performing with his band\, The Golden West\, Cobb delivers a unique “rock n soul stew” that weaves together jazz-funk\, soulful rock\, and the improvisational spirit of western swing. His music draws deeply from the soulful explorations of artists like Prince and the sophisticated sounds of Steely Dan\, all while maintaining the grit and swagger of a classic bar-band performance. \nAs a longtime resident performer at The Saloon\, Cobb has become a fixture of the North Beach music scene. His sets are known for being fiercely original and rhythmically driving\, making them a favorite for both dedicated guitar enthusiasts and those looking for a lively night of dancing in an authentic neighborhood setting.
URL:https://northbeachlive.com/event/jesse-cobb/2026-04-22/
LOCATION:The Saloon\, 1232 Grant Ave\, San Francisco\, CA\, 94133\, United States
CATEGORIES:Live Music
ATTACH;FMTTYPE=image/webp:https://northbeachlive.com/wp-content/uploads/2026/01/IMG_0167.webp
GEO:37.79849;-122.407149
X-APPLE-STRUCTURED-LOCATION;VALUE=URI;X-ADDRESS=The Saloon 1232 Grant Ave San Francisco CA 94133 United States;X-APPLE-RADIUS=500;X-TITLE=1232 Grant Ave:geo:-122.407149,37.79849
END:VEVENT
END:VCALENDAR