BEGIN:VCALENDAR
VERSION:2.0
PRODID:-//North Beach Live - ECPv6.15.20//NONSGML v1.0//EN
CALSCALE:GREGORIAN
METHOD:PUBLISH
X-WR-CALNAME:North Beach Live
X-ORIGINAL-URL:https://northbeachlive.com
X-WR-CALDESC:Events for North Beach Live
REFRESH-INTERVAL;VALUE=DURATION:PT1H
X-Robots-Tag:noindex
X-PUBLISHED-TTL:PT1H
BEGIN:VTIMEZONE
TZID:America/Los_Angeles
BEGIN:DAYLIGHT
TZOFFSETFROM:-0800
TZOFFSETTO:-0700
TZNAME:PDT
DTSTART:20250309T100000
END:DAYLIGHT
BEGIN:STANDARD
TZOFFSETFROM:-0700
TZOFFSETTO:-0800
TZNAME:PST
DTSTART:20251102T090000
END:STANDARD
BEGIN:DAYLIGHT
TZOFFSETFROM:-0800
TZOFFSETTO:-0700
TZNAME:PDT
DTSTART:20260308T100000
END:DAYLIGHT
BEGIN:STANDARD
TZOFFSETFROM:-0700
TZOFFSETTO:-0800
TZNAME:PST
DTSTART:20261101T090000
END:STANDARD
BEGIN:DAYLIGHT
TZOFFSETFROM:-0800
TZOFFSETTO:-0700
TZNAME:PDT
DTSTART:20270314T100000
END:DAYLIGHT
BEGIN:STANDARD
TZOFFSETFROM:-0700
TZOFFSETTO:-0800
TZNAME:PST
DTSTART:20271107T090000
END:STANDARD
END:VTIMEZONE
BEGIN:VEVENT
DTSTART;TZID=America/Los_Angeles:20260423T160000
DTEND;TZID=America/Los_Angeles:20260423T200000
DTSTAMP:20260423T001222
CREATED:20251101T201052Z
LAST-MODIFIED:20260403T204432Z
UID:10015911-1776960000-1776974400@northbeachlive.com
SUMMARY:3rd Thursday Band
DESCRIPTION:The 3rd Thursday Band is a San Francisco-based blues and rock group known for lively performances at The Saloon. Led by Mike Dingle on guitar and vocals\, with Mike McKevit on lead guitar and vocals\, they deliver classic rock and blues covers alongside original tunes\, energizing audiences with their tight\, soulful sound. \nMark Yee – Sax/Keyboard\nMike McKevitt – Lead Guitar\nMike Dingle – Rhythm Guitar/Vocals\nBruce Slesinger – Drums\nBruce Ducheneaux – Bass
URL:https://northbeachlive.com/event/3rd-thursday-band-7/2026-04-23/
LOCATION:The Saloon\, 1232 Grant Ave\, San Francisco\, CA\, 94133\, United States
CATEGORIES:Live Music
ATTACH;FMTTYPE=image/jpeg:https://northbeachlive.com/wp-content/uploads/2025/11/IMG_0345-e1772137538947.jpeg
GEO:37.79849;-122.407149
X-APPLE-STRUCTURED-LOCATION;VALUE=URI;X-ADDRESS=The Saloon 1232 Grant Ave San Francisco CA 94133 United States;X-APPLE-RADIUS=500;X-TITLE=1232 Grant Ave:geo:-122.407149,37.79849
END:VEVENT
BEGIN:VEVENT
DTSTART;TZID=America/Los_Angeles:20260423T213000
DTEND;TZID=America/Los_Angeles:20260424T013000
DTSTAMP:20260423T001222
CREATED:20260115T080835Z
LAST-MODIFIED:20260403T204509Z
UID:10015912-1776979800-1776994200@northbeachlive.com
SUMMARY:Saxy Susan
DESCRIPTION:Saxy Susan\, aka Susan Copperman\, is a multi-talented musician from San Francisco known for playing saxophone\, keyboards\, and dancing with the Poyntlyss Sistars Rockin’ Show Band. She began playing sax at age 9 and combines classical training with vibrant live performances\, often playing at The Saloon and other local venues.Her style reflects a mix of classic rock and rhythm and blues influences infused with a fun\, soulful vibe.​
URL:https://northbeachlive.com/event/saxy-susan/2026-04-23/
LOCATION:The Saloon\, 1232 Grant Ave\, San Francisco\, CA\, 94133\, United States
CATEGORIES:Live Music
ATTACH;FMTTYPE=image/jpeg:https://northbeachlive.com/wp-content/uploads/2025/11/IMG_0106.jpeg
GEO:37.79849;-122.407149
X-APPLE-STRUCTURED-LOCATION;VALUE=URI;X-ADDRESS=The Saloon 1232 Grant Ave San Francisco CA 94133 United States;X-APPLE-RADIUS=500;X-TITLE=1232 Grant Ave:geo:-122.407149,37.79849
END:VEVENT
END:VCALENDAR