BEGIN:VCALENDAR
VERSION:2.0
PRODID:-//North Beach Live - ECPv6.15.20//NONSGML v1.0//EN
CALSCALE:GREGORIAN
METHOD:PUBLISH
X-ORIGINAL-URL:https://northbeachlive.com
X-WR-CALDESC:Events for North Beach Live
REFRESH-INTERVAL;VALUE=DURATION:PT1H
X-Robots-Tag:noindex
X-PUBLISHED-TTL:PT1H
BEGIN:VTIMEZONE
TZID:America/Los_Angeles
BEGIN:DAYLIGHT
TZOFFSETFROM:-0800
TZOFFSETTO:-0700
TZNAME:PDT
DTSTART:20250309T100000
END:DAYLIGHT
BEGIN:STANDARD
TZOFFSETFROM:-0700
TZOFFSETTO:-0800
TZNAME:PST
DTSTART:20251102T090000
END:STANDARD
BEGIN:DAYLIGHT
TZOFFSETFROM:-0800
TZOFFSETTO:-0700
TZNAME:PDT
DTSTART:20260308T100000
END:DAYLIGHT
BEGIN:STANDARD
TZOFFSETFROM:-0700
TZOFFSETTO:-0800
TZNAME:PST
DTSTART:20261101T090000
END:STANDARD
BEGIN:DAYLIGHT
TZOFFSETFROM:-0800
TZOFFSETTO:-0700
TZNAME:PDT
DTSTART:20270314T100000
END:DAYLIGHT
BEGIN:STANDARD
TZOFFSETFROM:-0700
TZOFFSETTO:-0800
TZNAME:PST
DTSTART:20271107T090000
END:STANDARD
END:VTIMEZONE
BEGIN:VEVENT
DTSTART;TZID=America/Los_Angeles:20260424T160000
DTEND;TZID=America/Los_Angeles:20260424T200000
DTSTAMP:20260423T031356
CREATED:20251101T201439Z
LAST-MODIFIED:20260403T204551Z
UID:10015913-1777046400-1777060800@northbeachlive.com
SUMMARY:David M’Ore
DESCRIPTION:David M’Ore is a high-energy blues-rock guitarist and vocalist based in the San Francisco Bay Area\, known for his virtuosic guitar style\, raspy vocals\, and explosive performances. Born in Argentina\, he blends traditional blues with British neoclassical hard rock influences. His acclaimed album “Holy Sinners & Sinful Saints” showcases his instrumental mastery and passionate sound.
URL:https://northbeachlive.com/event/david-more-7/2026-04-24/
LOCATION:The Saloon\, 1232 Grant Ave\, San Francisco\, CA\, 94133\, United States
CATEGORIES:Live Music
ATTACH;FMTTYPE=image/jpeg:https://northbeachlive.com/wp-content/uploads/2025/11/IMG_0108.jpeg
GEO:37.79849;-122.407149
X-APPLE-STRUCTURED-LOCATION;VALUE=URI;X-ADDRESS=The Saloon 1232 Grant Ave San Francisco CA 94133 United States;X-APPLE-RADIUS=500;X-TITLE=1232 Grant Ave:geo:-122.407149,37.79849
END:VEVENT
BEGIN:VEVENT
DTSTART;TZID=America/Los_Angeles:20260424T183000
DTEND;TZID=America/Los_Angeles:20260424T200000
DTSTAMP:20260423T031356
CREATED:20260307T003144Z
LAST-MODIFIED:20260324T234851Z
UID:10015072-1777055400-1777060800@northbeachlive.com
SUMMARY:Tia Carroll
DESCRIPTION:Tia Carroll’s concert is a soul-stirring journey through blues and gospel-infused soul music\, fueled by her powerful vocals and magnetic stage presence. With a career steeped in the traditions of rhythm and blues\, Carroll effortlessly commands the stage\, delivering heartfelt performances that resonate with authenticity and passion. Her versatile voice moves seamlessly from gritty\, soulful ballads to upbeat\, energetic tunes\, captivating audiences with every note. Backed by a band of seasoned musicians\, Tia Carroll creates an unforgettable live experience that honors the roots of soul music while showcasing her own distinctive style and charisma.
URL:https://northbeachlive.com/event/tia-carroll-4/
LOCATION:Biscuits & Blues\, 401 Mason Street\, San Francisco\, CA\, 94102\, United States
CATEGORIES:Live Music
ATTACH;FMTTYPE=image/jpeg:https://northbeachlive.com/wp-content/uploads/2026/03/b76069b4be9a633cd28d90796ce1cd78.jpg
END:VEVENT
BEGIN:VEVENT
DTSTART;TZID=America/Los_Angeles:20260424T193000
DTEND;TZID=America/Los_Angeles:20260424T223000
DTSTAMP:20260423T031356
CREATED:20260115T230042Z
LAST-MODIFIED:20260402T004508Z
UID:10015863-1777059000-1777069800@northbeachlive.com
SUMMARY:Barbara Gainer
DESCRIPTION:Experience a masterclass in American roots music as the incomparable Barbara Gainer takes the stage at Sheba Piano Lounge. A beloved figure in the San Francisco creative community\, Gainer is known for a voice that is as rich and expressive as the history of the neighborhood itself. Her performances offer a smooth\, soulful journey through the heart of classic jazz and “down-home” blues\, making her a perennial favorite for Saturday night listeners. \nThe Sound: Barbara Gainer specializes in sophisticated Blues and Jazz. Her repertoire is a curated mix of powerful blues numbers and timeless jazz standards\, delivered with a conviction that only comes from a lifetime of musical immersion. Expect heartfelt storytelling and a vocal style that is both commanding and intimately warm. \nThe “KPOO” Connection: Beyond the stage\, Gainer is a well-known voice on San Francisco’s airwaves as a long-time DJ for KPOO 89.5 FM. Her deep knowledge of “Grown Folks Music” shines through in her live sets\, where she treats every song with the reverence of a true musical connoisseur. \nEvening Elegance: Nestled in the amber-lit\, tropical warmth of Sheba\, Gainer’s performance provides the ultimate soundtrack for a sophisticated evening. With the lounge’s cozy fireplace and lush décor\, it is the perfect environment to experience the “soul-stirring” depth of her artistry. \nA Neighborhood Treasure: As a veteran of the Bay Area blues circuit\, Gainer’s residency at Sheba is a vital link to the Fillmore’s storied past. Her presence ensures that the authentic\, unvarnished spirit of San Francisco blues remains a living\, breathing part of the city’s nightlife. \n\nAbout Barbara Gainer\nBarbara Gainer is a multi-talented vocalist\, radio personality\, and cultural mainstay in San Francisco. From sharing stages with local blues legends to her influential work as a broadcaster\, she has spent decades championing the genres that define the African American musical experience. Known for her ability to inhabit a song\, Gainer remains a first-call vocalist for those seeking an authentic\, blues-infused jazz experience that is both intellectually engaging and emotionally resonant.
URL:https://northbeachlive.com/event/barbara-gainer-2/2026-04-24/
LOCATION:Sheba Piano Lounge\, 1419 Filmore St\, San Francisco\, CA\, 94115\, United States
CATEGORIES:Live Music
ATTACH;FMTTYPE=image/jpeg:https://northbeachlive.com/wp-content/uploads/2026/01/IMG_0337-e1773434614254.jpeg
END:VEVENT
BEGIN:VEVENT
DTSTART;TZID=America/Los_Angeles:20260424T210000
DTEND;TZID=America/Los_Angeles:20260424T223000
DTSTAMP:20260423T031356
CREATED:20260307T003145Z
LAST-MODIFIED:20260324T234947Z
UID:10015073-1777064400-1777069800@northbeachlive.com
SUMMARY:Tia Carroll
DESCRIPTION:Tia Carroll’s concert is a soul-stirring journey through blues and gospel-infused soul music\, fueled by her powerful vocals and magnetic stage presence. With a career steeped in the traditions of rhythm and blues\, Carroll effortlessly commands the stage\, delivering heartfelt performances that resonate with authenticity and passion. Her versatile voice moves seamlessly from gritty\, soulful ballads to upbeat\, energetic tunes\, captivating audiences with every note. Backed by a band of seasoned musicians\, Tia Carroll creates an unforgettable live experience that honors the roots of soul music while showcasing her own distinctive style and charisma.
URL:https://northbeachlive.com/event/tia-carroll-5/
LOCATION:Biscuits & Blues\, 401 Mason Street\, San Francisco\, CA\, 94102\, United States
CATEGORIES:Live Music
ATTACH;FMTTYPE=image/jpeg:https://northbeachlive.com/wp-content/uploads/2026/03/b76069b4be9a633cd28d90796ce1cd78.jpg
END:VEVENT
BEGIN:VEVENT
DTSTART;TZID=America/Los_Angeles:20260424T213000
DTEND;TZID=America/Los_Angeles:20260425T013000
DTSTAMP:20260423T031356
CREATED:20251001T231544Z
LAST-MODIFIED:20260403T204634Z
UID:10015914-1777066200-1777080600@northbeachlive.com
SUMMARY:The Wolves
DESCRIPTION:The Wolves are a dynamic Chicago Blues band led by harmonica player and vocalist Matias Tasley. They are known for their electric shows featuring classics from Muddy Waters\, Little Walter\, and Junior Wells. \nTasley honed his craft in Chicago\, playing with legends like John Primer and James Wheeler\, absorbing authentic blues at Rosa’s Blues Lounge. The band features guitarist Steve Freund\, a seasoned player who has worked with many blues greats\, while the rhythm section includes Chicago native drummer Twist Turner and versatile bassist AJ Joyce. The Wolves deliver thrilling\, no-fluff blues at the Saloon.
URL:https://northbeachlive.com/event/the-wolves-3/2026-04-24/
LOCATION:The Saloon\, 1232 Grant Ave\, San Francisco\, CA\, 94133\, United States
CATEGORIES:Live Music
ATTACH;FMTTYPE=image/jpeg:https://northbeachlive.com/wp-content/uploads/2025/10/IMG_0222.jpeg
GEO:37.79849;-122.407149
X-APPLE-STRUCTURED-LOCATION;VALUE=URI;X-ADDRESS=The Saloon 1232 Grant Ave San Francisco CA 94133 United States;X-APPLE-RADIUS=500;X-TITLE=1232 Grant Ave:geo:-122.407149,37.79849
END:VEVENT
END:VCALENDAR