BEGIN:VCALENDAR
VERSION:2.0
PRODID:-//North Beach Live - ECPv6.15.20//NONSGML v1.0//EN
CALSCALE:GREGORIAN
METHOD:PUBLISH
X-ORIGINAL-URL:https://northbeachlive.com
X-WR-CALDESC:Events for North Beach Live
REFRESH-INTERVAL;VALUE=DURATION:PT1H
X-Robots-Tag:noindex
X-PUBLISHED-TTL:PT1H
BEGIN:VTIMEZONE
TZID:America/Los_Angeles
BEGIN:DAYLIGHT
TZOFFSETFROM:-0800
TZOFFSETTO:-0700
TZNAME:PDT
DTSTART:20250309T100000
END:DAYLIGHT
BEGIN:STANDARD
TZOFFSETFROM:-0700
TZOFFSETTO:-0800
TZNAME:PST
DTSTART:20251102T090000
END:STANDARD
BEGIN:DAYLIGHT
TZOFFSETFROM:-0800
TZOFFSETTO:-0700
TZNAME:PDT
DTSTART:20260308T100000
END:DAYLIGHT
BEGIN:STANDARD
TZOFFSETFROM:-0700
TZOFFSETTO:-0800
TZNAME:PST
DTSTART:20261101T090000
END:STANDARD
BEGIN:DAYLIGHT
TZOFFSETFROM:-0800
TZOFFSETTO:-0700
TZNAME:PDT
DTSTART:20270314T100000
END:DAYLIGHT
BEGIN:STANDARD
TZOFFSETFROM:-0700
TZOFFSETTO:-0800
TZNAME:PST
DTSTART:20271107T090000
END:STANDARD
END:VTIMEZONE
BEGIN:VEVENT
DTSTART;TZID=America/Los_Angeles:20260423T193000
DTEND;TZID=America/Los_Angeles:20260423T220000
DTSTAMP:20260423T024001
CREATED:20260106T025523Z
LAST-MODIFIED:20260420T212559Z
UID:10016846-1776972600-1776981600@northbeachlive.com
SUMMARY:Dennis Palmieri: Pop Piano Cabaret
DESCRIPTION:Dennis offers an evening of loungy renditions of memorable songs from decades past—come and relax with a tour of favorites you”re likely know all the words to! Favorites from the 70s\, 80s\, standards and original songs. \nHis first EP was recently released in early October 2025\, with original songs influenced by singer-songwriters of the 70s.
URL:https://northbeachlive.com/event/dennis-palmieri-pop-piano-cabaret/2026-04-23/
LOCATION:Stookey’s Blue Room\, 891 Bush St\, San Francisco\, CA\, 94108\, United States
CATEGORIES:Live Music
ATTACH;FMTTYPE=image/jpeg:https://northbeachlive.com/wp-content/uploads/2026/01/IMG_0153.jpeg
END:VEVENT
END:VCALENDAR