BEGIN:VCALENDAR
VERSION:2.0
PRODID:-//North Beach Live - ECPv6.15.20//NONSGML v1.0//EN
CALSCALE:GREGORIAN
METHOD:PUBLISH
X-WR-CALNAME:North Beach Live
X-ORIGINAL-URL:https://northbeachlive.com
X-WR-CALDESC:Events for North Beach Live
REFRESH-INTERVAL;VALUE=DURATION:PT1H
X-Robots-Tag:noindex
X-PUBLISHED-TTL:PT1H
BEGIN:VTIMEZONE
TZID:America/Los_Angeles
BEGIN:DAYLIGHT
TZOFFSETFROM:-0800
TZOFFSETTO:-0700
TZNAME:PDT
DTSTART:20250309T100000
END:DAYLIGHT
BEGIN:STANDARD
TZOFFSETFROM:-0700
TZOFFSETTO:-0800
TZNAME:PST
DTSTART:20251102T090000
END:STANDARD
BEGIN:DAYLIGHT
TZOFFSETFROM:-0800
TZOFFSETTO:-0700
TZNAME:PDT
DTSTART:20260308T100000
END:DAYLIGHT
BEGIN:STANDARD
TZOFFSETFROM:-0700
TZOFFSETTO:-0800
TZNAME:PST
DTSTART:20261101T090000
END:STANDARD
BEGIN:DAYLIGHT
TZOFFSETFROM:-0800
TZOFFSETTO:-0700
TZNAME:PDT
DTSTART:20270314T100000
END:DAYLIGHT
BEGIN:STANDARD
TZOFFSETFROM:-0700
TZOFFSETTO:-0800
TZNAME:PST
DTSTART:20271107T090000
END:STANDARD
END:VTIMEZONE
BEGIN:VEVENT
DTSTART;TZID=America/Los_Angeles:20260429T183000
DTEND;TZID=America/Los_Angeles:20260429T213000
DTSTAMP:20260423T072511
CREATED:20260321T204228Z
LAST-MODIFIED:20260324T235631Z
UID:10015302-1777487400-1777498200@northbeachlive.com
SUMMARY:Jonn Del Toro Richardson: Unplugged
DESCRIPTION:Jonn Del Toro Richardson grew up around Houston\, Texas\, and you can hear it in every note he sings and plays. You can hear the Latin music that is his birthright – his uncles\, aunts and grandparents played in touring mariachi bands\, and often got together to play on the back porch. You can also hear the influence of the country and R&B music that was played in his house\, and particularly the blues that drifted strongly over his grandparents’ backyard fence from the next neighborhood and took hold with Jonn to be the centerpiece of his musical identity.
URL:https://northbeachlive.com/event/jonn-del-toro-richardson-unplugged/
LOCATION:Biscuits & Blues\, 401 Mason Street\, San Francisco\, CA\, 94102\, United States
CATEGORIES:Live Music
ATTACH;FMTTYPE=image/jpeg:https://northbeachlive.com/wp-content/uploads/2026/03/48639c6967aa81457576cbe69cdbe4e9.jpg
END:VEVENT
END:VCALENDAR