BEGIN:VCALENDAR
VERSION:2.0
PRODID:-//North Beach Live - ECPv6.15.20//NONSGML v1.0//EN
CALSCALE:GREGORIAN
METHOD:PUBLISH
X-ORIGINAL-URL:https://northbeachlive.com
X-WR-CALDESC:Events for North Beach Live
REFRESH-INTERVAL;VALUE=DURATION:PT1H
X-Robots-Tag:noindex
X-PUBLISHED-TTL:PT1H
BEGIN:VTIMEZONE
TZID:America/Los_Angeles
BEGIN:DAYLIGHT
TZOFFSETFROM:-0800
TZOFFSETTO:-0700
TZNAME:PDT
DTSTART:20250309T100000
END:DAYLIGHT
BEGIN:STANDARD
TZOFFSETFROM:-0700
TZOFFSETTO:-0800
TZNAME:PST
DTSTART:20251102T090000
END:STANDARD
BEGIN:DAYLIGHT
TZOFFSETFROM:-0800
TZOFFSETTO:-0700
TZNAME:PDT
DTSTART:20260308T100000
END:DAYLIGHT
BEGIN:STANDARD
TZOFFSETFROM:-0700
TZOFFSETTO:-0800
TZNAME:PST
DTSTART:20261101T090000
END:STANDARD
BEGIN:DAYLIGHT
TZOFFSETFROM:-0800
TZOFFSETTO:-0700
TZNAME:PDT
DTSTART:20270314T100000
END:DAYLIGHT
BEGIN:STANDARD
TZOFFSETFROM:-0700
TZOFFSETTO:-0800
TZNAME:PST
DTSTART:20271107T090000
END:STANDARD
END:VTIMEZONE
BEGIN:VEVENT
DTSTART;TZID=America/Los_Angeles:20260421T213000
DTEND;TZID=America/Los_Angeles:20260422T013000
DTSTAMP:20260422T002218
CREATED:20251205T021950Z
LAST-MODIFIED:20260403T015704Z
UID:10015880-1776807000-1776821400@northbeachlive.com
SUMMARY:Lisa Kindred Band
DESCRIPTION:Lisa Kindred is a renowned blues\, folk\, and rock singer based in Mill Valley\, California\, widely admired for her soulful voice and deep connection to blues music. She grew up in Buffalo\, New York\, and immersed herself in the Greenwich Village folk scene of the 1960s\, often sharing the stage with legends like Bob Dylan. Kindred released her debut album on Vanguard Records in 1965 and became a vital part of both New York and San Francisco’s music communities\, shaping the Bay Area’s blues scene with her dynamic presence. Throughout her career she has consistently received critical acclaim\, faced unique challenges—including the controversial release of an album under “The Lyman Family with Lisa Kindred”—and has maintained an enduring influence across multiple decades in American roots music. She continues to perform\, teach\, and record\, finding great joy in sharing her love of the blues with audiences.
URL:https://northbeachlive.com/event/lisa-kindred-band-2/2026-04-21/
LOCATION:The Saloon\, 1232 Grant Ave\, San Francisco\, CA\, 94133\, United States
CATEGORIES:Live Music
ATTACH;FMTTYPE=image/png:https://northbeachlive.com/wp-content/uploads/2025/12/IMG_0215.png
GEO:37.79849;-122.407149
X-APPLE-STRUCTURED-LOCATION;VALUE=URI;X-ADDRESS=The Saloon 1232 Grant Ave San Francisco CA 94133 United States;X-APPLE-RADIUS=500;X-TITLE=1232 Grant Ave:geo:-122.407149,37.79849
END:VEVENT
BEGIN:VEVENT
DTSTART;TZID=America/Los_Angeles:20260428T180000
DTEND;TZID=America/Los_Angeles:20260428T210000
DTSTAMP:20260422T002218
CREATED:20260307T010823Z
LAST-MODIFIED:20260406T232501Z
UID:10016185-1777399200-1777410000@northbeachlive.com
SUMMARY:Richmond Special
DESCRIPTION:Get ready for a chill night mixing smooth jazz vibes with some down-home country tunes featuring Joe Dileo and Travis Geyer on guitars. \nEnjoy Richmond Special playing some country\, swing\, jazz and blues while sipping on your wine at Etcetera in the Mission.
URL:https://northbeachlive.com/event/richmond-special-live/2026-04-28/
LOCATION:Etcetera Wine Bar\, 795 Valencia St\, San Francisco\, CA\, 94110\, United States
CATEGORIES:Live Music
ATTACH;FMTTYPE=image/jpeg:https://northbeachlive.com/wp-content/uploads/2026/03/IMG_0357.jpeg
END:VEVENT
BEGIN:VEVENT
DTSTART;TZID=America/Los_Angeles:20260503T193000
DTEND;TZID=America/Los_Angeles:20260503T223000
DTSTAMP:20260422T002218
CREATED:20260414T185352Z
LAST-MODIFIED:20260414T185352Z
UID:10016738-1777836600-1777847400@northbeachlive.com
SUMMARY:Nashville Honeymooon
DESCRIPTION:Nashville Honeymoon brings a high-energy blend of classic and contemporary country to the Riptide on May 3\, with tight harmonies\, twangy guitars\, and road-tested originals that feel instantly familiar yet freshly dialed-in for a West Coast crowd. Drawing on the storytelling tradition of Nashville and the grit of barroom honky-tonks\, they mix dance-floor-ready two-steppers with more reflective tunes about love\, loss\, and starting over\, all delivered with upbeat stage presence and a sing-along vibe.
URL:https://northbeachlive.com/event/nashville-honeymooon/
LOCATION:The Riptide\, 3636 Taraval St\, San Francisco\, CA\, 94116\, United States
CATEGORIES:Live Music
ATTACH;FMTTYPE=image/webp:https://northbeachlive.com/wp-content/uploads/2026/04/IMG_0509.webp
END:VEVENT
END:VCALENDAR