BEGIN:VCALENDAR
VERSION:2.0
PRODID:-//North Beach Live - ECPv6.15.20//NONSGML v1.0//EN
CALSCALE:GREGORIAN
METHOD:PUBLISH
X-WR-CALNAME:North Beach Live
X-ORIGINAL-URL:https://northbeachlive.com
X-WR-CALDESC:Events for North Beach Live
REFRESH-INTERVAL;VALUE=DURATION:PT1H
X-Robots-Tag:noindex
X-PUBLISHED-TTL:PT1H
BEGIN:VTIMEZONE
TZID:America/Los_Angeles
BEGIN:DAYLIGHT
TZOFFSETFROM:-0800
TZOFFSETTO:-0700
TZNAME:PDT
DTSTART:20250309T100000
END:DAYLIGHT
BEGIN:STANDARD
TZOFFSETFROM:-0700
TZOFFSETTO:-0800
TZNAME:PST
DTSTART:20251102T090000
END:STANDARD
BEGIN:DAYLIGHT
TZOFFSETFROM:-0800
TZOFFSETTO:-0700
TZNAME:PDT
DTSTART:20260308T100000
END:DAYLIGHT
BEGIN:STANDARD
TZOFFSETFROM:-0700
TZOFFSETTO:-0800
TZNAME:PST
DTSTART:20261101T090000
END:STANDARD
BEGIN:DAYLIGHT
TZOFFSETFROM:-0800
TZOFFSETTO:-0700
TZNAME:PDT
DTSTART:20270314T100000
END:DAYLIGHT
BEGIN:STANDARD
TZOFFSETFROM:-0700
TZOFFSETTO:-0800
TZNAME:PST
DTSTART:20271107T090000
END:STANDARD
END:VTIMEZONE
BEGIN:VEVENT
DTSTART;TZID=America/Los_Angeles:20260422T180000
DTEND;TZID=America/Los_Angeles:20260422T210000
DTSTAMP:20260421T124209
CREATED:20260226T025002Z
LAST-MODIFIED:20260226T025002Z
UID:10014363-1776880800-1776891600@northbeachlive.com
SUMMARY:Le Jazz Hot
DESCRIPTION:Looking for the perfect weekly escape? Join us at Scopo Divino as we welcome Le Jazz Hot\, playing live every week! \nLe Jazz Hot is comprised of members from the internationally renowned Hot Club of San Francisco. These musicians are masters of Gypsy Jazz\, a truly unique and joyful style pioneered by the legendary Django Reinhardt and Stéphane Grappelli’s Quintette du Hot Club de France. \nGet ready for an energetic performance featuring a lineup of violin\, bass\, and guitars\, all capturing that distinctive swing rhythm. You’ll hear a fantastic mix of Gypsy Jazz standards\, pop songs reimagined in that swinging style\, and original compositions. \nLed by guitarist and arranger Paul ‘Pazzo’ Mehling\, Le Jazz Hot delivers a sophisticated\, lively\, and truly authentic musical experience that has delighted audiences for years. \nGrab a seat\, order a great glass of wine\, and let this band transport you to the vintage jazz clubs of Paris! It’s the perfect way to make any weeknight feel like a special occasion.
URL:https://northbeachlive.com/event/le-jazz-hot-3-2/2026-04-22/
LOCATION:Scopo Divino\, 2800 California St #101\, San Francisco\, CA\, 94115\, United States
CATEGORIES:Live Music
ATTACH;FMTTYPE=image/webp:https://northbeachlive.com/wp-content/uploads/2025/10/IMG_0132.webp
END:VEVENT
BEGIN:VEVENT
DTSTART;TZID=America/Los_Angeles:20260429T180000
DTEND;TZID=America/Los_Angeles:20260429T210000
DTSTAMP:20260421T124209
CREATED:20260226T025002Z
LAST-MODIFIED:20260226T025002Z
UID:10014364-1777485600-1777496400@northbeachlive.com
SUMMARY:Le Jazz Hot
DESCRIPTION:Looking for the perfect weekly escape? Join us at Scopo Divino as we welcome Le Jazz Hot\, playing live every week! \nLe Jazz Hot is comprised of members from the internationally renowned Hot Club of San Francisco. These musicians are masters of Gypsy Jazz\, a truly unique and joyful style pioneered by the legendary Django Reinhardt and Stéphane Grappelli’s Quintette du Hot Club de France. \nGet ready for an energetic performance featuring a lineup of violin\, bass\, and guitars\, all capturing that distinctive swing rhythm. You’ll hear a fantastic mix of Gypsy Jazz standards\, pop songs reimagined in that swinging style\, and original compositions. \nLed by guitarist and arranger Paul ‘Pazzo’ Mehling\, Le Jazz Hot delivers a sophisticated\, lively\, and truly authentic musical experience that has delighted audiences for years. \nGrab a seat\, order a great glass of wine\, and let this band transport you to the vintage jazz clubs of Paris! It’s the perfect way to make any weeknight feel like a special occasion.
URL:https://northbeachlive.com/event/le-jazz-hot-3-2/2026-04-29/
LOCATION:Scopo Divino\, 2800 California St #101\, San Francisco\, CA\, 94115\, United States
CATEGORIES:Live Music
ATTACH;FMTTYPE=image/webp:https://northbeachlive.com/wp-content/uploads/2025/10/IMG_0132.webp
END:VEVENT
BEGIN:VEVENT
DTSTART;TZID=America/Los_Angeles:20260506T180000
DTEND;TZID=America/Los_Angeles:20260506T210000
DTSTAMP:20260421T124209
CREATED:20260226T025002Z
LAST-MODIFIED:20260226T025002Z
UID:10014365-1778090400-1778101200@northbeachlive.com
SUMMARY:Le Jazz Hot
DESCRIPTION:Looking for the perfect weekly escape? Join us at Scopo Divino as we welcome Le Jazz Hot\, playing live every week! \nLe Jazz Hot is comprised of members from the internationally renowned Hot Club of San Francisco. These musicians are masters of Gypsy Jazz\, a truly unique and joyful style pioneered by the legendary Django Reinhardt and Stéphane Grappelli’s Quintette du Hot Club de France. \nGet ready for an energetic performance featuring a lineup of violin\, bass\, and guitars\, all capturing that distinctive swing rhythm. You’ll hear a fantastic mix of Gypsy Jazz standards\, pop songs reimagined in that swinging style\, and original compositions. \nLed by guitarist and arranger Paul ‘Pazzo’ Mehling\, Le Jazz Hot delivers a sophisticated\, lively\, and truly authentic musical experience that has delighted audiences for years. \nGrab a seat\, order a great glass of wine\, and let this band transport you to the vintage jazz clubs of Paris! It’s the perfect way to make any weeknight feel like a special occasion.
URL:https://northbeachlive.com/event/le-jazz-hot-3-2/2026-05-06/
LOCATION:Scopo Divino\, 2800 California St #101\, San Francisco\, CA\, 94115\, United States
CATEGORIES:Live Music
ATTACH;FMTTYPE=image/webp:https://northbeachlive.com/wp-content/uploads/2025/10/IMG_0132.webp
END:VEVENT
BEGIN:VEVENT
DTSTART;TZID=America/Los_Angeles:20260513T180000
DTEND;TZID=America/Los_Angeles:20260513T210000
DTSTAMP:20260421T124209
CREATED:20260226T025002Z
LAST-MODIFIED:20260226T025002Z
UID:10014366-1778695200-1778706000@northbeachlive.com
SUMMARY:Le Jazz Hot
DESCRIPTION:Looking for the perfect weekly escape? Join us at Scopo Divino as we welcome Le Jazz Hot\, playing live every week! \nLe Jazz Hot is comprised of members from the internationally renowned Hot Club of San Francisco. These musicians are masters of Gypsy Jazz\, a truly unique and joyful style pioneered by the legendary Django Reinhardt and Stéphane Grappelli’s Quintette du Hot Club de France. \nGet ready for an energetic performance featuring a lineup of violin\, bass\, and guitars\, all capturing that distinctive swing rhythm. You’ll hear a fantastic mix of Gypsy Jazz standards\, pop songs reimagined in that swinging style\, and original compositions. \nLed by guitarist and arranger Paul ‘Pazzo’ Mehling\, Le Jazz Hot delivers a sophisticated\, lively\, and truly authentic musical experience that has delighted audiences for years. \nGrab a seat\, order a great glass of wine\, and let this band transport you to the vintage jazz clubs of Paris! It’s the perfect way to make any weeknight feel like a special occasion.
URL:https://northbeachlive.com/event/le-jazz-hot-3-2/2026-05-13/
LOCATION:Scopo Divino\, 2800 California St #101\, San Francisco\, CA\, 94115\, United States
CATEGORIES:Live Music
ATTACH;FMTTYPE=image/webp:https://northbeachlive.com/wp-content/uploads/2025/10/IMG_0132.webp
END:VEVENT
BEGIN:VEVENT
DTSTART;TZID=America/Los_Angeles:20260520T180000
DTEND;TZID=America/Los_Angeles:20260520T210000
DTSTAMP:20260421T124209
CREATED:20260226T025002Z
LAST-MODIFIED:20260226T025002Z
UID:10014367-1779300000-1779310800@northbeachlive.com
SUMMARY:Le Jazz Hot
DESCRIPTION:Looking for the perfect weekly escape? Join us at Scopo Divino as we welcome Le Jazz Hot\, playing live every week! \nLe Jazz Hot is comprised of members from the internationally renowned Hot Club of San Francisco. These musicians are masters of Gypsy Jazz\, a truly unique and joyful style pioneered by the legendary Django Reinhardt and Stéphane Grappelli’s Quintette du Hot Club de France. \nGet ready for an energetic performance featuring a lineup of violin\, bass\, and guitars\, all capturing that distinctive swing rhythm. You’ll hear a fantastic mix of Gypsy Jazz standards\, pop songs reimagined in that swinging style\, and original compositions. \nLed by guitarist and arranger Paul ‘Pazzo’ Mehling\, Le Jazz Hot delivers a sophisticated\, lively\, and truly authentic musical experience that has delighted audiences for years. \nGrab a seat\, order a great glass of wine\, and let this band transport you to the vintage jazz clubs of Paris! It’s the perfect way to make any weeknight feel like a special occasion.
URL:https://northbeachlive.com/event/le-jazz-hot-3-2/2026-05-20/
LOCATION:Scopo Divino\, 2800 California St #101\, San Francisco\, CA\, 94115\, United States
CATEGORIES:Live Music
ATTACH;FMTTYPE=image/webp:https://northbeachlive.com/wp-content/uploads/2025/10/IMG_0132.webp
END:VEVENT
BEGIN:VEVENT
DTSTART;TZID=America/Los_Angeles:20260527T180000
DTEND;TZID=America/Los_Angeles:20260527T210000
DTSTAMP:20260421T124209
CREATED:20260226T025002Z
LAST-MODIFIED:20260226T025002Z
UID:10014368-1779904800-1779915600@northbeachlive.com
SUMMARY:Le Jazz Hot
DESCRIPTION:Looking for the perfect weekly escape? Join us at Scopo Divino as we welcome Le Jazz Hot\, playing live every week! \nLe Jazz Hot is comprised of members from the internationally renowned Hot Club of San Francisco. These musicians are masters of Gypsy Jazz\, a truly unique and joyful style pioneered by the legendary Django Reinhardt and Stéphane Grappelli’s Quintette du Hot Club de France. \nGet ready for an energetic performance featuring a lineup of violin\, bass\, and guitars\, all capturing that distinctive swing rhythm. You’ll hear a fantastic mix of Gypsy Jazz standards\, pop songs reimagined in that swinging style\, and original compositions. \nLed by guitarist and arranger Paul ‘Pazzo’ Mehling\, Le Jazz Hot delivers a sophisticated\, lively\, and truly authentic musical experience that has delighted audiences for years. \nGrab a seat\, order a great glass of wine\, and let this band transport you to the vintage jazz clubs of Paris! It’s the perfect way to make any weeknight feel like a special occasion.
URL:https://northbeachlive.com/event/le-jazz-hot-3-2/2026-05-27/
LOCATION:Scopo Divino\, 2800 California St #101\, San Francisco\, CA\, 94115\, United States
CATEGORIES:Live Music
ATTACH;FMTTYPE=image/webp:https://northbeachlive.com/wp-content/uploads/2025/10/IMG_0132.webp
END:VEVENT
END:VCALENDAR