BEGIN:VCALENDAR
VERSION:2.0
PRODID:-//North Beach Live - ECPv6.15.20//NONSGML v1.0//EN
CALSCALE:GREGORIAN
METHOD:PUBLISH
X-WR-CALNAME:North Beach Live
X-ORIGINAL-URL:https://northbeachlive.com
X-WR-CALDESC:Events for North Beach Live
REFRESH-INTERVAL;VALUE=DURATION:PT1H
X-Robots-Tag:noindex
X-PUBLISHED-TTL:PT1H
BEGIN:VTIMEZONE
TZID:America/Los_Angeles
BEGIN:DAYLIGHT
TZOFFSETFROM:-0800
TZOFFSETTO:-0700
TZNAME:PDT
DTSTART:20250309T100000
END:DAYLIGHT
BEGIN:STANDARD
TZOFFSETFROM:-0700
TZOFFSETTO:-0800
TZNAME:PST
DTSTART:20251102T090000
END:STANDARD
BEGIN:DAYLIGHT
TZOFFSETFROM:-0800
TZOFFSETTO:-0700
TZNAME:PDT
DTSTART:20260308T100000
END:DAYLIGHT
BEGIN:STANDARD
TZOFFSETFROM:-0700
TZOFFSETTO:-0800
TZNAME:PST
DTSTART:20261101T090000
END:STANDARD
BEGIN:DAYLIGHT
TZOFFSETFROM:-0800
TZOFFSETTO:-0700
TZNAME:PDT
DTSTART:20270314T100000
END:DAYLIGHT
BEGIN:STANDARD
TZOFFSETFROM:-0700
TZOFFSETTO:-0800
TZNAME:PST
DTSTART:20271107T090000
END:STANDARD
END:VTIMEZONE
BEGIN:VEVENT
DTSTART;TZID=America/Los_Angeles:20260404T130000
DTEND;TZID=America/Los_Angeles:20260404T170000
DTSTAMP:20260420T235706
CREATED:20260208T214402Z
LAST-MODIFIED:20260208T214402Z
UID:10013933-1775307600-1775322000@northbeachlive.com
SUMMARY:Magic School Busk
DESCRIPTION:Experience the ultimate “living theater” of North Beach as The Magic School Busk takes up their weekly residency directly in front of The Red Window. Positioned at the vibrant\, sun-soaked corner of Stockton and Columbus\, this high-energy busking collective captures the spontaneous spirit of the neighborhood. \nThe performance is a masterclass in Street Swing and improvisational Jazz. Drawing from the “busking” tradition of New Orleans and the European “Hot Club” sound\, the ensemble specializes in acoustic music that is both technically brilliant and completely unpretentious. The line-up is fluid\, often featuring a “who’s who” of local instrumentalists who bring a “restless melodicism” to classic standards and upbeat\, toe-tapping originals. \nThe Magic School Busk is more than just a band; they are the neighborhood’s “resident joy-makers.” Because they perform on the street level\, the barrier between musician and audience disappears\, inviting passersby to stop\, dance\, and engage with the music in real-time. Whether you are enjoying a gin tonic on the Red Window’s outdoor patio or just walking by with a cannoli in hand\, the band provides an elite\, soulful soundtrack that defines the modern North Beach experience. \n\nAbout The Magic School Busk\nBorn from the city’s post-pandemic “street-side” revival\, The Magic School Busk is a collective of veteran Bay Area musicians dedicated to the art of public performance. They emphasize the “acoustic and the authentic\,” eschewing heavy amplification for the natural resonance of brass\, strings\, and woodwinds. Often featuring members from some of the city’s most popular jazz and swing outfits\, the “Busk” is celebrated for its ability to read a crowd and create a party out of thin air. They represent the best of San Francisco’s musical resilience—keeping the city’s culture loud\, proud\, and accessible to everyone on the street. \n 
URL:https://northbeachlive.com/event/magic-school-busk-5/2026-04-04/
LOCATION:Red Window\, 500 Columbus Ave\, San Francisco\, CA\, 94133\, United States
CATEGORIES:Live Music
ATTACH;FMTTYPE=image/png:https://northbeachlive.com/wp-content/uploads/2025/09/IMG_0241.png
GEO:37.79949;-122.409014
X-APPLE-STRUCTURED-LOCATION;VALUE=URI;X-ADDRESS=Red Window 500 Columbus Ave San Francisco CA 94133 United States;X-APPLE-RADIUS=500;X-TITLE=500 Columbus Ave:geo:-122.409014,37.79949
END:VEVENT
BEGIN:VEVENT
DTSTART;TZID=America/Los_Angeles:20260404T193000
DTEND;TZID=America/Los_Angeles:20260404T223000
DTSTAMP:20260420T235706
CREATED:20260115T225828Z
LAST-MODIFIED:20260402T004256Z
UID:10015859-1775331000-1775341800@northbeachlive.com
SUMMARY:Charles Unger Experience
DESCRIPTION:Get ready for an explosive night of music as the legendary Charles Unger Experience takes over Sheba Piano Lounge from 7:30 PM – 10:30 PM. Known for his infectious smile and high-energy stage presence\, saxophonist Charles Unger is a San Francisco institution. His “Experience” is more than just a jazz set—it’s a soulful\, funky\, and rhythmic journey that has anchored the Bay Area’s best jazz clubs for over four decades. \nThe Sound: Charles Unger is a master of the “groove\,” blending the lyrical\, hard-bop influences of John Coltrane and Miles Davis with R&B\, Funk\, and World Beat. Whether he’s wailing on an up-tempo funk number or playing a tender\, soulful ballad\, his music is designed to be accessible\, joyful\, and deeply rhythmic. \nThe “Experience”: Expect a night of high-fidelity improvisation and “take-it-to-the-top” energy. Unger is famous for his ability to connect with an audience\, often blending humor and spontaneous interaction with virtuosic saxophone solos on alto\, tenor\, and soprano sax. \nA Fillmore Legacy: A regular at Sheba for years\, Unger’s residency is a cornerstone of the lounge’s weekend programming. His band creates a vibrant\, “party-hideout” atmosphere that perfectly complements Sheba’s dim red lights and lush\, tropical décor. \nNo Cover Charge: This world-class performance is part of Sheba’s commitment to keeping live music accessible. It is the perfect Friday night destination for jazz aficionados and newcomers alike who want to experience a true local legend in action. \n\nAbout Charles Unger\nCharles Unger is an award-winning saxophonist\, composer\, and bandleader who has been an innovator in the San Francisco music scene since the 1970s. From his 20-year residency at Les Joulins Jazz Bistro to his pivotal role in making Mr. Tipple’s a jazz destination\, Unger has built a reputation as one of the hardest-working and most charismatic musicians in the city. His music is a “universal language” intended to break down barriers\, infusing classic jazz foundations with modern R&B and international rhythms to create a sound that is unmistakably his own.
URL:https://northbeachlive.com/event/charles-unger-experience-3/2026-04-04/
LOCATION:Sheba Piano Lounge\, 1419 Filmore St\, San Francisco\, CA\, 94115\, United States
CATEGORIES:Live Music
ATTACH;FMTTYPE=image/jpeg:https://northbeachlive.com/wp-content/uploads/2025/12/IMG_0151.jpeg
END:VEVENT
BEGIN:VEVENT
DTSTART;TZID=America/Los_Angeles:20260404T200000
DTEND;TZID=America/Los_Angeles:20260404T230000
DTSTAMP:20260420T235706
CREATED:20260228T193054Z
LAST-MODIFIED:20260413T174835Z
UID:10007865-1775332800-1775343600@northbeachlive.com
SUMMARY:Rotating Bands at the Lion’s Den
DESCRIPTION:Experience the resurgence of San Francisco’s historic Chinatown nightlife at the Lion’s Den.  Tucked away on Wentworth Place\, this bi-level lounge and performance space blends modern cocktail culture with the East meets West spirit of the Chinatown’s golden age. Every week\, the venue transforms into a unique destination for live music\, featuring a rotating roster of the city’s up and coming funk\, soul\, and R&B ensembles. \nThe Sound: From 8:00 PM to 11:00 PM\, the stage belongs to a curated selection of live bands. The rotation frequently features bands such as Mark Maiden\, Funky Sound Experience\, Jay Neal\, The Groove Foundation\, Baycoin Beats\, and Git With It. Whether it’s deep-pocket funk or smooth contemporary soul\, the music is designed to bridge the gap between a sophisticated lounge set and a packed dance floor. \nThe Atmosphere: The design features plush velvet banquettes\, historic photography\, and dim\, moody lighting. It is a space built for “adult” nightlife—where you can enjoy an Asian-inspired craft cocktail during the live set before the room transitions to a high-energy DJ vibe after 11:00 PM. \nThe Experience: The Lion’s Den is a rare “no cover” gem in the heart of the city\, offering world-class musicianship in an intimate\, stylish setting. It is a place to rediscover the “cool” of Chinatown while supporting the next generation of San Francisco’s musical talent. \n\nA Legacy Reclaimed\nThe Lion’s Den occupies a legendary footprint in San Francisco history. In the 1940s and 50s\, Chinatown was a global nightlife epicenter\, home to iconic clubs like the Forbidden City. The current venue at 57 Wentworth Place was once the site of Dragon A Go Go\, a 1960s hotspot that kept the neighborhood buzzing during the height of the San Francisco counterculture. After decades of relative quiet due to changing zoning laws\, the reopening of The Lion’s Den in 2021 marked the first new nightclub to open in Chinatown in nearly 40 years. Today\, it stands as a cultural bridge\, honoring the glamour of the “Harlem of the West” era while providing a vital modern stage for Asian-American artists and the local creative community.
URL:https://northbeachlive.com/event/live-music-at-the-lions-den-2-2/2026-04-04/
LOCATION:Lion’s Den\, 57 Wentworth Pl\, San Francisco\, CA\, 94108\, United States
CATEGORIES:Live Music
ATTACH;FMTTYPE=image/webp:https://northbeachlive.com/wp-content/uploads/2025/10/IMG_0350.webp
END:VEVENT
BEGIN:VEVENT
DTSTART;TZID=America/Los_Angeles:20260404T210000
DTEND;TZID=America/Los_Angeles:20260404T220000
DTSTAMP:20260420T235706
CREATED:20260403T023550Z
LAST-MODIFIED:20260403T023550Z
UID:10015819-1775336400-1775340000@northbeachlive.com
SUMMARY:Electric Levitation Quintet
DESCRIPTION:Led by Oakland- and NYC-based saxophonist\, pianist\, and EWI player Jesse Levit\, Electric Levitation dives into jazz\, funk\, and soul with a modern edge. The group reimagines the music of Miles Davis\, Roy Hargrove\, Herbie Hancock\, Thelonious Monk\, and more\, while also weaving in a few of Jesse’s originals. Come hang and hear where the music takes them. \nJesse Levit | Sax & FX\, EWI\nAdam Shulman | Keys & Synth\nBrian Sheu | Guitar & FX\nGary Brown | Electric Bass\nShawn Myers | Drum Set
URL:https://northbeachlive.com/event/electric-levitation-quintet/2026-04-04/1/
LOCATION:Mr. Tipples\, 39 Fell St\, San Francisco\, CA\, 94102\, United States
CATEGORIES:Live Music
ATTACH;FMTTYPE=image/jpeg:https://northbeachlive.com/wp-content/uploads/2026/03/Jesse-Levit.jpg
GEO:37.776449;-122.418193
X-APPLE-STRUCTURED-LOCATION;VALUE=URI;X-ADDRESS=Mr. Tipples 39 Fell St San Francisco CA 94102 United States;X-APPLE-RADIUS=500;X-TITLE=39 Fell St:geo:-122.418193,37.776449
END:VEVENT
BEGIN:VEVENT
DTSTART;TZID=America/Los_Angeles:20260404T210000
DTEND;TZID=America/Los_Angeles:20260405T021500
DTSTAMP:20260420T235706
CREATED:20260324T225023Z
LAST-MODIFIED:20260325T162000Z
UID:10015362-1775336400-1775355300@northbeachlive.com
SUMMARY:THE HUMIDORS and DIRTY CELLO
DESCRIPTION:THE HUMIDORS \n(11:40PM ’til  2:15AM+) \nHailing from Oakland\, California\, The Humidors have been churning out their own unique brand of party music for over a decade. Combining elements of hard-hitting funk\, greasy soul\, vintage R&B\, soul jazz\, and more you can be sure that this eight-piece unit is committed to the groove in all its shapes and forms.\nConsisting of some of the best Bay Area musicians and led by the heartfelt lead vocals of Tori Roze\, The Humidors have established themselves over their tenure as one of the West Coast’s premier funk & soul bands and are committed to spreading the Gospel of Funk to dance floors everywhere. Having shared the stage with acts such as Dumpstaphunk\, The New Mastersounds\, The Meters’ Leo Nocentelli\, Shuggie Otis\, and the late\, great Bernie Worrell\, The Humidors are in their element on stage. Bursts and washes of B3\, punchy horns\, chugging percussion\, thumping bass\, and burning guitar leads all interweave in an infectious polyrhythmic stew. \nThis band of troubadours has developed a sound that pulls from a melting pot of old-school and modern influences\, yet is always rooted in a commitment to ego-less playing that embraces the ensemble approach to funk. \nThe Humidors are Justin Abee (percussion)\, Patrick Cress (Baritone Sax)\, Rudo Kinard (bass)\, Mike Mulqueen (guitar/vocals)\, Scott Okamoto (Trombone)\, Tori Roze (lead vocals) Stevie Utstein (keyboards/organ)\, and Adam Willis (drums). \n  \nDIRTY CELLO \n(9:20PM ’til 11:15PM) \nDirty Cello – cello like you’ve never heard before! Combine the virtuosic wail of Jimi Hendrix\, the soul of BB King\, and the fire of Bill Monroe\, and add a whole lot of cello\, and you get the Dirty Cello band. With wild vocals\, and world class cello playing\, the group is led by vivacious cross-over cellist\, Rebecca Roudman. \nDirty Cello performs all over the world\, from Iceland to Israel\, from Scottish castles to underground caves presenting an energetic and wild show that’s been described as\, \n“Dirty Cello’s music is all over the map: funky\, carnival\, romantic\, sexy\, tangled\, electric\, fiercely rhythmic\, and textured\, and only occasionally classical.” by Oakland Magazine.
URL:https://northbeachlive.com/event/the-humidors-and-dirty-cello/
LOCATION:Boom Boom Room\, 1601 Filmore St\, San Francisco\, CA\, 94115\, United States
CATEGORIES:Live Music
ATTACH;FMTTYPE=image/png:https://northbeachlive.com/wp-content/uploads/2026/03/IMG_0449.png
END:VEVENT
BEGIN:VEVENT
DTSTART;TZID=America/Los_Angeles:20260404T223000
DTEND;TZID=America/Los_Angeles:20260404T233000
DTSTAMP:20260420T235706
CREATED:20260403T023550Z
LAST-MODIFIED:20260403T023550Z
UID:10015820-1775341800-1775345400@northbeachlive.com
SUMMARY:Electric Levitation Quintet
DESCRIPTION:Led by Oakland- and NYC-based saxophonist\, pianist\, and EWI player Jesse Levit\, Electric Levitation dives into jazz\, funk\, and soul with a modern edge. The group reimagines the music of Miles Davis\, Roy Hargrove\, Herbie Hancock\, Thelonious Monk\, and more\, while also weaving in a few of Jesse’s originals. Come hang and hear where the music takes them. \nJesse Levit | Sax & FX\, EWI\nAdam Shulman | Keys & Synth\nBrian Sheu | Guitar & FX\nGary Brown | Electric Bass\nShawn Myers | Drum Set
URL:https://northbeachlive.com/event/electric-levitation-quintet/2026-04-04/2/
LOCATION:Mr. Tipples\, 39 Fell St\, San Francisco\, CA\, 94102\, United States
CATEGORIES:Live Music
ATTACH;FMTTYPE=image/jpeg:https://northbeachlive.com/wp-content/uploads/2026/03/Jesse-Levit.jpg
GEO:37.776449;-122.418193
X-APPLE-STRUCTURED-LOCATION;VALUE=URI;X-ADDRESS=Mr. Tipples 39 Fell St San Francisco CA 94102 United States;X-APPLE-RADIUS=500;X-TITLE=39 Fell St:geo:-122.418193,37.776449
END:VEVENT
END:VCALENDAR