BEGIN:VCALENDAR
VERSION:2.0
PRODID:-//North Beach Live - ECPv6.15.20//NONSGML v1.0//EN
CALSCALE:GREGORIAN
METHOD:PUBLISH
X-WR-CALNAME:North Beach Live
X-ORIGINAL-URL:https://northbeachlive.com
X-WR-CALDESC:Events for North Beach Live
REFRESH-INTERVAL;VALUE=DURATION:PT1H
X-Robots-Tag:noindex
X-PUBLISHED-TTL:PT1H
BEGIN:VTIMEZONE
TZID:America/Los_Angeles
BEGIN:DAYLIGHT
TZOFFSETFROM:-0800
TZOFFSETTO:-0700
TZNAME:PDT
DTSTART:20250309T100000
END:DAYLIGHT
BEGIN:STANDARD
TZOFFSETFROM:-0700
TZOFFSETTO:-0800
TZNAME:PST
DTSTART:20251102T090000
END:STANDARD
BEGIN:DAYLIGHT
TZOFFSETFROM:-0800
TZOFFSETTO:-0700
TZNAME:PDT
DTSTART:20260308T100000
END:DAYLIGHT
BEGIN:STANDARD
TZOFFSETFROM:-0700
TZOFFSETTO:-0800
TZNAME:PST
DTSTART:20261101T090000
END:STANDARD
BEGIN:DAYLIGHT
TZOFFSETFROM:-0800
TZOFFSETTO:-0700
TZNAME:PDT
DTSTART:20270314T100000
END:DAYLIGHT
BEGIN:STANDARD
TZOFFSETFROM:-0700
TZOFFSETTO:-0800
TZNAME:PST
DTSTART:20271107T090000
END:STANDARD
END:VTIMEZONE
BEGIN:VEVENT
DTSTART;TZID=America/Los_Angeles:20260424T183000
DTEND;TZID=America/Los_Angeles:20260424T200000
DTSTAMP:20260424T162755
CREATED:20260307T003144Z
LAST-MODIFIED:20260324T234851Z
UID:10015072-1777055400-1777060800@northbeachlive.com
SUMMARY:Tia Carroll
DESCRIPTION:Tia Carroll’s concert is a soul-stirring journey through blues and gospel-infused soul music\, fueled by her powerful vocals and magnetic stage presence. With a career steeped in the traditions of rhythm and blues\, Carroll effortlessly commands the stage\, delivering heartfelt performances that resonate with authenticity and passion. Her versatile voice moves seamlessly from gritty\, soulful ballads to upbeat\, energetic tunes\, captivating audiences with every note. Backed by a band of seasoned musicians\, Tia Carroll creates an unforgettable live experience that honors the roots of soul music while showcasing her own distinctive style and charisma.
URL:https://northbeachlive.com/event/tia-carroll-4/
LOCATION:Biscuits & Blues\, 401 Mason Street\, San Francisco\, CA\, 94102\, United States
CATEGORIES:Live Music
ATTACH;FMTTYPE=image/jpeg:https://northbeachlive.com/wp-content/uploads/2026/03/b76069b4be9a633cd28d90796ce1cd78.jpg
END:VEVENT
BEGIN:VEVENT
DTSTART;TZID=America/Los_Angeles:20260424T210000
DTEND;TZID=America/Los_Angeles:20260424T223000
DTSTAMP:20260424T162755
CREATED:20260307T003145Z
LAST-MODIFIED:20260324T234947Z
UID:10015073-1777064400-1777069800@northbeachlive.com
SUMMARY:Tia Carroll
DESCRIPTION:Tia Carroll’s concert is a soul-stirring journey through blues and gospel-infused soul music\, fueled by her powerful vocals and magnetic stage presence. With a career steeped in the traditions of rhythm and blues\, Carroll effortlessly commands the stage\, delivering heartfelt performances that resonate with authenticity and passion. Her versatile voice moves seamlessly from gritty\, soulful ballads to upbeat\, energetic tunes\, captivating audiences with every note. Backed by a band of seasoned musicians\, Tia Carroll creates an unforgettable live experience that honors the roots of soul music while showcasing her own distinctive style and charisma.
URL:https://northbeachlive.com/event/tia-carroll-5/
LOCATION:Biscuits & Blues\, 401 Mason Street\, San Francisco\, CA\, 94102\, United States
CATEGORIES:Live Music
ATTACH;FMTTYPE=image/jpeg:https://northbeachlive.com/wp-content/uploads/2026/03/b76069b4be9a633cd28d90796ce1cd78.jpg
END:VEVENT
BEGIN:VEVENT
DTSTART;TZID=America/Los_Angeles:20260506T183000
DTEND;TZID=America/Los_Angeles:20260506T213000
DTSTAMP:20260424T162755
CREATED:20260422T185448Z
LAST-MODIFIED:20260422T205231Z
UID:10016883-1778092200-1778103000@northbeachlive.com
SUMMARY:The Jeffrey James Trio
DESCRIPTION:Santa Clara guitarist fusing blues\, gospel & funk. With decades of chops & work with Johnny Hooker Jr.\, his trio delivers fiery live shows.
URL:https://northbeachlive.com/event/the-jeffrey-james-trio-4/
LOCATION:Biscuits & Blues\, 401 Mason Street\, San Francisco\, CA\, 94102\, United States
CATEGORIES:Live Music
ATTACH;FMTTYPE=image/jpeg:https://northbeachlive.com/wp-content/uploads/2026/03/76c2c037be76d12bf5ef5c773ea80986.jpg
END:VEVENT
BEGIN:VEVENT
DTSTART;TZID=America/Los_Angeles:20260627T180000
DTEND;TZID=America/Los_Angeles:20260627T193000
DTSTAMP:20260424T162755
CREATED:20260422T190017Z
LAST-MODIFIED:20260422T211315Z
UID:10016896-1782583200-1782588600@northbeachlive.com
SUMMARY:Tia Carroll
DESCRIPTION:Tia Carroll’s concert is a soul-stirring journey through blues and gospel-infused soul music\, fueled by her powerful vocals and magnetic stage presence. With a career steeped in the traditions of rhythm and blues\, Carroll effortlessly commands the stage\, delivering heartfelt performances that resonate with authenticity and passion. Her versatile voice moves seamlessly from gritty\, soulful ballads to upbeat\, energetic tunes\, captivating audiences with every note. Backed by a band of seasoned musicians\, Tia Carroll creates an unforgettable live experience that honors the roots of soul music while showcasing her own distinctive style and charisma.
URL:https://northbeachlive.com/event/tia-carroll-6/
LOCATION:Biscuits & Blues\, 401 Mason Street\, San Francisco\, CA\, 94102\, United States
CATEGORIES:Live Music
ATTACH;FMTTYPE=image/jpeg:https://northbeachlive.com/wp-content/uploads/2026/03/b76069b4be9a633cd28d90796ce1cd78.jpg
END:VEVENT
BEGIN:VEVENT
DTSTART;TZID=America/Los_Angeles:20260627T200000
DTEND;TZID=America/Los_Angeles:20260627T213000
DTSTAMP:20260424T162755
CREATED:20260422T190017Z
LAST-MODIFIED:20260422T211243Z
UID:10016897-1782590400-1782595800@northbeachlive.com
SUMMARY:Tia Carroll
DESCRIPTION:Tia Carroll’s concert is a soul-stirring journey through blues and gospel-infused soul music\, fueled by her powerful vocals and magnetic stage presence. With a career steeped in the traditions of rhythm and blues\, Carroll effortlessly commands the stage\, delivering heartfelt performances that resonate with authenticity and passion. Her versatile voice moves seamlessly from gritty\, soulful ballads to upbeat\, energetic tunes\, captivating audiences with every note. Backed by a band of seasoned musicians\, Tia Carroll creates an unforgettable live experience that honors the roots of soul music while showcasing her own distinctive style and charisma.
URL:https://northbeachlive.com/event/tia-carroll-7/
LOCATION:Biscuits & Blues\, 401 Mason Street\, San Francisco\, CA\, 94102\, United States
CATEGORIES:Live Music
ATTACH;FMTTYPE=image/jpeg:https://northbeachlive.com/wp-content/uploads/2026/03/b76069b4be9a633cd28d90796ce1cd78.jpg
END:VEVENT
END:VCALENDAR