BEGIN:VCALENDAR
VERSION:2.0
PRODID:-//North Beach Live - ECPv6.15.20//NONSGML v1.0//EN
CALSCALE:GREGORIAN
METHOD:PUBLISH
X-WR-CALNAME:North Beach Live
X-ORIGINAL-URL:https://northbeachlive.com
X-WR-CALDESC:Events for North Beach Live
REFRESH-INTERVAL;VALUE=DURATION:PT1H
X-Robots-Tag:noindex
X-PUBLISHED-TTL:PT1H
BEGIN:VTIMEZONE
TZID:America/Los_Angeles
BEGIN:DAYLIGHT
TZOFFSETFROM:-0800
TZOFFSETTO:-0700
TZNAME:PDT
DTSTART:20250309T100000
END:DAYLIGHT
BEGIN:STANDARD
TZOFFSETFROM:-0700
TZOFFSETTO:-0800
TZNAME:PST
DTSTART:20251102T090000
END:STANDARD
BEGIN:DAYLIGHT
TZOFFSETFROM:-0800
TZOFFSETTO:-0700
TZNAME:PDT
DTSTART:20260308T100000
END:DAYLIGHT
BEGIN:STANDARD
TZOFFSETFROM:-0700
TZOFFSETTO:-0800
TZNAME:PST
DTSTART:20261101T090000
END:STANDARD
BEGIN:DAYLIGHT
TZOFFSETFROM:-0800
TZOFFSETTO:-0700
TZNAME:PDT
DTSTART:20270314T100000
END:DAYLIGHT
BEGIN:STANDARD
TZOFFSETFROM:-0700
TZOFFSETTO:-0800
TZNAME:PST
DTSTART:20271107T090000
END:STANDARD
END:VTIMEZONE
BEGIN:VEVENT
DTSTART;TZID=America/Los_Angeles:20260423T203000
DTEND;TZID=America/Los_Angeles:20260423T235900
DTSTAMP:20260419T130201
CREATED:20260416T200827Z
LAST-MODIFIED:20260416T211012Z
UID:10016575-1776976200-1776988740@northbeachlive.com
SUMMARY:Blue Note Jazz Revival Quartet
DESCRIPTION:This Jazz ensemble led by Ollie Dudek on Bass\, features the greatest high energy hits from the Blue Note Records catalog that will be sure to get you out of your seat and moving on the dance floor!
URL:https://northbeachlive.com/event/blue-note-jazz-revival-quartet/
LOCATION:Local Edition\, 691 Market St\, San Francisco\, CA\, 94105\, United States
CATEGORIES:Live Music
ATTACH;FMTTYPE=image/webp:https://northbeachlive.com/wp-content/uploads/2026/04/IMG_0636.webp
END:VEVENT
END:VCALENDAR