BEGIN:VCALENDAR
VERSION:2.0
PRODID:-//North Beach Live - ECPv6.15.20//NONSGML v1.0//EN
CALSCALE:GREGORIAN
METHOD:PUBLISH
X-ORIGINAL-URL:https://northbeachlive.com
X-WR-CALDESC:Events for North Beach Live
REFRESH-INTERVAL;VALUE=DURATION:PT1H
X-Robots-Tag:noindex
X-PUBLISHED-TTL:PT1H
BEGIN:VTIMEZONE
TZID:America/Los_Angeles
BEGIN:DAYLIGHT
TZOFFSETFROM:-0800
TZOFFSETTO:-0700
TZNAME:PDT
DTSTART:20240310T100000
END:DAYLIGHT
BEGIN:STANDARD
TZOFFSETFROM:-0700
TZOFFSETTO:-0800
TZNAME:PST
DTSTART:20241103T090000
END:STANDARD
BEGIN:DAYLIGHT
TZOFFSETFROM:-0800
TZOFFSETTO:-0700
TZNAME:PDT
DTSTART:20250309T100000
END:DAYLIGHT
BEGIN:STANDARD
TZOFFSETFROM:-0700
TZOFFSETTO:-0800
TZNAME:PST
DTSTART:20251102T090000
END:STANDARD
BEGIN:DAYLIGHT
TZOFFSETFROM:-0800
TZOFFSETTO:-0700
TZNAME:PDT
DTSTART:20260308T100000
END:DAYLIGHT
BEGIN:STANDARD
TZOFFSETFROM:-0700
TZOFFSETTO:-0800
TZNAME:PST
DTSTART:20261101T090000
END:STANDARD
BEGIN:DAYLIGHT
TZOFFSETFROM:-0800
TZOFFSETTO:-0700
TZNAME:PDT
DTSTART:20270314T100000
END:DAYLIGHT
BEGIN:STANDARD
TZOFFSETFROM:-0700
TZOFFSETTO:-0800
TZNAME:PST
DTSTART:20271107T090000
END:STANDARD
END:VTIMEZONE
BEGIN:VEVENT
DTSTART;TZID=America/Los_Angeles:20251217T160000
DTEND;TZID=America/Los_Angeles:20251217T180000
DTSTAMP:20260423T042109
CREATED:20251211T212825Z
LAST-MODIFIED:20251211T212856Z
UID:10010554-1765987200-1765994400@northbeachlive.com
SUMMARY:We Are the Kind
DESCRIPTION:Wind down your Wednesday with the heartfelt sounds of We Are The Kind at the Winter Walk in Union Square! \nJoin us on Wednesday\, December 17 for a performance by this Indie Folk band and Roots Music collective hailing from San Francisco’s historic North Beach neighborhood. \nWe Are The Kind performs an up-tempo Roots blend of Folk and Blues\, characterized by a sonic warmth and a lyrical focus on themes of empathy\, compassion\, understanding\, and love. Their music offers an uplifting and genuine experience\, perfect for a cozy afternoon as the sun sets. \nEnjoy their authentic Roots sound and positive message right here in the heart of the city!
URL:https://northbeachlive.com/event/we-are-the-kind/
LOCATION:San Francisco\, CA\, 94133\, United States
CATEGORIES:Live Music
END:VEVENT
BEGIN:VEVENT
DTSTART;TZID=America/Los_Angeles:20260117T150000
DTEND;TZID=America/Los_Angeles:20260117T180000
DTSTAMP:20260423T042109
CREATED:20260106T002416Z
LAST-MODIFIED:20260106T002416Z
UID:10011981-1768662000-1768672800@northbeachlive.com
SUMMARY:The Henry Co.
DESCRIPTION:Spend your Saturday afternoon in the heart of the Mission with The Henry Co.\, a local San Francisco ensemble known for their soulful\, laid-back instrumental and vocal grooves. These sessions have become a staple of the Casements weekend lineup\, offering a perfect “day-drinking” soundtrack that blends the sophistication of a jazz club with the relaxed energy of a neighborhood pub. \nDrawing from jazz\, soul\, and indie-rock influences\, the band is celebrated for their versatility. While they often lean into deep-pocket jazz grooves\, they are also known for their creative reinterpretations of familiar tracks (as heard on their The Henry Co-vers series)\, ranging from roots-rock to modern pop. \nWeather permitting\, these shows often take advantage of Casements’ vibrant patio. It’s an ideal setting to enjoy a Guinness or a craft cocktail while soaking in live music that evolves from mellow afternoon background vibes to high-energy jams as the set progresses.
URL:https://northbeachlive.com/event/the-henry-co/2026-01-17/
LOCATION:Casements Bar\, 2351 Mission St\, San Francisco\, CA\, 94110\, United States
CATEGORIES:Live Music
ATTACH;FMTTYPE=image/webp:https://northbeachlive.com/wp-content/uploads/2026/01/IMG_0119.webp
END:VEVENT
BEGIN:VEVENT
DTSTART;TZID=America/Los_Angeles:20260207T160000
DTEND;TZID=America/Los_Angeles:20260207T190000
DTSTAMP:20260423T042109
CREATED:20260124T221604Z
LAST-MODIFIED:20260124T221625Z
UID:10012869-1770480000-1770490800@northbeachlive.com
SUMMARY:Ashley Cornwall at Pier 23 Cafe
DESCRIPTION:Ashley Cornwall aka Acorn is an indie folk singer songwriter from Pittsburgh\, PA. Rooted in 90s nostalgia\, Acorn’s music drifts through tender storytelling and dreamlike melodies\, exploring love\, loss\, and transformation. Come hear her play at Pier 23 Cafe. Bring a friend.
URL:https://northbeachlive.com/event/asley-cornwall-at-pier-23-cafe/
LOCATION:Pier 23\, 23 The Embarcadero\, San Francisco\, CA\, 94111\, United States
CATEGORIES:Live Music
ATTACH;FMTTYPE=image/png:https://northbeachlive.com/wp-content/uploads/2026/01/Ashley-Cornwall-2.png
END:VEVENT
BEGIN:VEVENT
DTSTART;TZID=America/Los_Angeles:20260212T210000
DTEND;TZID=America/Los_Angeles:20260213T013000
DTSTAMP:20260423T042109
CREATED:20260212T003546Z
LAST-MODIFIED:20260409T205506Z
UID:10014064-1770930000-1770946200@northbeachlive.com
SUMMARY:ROBBY D & THE EFG's
DESCRIPTION:San Francisco! Get yourself off the couch and move it on up to BBR—Robby D and the EFG’s are hitting it hard all night long kicking off at 8:30pm until 1:30am++\n\nIf you’re not in the know\, Robby D and the EFG’s is a kick ass show! Our style throws blistering renditions of new wave\, funk\, soul\, and indie rock hits along with our latest and greatest original dance music. We’ll see you on the dance floor 9:00 on Thursday night—don’t miss it!\n\nFeaturing:\n\nROB DIETRICH – Guitar (Matt Jaffe\, Harmonic Law)\n\nCHRIS COLMENERO – Bass (King Tide)\n\nBRIAN FISHLER – Drums (Bumpin’\, Simon Rowe Organ Trio)\n\nNATALYN DANIELS – Keys (Girl Swallows Nightingale\, Mahawam)
URL:https://northbeachlive.com/event/robby-d-the-efgs/2026-02-12/
LOCATION:Boom Boom Room\, 1601 Filmore St\, San Francisco\, CA\, 94115\, United States
CATEGORIES:Live Music
END:VEVENT
BEGIN:VEVENT
DTSTART;TZID=America/Los_Angeles:20260214T213000
DTEND;TZID=America/Los_Angeles:20260214T235900
DTSTAMP:20260423T042109
CREATED:20260214T032512Z
LAST-MODIFIED:20260214T032540Z
UID:10014137-1771104600-1771113540@northbeachlive.com
SUMMARY:The Treacherous French
DESCRIPTION:The Treacherous French are a folk rock band hailing from the San Francisco Bay Area. The songs they write are catchy yet complex\, while staying true to their indie\, blues\, country\, and alt-rock roots. All four members are veterans of their local music scenes\, from punk rock to folk rock to dance rock to Celtic jazz folk fusion\, and this blend of styles and instrumentation is what makes The Treacherous French unique. \nCharlie: vocals\, guitars\, harmonica\, mandolin \nCara: vocals\, drums\, washboard and other percussion\, guitar \nPhil: bass\, vocals\, guitar\, ukulele\, melodica \nOlivier: accordion\, piano\, organ\, glockenspiel\, spoons\, mouth harp\, steel drum\, kalimba\, mellotron
URL:https://northbeachlive.com/event/the-treacherous-french/
LOCATION:The Riptide\, 3636 Taraval St\, San Francisco\, CA\, 94116\, United States
CATEGORIES:Live Music
ATTACH;FMTTYPE=image/webp:https://northbeachlive.com/wp-content/uploads/2026/02/The-Treacherous-French.webp
END:VEVENT
BEGIN:VEVENT
DTSTART;TZID=America/Los_Angeles:20260221T150000
DTEND;TZID=America/Los_Angeles:20260221T180000
DTSTAMP:20260423T042109
CREATED:20260106T002416Z
LAST-MODIFIED:20260106T002416Z
UID:10011982-1771686000-1771696800@northbeachlive.com
SUMMARY:The Henry Co.
DESCRIPTION:Spend your Saturday afternoon in the heart of the Mission with The Henry Co.\, a local San Francisco ensemble known for their soulful\, laid-back instrumental and vocal grooves. These sessions have become a staple of the Casements weekend lineup\, offering a perfect “day-drinking” soundtrack that blends the sophistication of a jazz club with the relaxed energy of a neighborhood pub. \nDrawing from jazz\, soul\, and indie-rock influences\, the band is celebrated for their versatility. While they often lean into deep-pocket jazz grooves\, they are also known for their creative reinterpretations of familiar tracks (as heard on their The Henry Co-vers series)\, ranging from roots-rock to modern pop. \nWeather permitting\, these shows often take advantage of Casements’ vibrant patio. It’s an ideal setting to enjoy a Guinness or a craft cocktail while soaking in live music that evolves from mellow afternoon background vibes to high-energy jams as the set progresses.
URL:https://northbeachlive.com/event/the-henry-co/2026-02-21/
LOCATION:Casements Bar\, 2351 Mission St\, San Francisco\, CA\, 94110\, United States
CATEGORIES:Live Music
ATTACH;FMTTYPE=image/webp:https://northbeachlive.com/wp-content/uploads/2026/01/IMG_0119.webp
END:VEVENT
BEGIN:VEVENT
DTSTART;TZID=America/Los_Angeles:20260224T190000
DTEND;TZID=America/Los_Angeles:20260224T210000
DTSTAMP:20260423T042109
CREATED:20260204T034400Z
LAST-MODIFIED:20260204T034613Z
UID:10013327-1771959600-1771966800@northbeachlive.com
SUMMARY:Stew Lew
DESCRIPTION:Experience the high-fidelity sound of the Mission District as Sweet Lew (Lewis Ames) brings his “Indie-Soul” energy to Casements Bar. Casements is not your average Irish pub; it’s a modern\, sophisticated sanctuary that blends the warmth of a Dublin “local” with the cutting-edge spirit of San Francisco’s musical underground. Whether he’s performing in the sleek\, minimalist bar or out in the heated back patio\, Sweet Lew provides the perfect\, low-lit soundtrack for one of the city’s most curated hospitality experiences. \nThe Sound: Sweet Lew delivers a “honey-thick” blend of Soul\, Alt-R&B\, and Psychedelic Pop. His style is defined by effortless vocal range and a rhythmic precision that feels both relaxed and deeply intentional. Expect a mix of original compositions and soulful re-imaginings of classic tracks\, all anchored by a “restless melodicism” that keeps the room in a steady\, infectious groove. \nThe Atmosphere: Casements is designed for “attentive socializers.” With its award-winning cocktail program and extensive Irish spirit selection\, the venue creates an environment where the music is an essential layer of the vibe rather than background noise. It’s the kind of place where you can enjoy an elite live set while sipping on a perfectly poured Guinness or a signature botanical cocktail. \nThe Collaborative Spirit: True to his role as a community connector\, Sweet Lew’s performances at Casements often feature “guest appearances” from other Bay Area heavyweights. It’s a space where the city’s creative class gathers\, making every set feel like an intimate session among friends. \nFree & Community-Focused: In keeping with Casements’ role as a neighborhood hub\, live music sessions are typically No Cover. It’s a premier way to experience the Mission’s evolving musical landscape in a setting that values authenticity and high-quality craft. \n\nAbout Sweet Lew\nLewis Ames\, performing as Sweet Lew\, has quickly become a “musician’s musician” in San Francisco. Beyond his recurring appearances at Casements and Neck of the Woods\, he is a frequent collaborator with local collectives like The Breathing Room and Aleta Simone. Known for his “soft-spoken powerhouse” energy\, Sweet Lew represents a new generation of soul music—one that honors the roots of the genre while pushing it into atmospheric\, modern territory.
URL:https://northbeachlive.com/event/stew-lew/
LOCATION:Casements Bar\, 2351 Mission St\, San Francisco\, CA\, 94110\, United States
CATEGORIES:Live Music
ATTACH;FMTTYPE=image/jpeg:https://northbeachlive.com/wp-content/uploads/2026/02/IMG_0180.jpeg
END:VEVENT
BEGIN:VEVENT
DTSTART;TZID=America/Los_Angeles:20260228T180000
DTEND;TZID=America/Los_Angeles:20260228T190000
DTSTAMP:20260423T042109
CREATED:20260228T115840Z
LAST-MODIFIED:20260228T115840Z
UID:10014740-1772301600-1772305200@northbeachlive.com
SUMMARY:Sara Niemietz and her band
DESCRIPTION:Sara Niemietz | Vocals\nKai Lyons | Guitar\nAdam Klipple | Piano\nMalachi Whitson | Drums\nAdam Kubota | Bass\nJames Mahone | Tenor
URL:https://northbeachlive.com/event/sara-niemietz-and-her-band/2026-02-28/1/
LOCATION:Mr. Tipples\, 39 Fell St\, San Francisco\, CA\, 94102\, United States
CATEGORIES:Live Music
ATTACH;FMTTYPE=image/jpeg:https://northbeachlive.com/wp-content/uploads/2026/02/Sara-Niemietz-and-her-band.jpg
GEO:37.776449;-122.418193
X-APPLE-STRUCTURED-LOCATION;VALUE=URI;X-ADDRESS=Mr. Tipples 39 Fell St San Francisco CA 94102 United States;X-APPLE-RADIUS=500;X-TITLE=39 Fell St:geo:-122.418193,37.776449
END:VEVENT
BEGIN:VEVENT
DTSTART;TZID=America/Los_Angeles:20260228T193000
DTEND;TZID=America/Los_Angeles:20260228T203000
DTSTAMP:20260423T042109
CREATED:20260228T115840Z
LAST-MODIFIED:20260228T115840Z
UID:10014741-1772307000-1772310600@northbeachlive.com
SUMMARY:Sara Niemietz and her band
DESCRIPTION:Sara Niemietz | Vocals\nKai Lyons | Guitar\nAdam Klipple | Piano\nMalachi Whitson | Drums\nAdam Kubota | Bass\nJames Mahone | Tenor
URL:https://northbeachlive.com/event/sara-niemietz-and-her-band/2026-02-28/2/
LOCATION:Mr. Tipples\, 39 Fell St\, San Francisco\, CA\, 94102\, United States
CATEGORIES:Live Music
ATTACH;FMTTYPE=image/jpeg:https://northbeachlive.com/wp-content/uploads/2026/02/Sara-Niemietz-and-her-band.jpg
GEO:37.776449;-122.418193
X-APPLE-STRUCTURED-LOCATION;VALUE=URI;X-ADDRESS=Mr. Tipples 39 Fell St San Francisco CA 94102 United States;X-APPLE-RADIUS=500;X-TITLE=39 Fell St:geo:-122.418193,37.776449
END:VEVENT
BEGIN:VEVENT
DTSTART;TZID=America/Los_Angeles:20260312T210000
DTEND;TZID=America/Los_Angeles:20260313T013000
DTSTAMP:20260423T042109
CREATED:20260212T003546Z
LAST-MODIFIED:20260409T205506Z
UID:10015137-1773349200-1773365400@northbeachlive.com
SUMMARY:ROBBY D & THE EFG's
DESCRIPTION:San Francisco! Get yourself off the couch and move it on up to BBR—Robby D and the EFG’s are hitting it hard all night long kicking off at 8:30pm until 1:30am++\n\nIf you’re not in the know\, Robby D and the EFG’s is a kick ass show! Our style throws blistering renditions of new wave\, funk\, soul\, and indie rock hits along with our latest and greatest original dance music. We’ll see you on the dance floor 9:00 on Thursday night—don’t miss it!\n\nFeaturing:\n\nROB DIETRICH – Guitar (Matt Jaffe\, Harmonic Law)\n\nCHRIS COLMENERO – Bass (King Tide)\n\nBRIAN FISHLER – Drums (Bumpin’\, Simon Rowe Organ Trio)\n\nNATALYN DANIELS – Keys (Girl Swallows Nightingale\, Mahawam)
URL:https://northbeachlive.com/event/robby-d-the-efgs/2026-03-12/
LOCATION:Boom Boom Room\, 1601 Filmore St\, San Francisco\, CA\, 94115\, United States
CATEGORIES:Live Music
END:VEVENT
BEGIN:VEVENT
DTSTART;TZID=America/Los_Angeles:20260313T203000
DTEND;TZID=America/Los_Angeles:20260314T003000
DTSTAMP:20260423T042109
CREATED:20260313T022435Z
LAST-MODIFIED:20260313T022435Z
UID:10015142-1773433800-1773448200@northbeachlive.com
SUMMARY:Future Famous Fridays:
DESCRIPTION:Future Famous Fridays at The Savoy Tivoli lines up three rising local acts on one bill built for discovery. Delano Milano opens the night with hooky\, guitar‑driven songs that blur indie rock and power‑pop\, all swagger and big choruses. Julie & the Warm Bodies follow with nervy\, danceable post‑punk—sharp lyrics\, polyrhythmic grooves\, and a rhythm section that never lets up. The Exhales close it out with moody\, melodic rock that swells from slow‑burn introspection into full‑throttle catharsis. Come for one band\, leave with three new favorites and that feeling you caught them before everyone else did.
URL:https://northbeachlive.com/event/future-famous-fridays/
LOCATION:Savoy Tivoli\, 1434 Grant Ave\, San Francisco\, CA\, 94133\, United States
CATEGORIES:Live Music
ATTACH;FMTTYPE=image/jpeg:https://northbeachlive.com/wp-content/uploads/2026/03/IMG_0333.jpeg
GEO:37.80004;-122.407373
X-APPLE-STRUCTURED-LOCATION;VALUE=URI;X-ADDRESS=Savoy Tivoli 1434 Grant Ave San Francisco CA 94133 United States;X-APPLE-RADIUS=500;X-TITLE=1434 Grant Ave:geo:-122.407373,37.80004
END:VEVENT
BEGIN:VEVENT
DTSTART;TZID=America/Los_Angeles:20260321T150000
DTEND;TZID=America/Los_Angeles:20260321T180000
DTSTAMP:20260423T042109
CREATED:20260106T002416Z
LAST-MODIFIED:20260106T002416Z
UID:10011983-1774105200-1774116000@northbeachlive.com
SUMMARY:The Henry Co.
DESCRIPTION:Spend your Saturday afternoon in the heart of the Mission with The Henry Co.\, a local San Francisco ensemble known for their soulful\, laid-back instrumental and vocal grooves. These sessions have become a staple of the Casements weekend lineup\, offering a perfect “day-drinking” soundtrack that blends the sophistication of a jazz club with the relaxed energy of a neighborhood pub. \nDrawing from jazz\, soul\, and indie-rock influences\, the band is celebrated for their versatility. While they often lean into deep-pocket jazz grooves\, they are also known for their creative reinterpretations of familiar tracks (as heard on their The Henry Co-vers series)\, ranging from roots-rock to modern pop. \nWeather permitting\, these shows often take advantage of Casements’ vibrant patio. It’s an ideal setting to enjoy a Guinness or a craft cocktail while soaking in live music that evolves from mellow afternoon background vibes to high-energy jams as the set progresses.
URL:https://northbeachlive.com/event/the-henry-co/2026-03-21/
LOCATION:Casements Bar\, 2351 Mission St\, San Francisco\, CA\, 94110\, United States
CATEGORIES:Live Music
ATTACH;FMTTYPE=image/webp:https://northbeachlive.com/wp-content/uploads/2026/01/IMG_0119.webp
END:VEVENT
BEGIN:VEVENT
DTSTART;TZID=America/Los_Angeles:20260327T203000
DTEND;TZID=America/Los_Angeles:20260328T003000
DTSTAMP:20260423T042109
CREATED:20260326T214944Z
LAST-MODIFIED:20260326T214944Z
UID:10015710-1774643400-1774657800@northbeachlive.com
SUMMARY:Future Famous Fridays: Same Spell\, Queen of Cardboard & Supercoze
DESCRIPTION:Kick off the weekend in the heart of North Beach with Future Famous Fridays\, a curated showcase featuring three of the Bay Area’s most compelling emerging acts. This performance takes place at the historic Savoy Tivoli\, an open-air institution on Upper Grant Avenue that has served as a cultural anchor for the neighborhood since 1907. \nThe Lineup\nSame Spell:  Same Spell explores the intersection of psychedelic rock and garage-tinged indie. Their sets are defined by a driving rhythmic foundation and expansive instrumental layers\, offering a modern take on the classic San Francisco psych-rock legacy. \nQueen of Cardboard: This San Francisco-based ensemble brings a playful and energetic approach to art-rock. Known for their tight arrangements and charismatic stage presence\, they blend elements of post-punk and indie-pop into a sound that is both intellectual and danceable. \nSupercoze: Led by artist Sage Chavis\, SuperCoze delivers a lush blend of dream-pop and indie-soul. The music is characterized by shimmering guitar textures and emotive\, melodic vocals that create a cinematic and introspective atmosphere.
URL:https://northbeachlive.com/event/future-famous-fridays-same-spell-queen-of-cardboard-supercoze/
LOCATION:Savoy Tivoli\, 1434 Grant Ave\, San Francisco\, CA\, 94133\, United States
CATEGORIES:Live Music
ATTACH;FMTTYPE=image/jpeg:https://northbeachlive.com/wp-content/uploads/2026/03/IMG_0464.jpeg
GEO:37.80004;-122.407373
X-APPLE-STRUCTURED-LOCATION;VALUE=URI;X-ADDRESS=Savoy Tivoli 1434 Grant Ave San Francisco CA 94133 United States;X-APPLE-RADIUS=500;X-TITLE=1434 Grant Ave:geo:-122.407373,37.80004
END:VEVENT
BEGIN:VEVENT
DTSTART;TZID=America/Los_Angeles:20260409T210000
DTEND;TZID=America/Los_Angeles:20260410T013000
DTSTAMP:20260423T042109
CREATED:20260212T003546Z
LAST-MODIFIED:20260409T205506Z
UID:10016119-1775768400-1775784600@northbeachlive.com
SUMMARY:ROBBY D & THE EFG's
DESCRIPTION:San Francisco! Get yourself off the couch and move it on up to BBR—Robby D and the EFG’s are hitting it hard all night long kicking off at 8:30pm until 1:30am++\n\nIf you’re not in the know\, Robby D and the EFG’s is a kick ass show! Our style throws blistering renditions of new wave\, funk\, soul\, and indie rock hits along with our latest and greatest original dance music. We’ll see you on the dance floor 9:00 on Thursday night—don’t miss it!\n\nFeaturing:\n\nROB DIETRICH – Guitar (Matt Jaffe\, Harmonic Law)\n\nCHRIS COLMENERO – Bass (King Tide)\n\nBRIAN FISHLER – Drums (Bumpin’\, Simon Rowe Organ Trio)\n\nNATALYN DANIELS – Keys (Girl Swallows Nightingale\, Mahawam)
URL:https://northbeachlive.com/event/robby-d-the-efgs/2026-04-09/
LOCATION:Boom Boom Room\, 1601 Filmore St\, San Francisco\, CA\, 94115\, United States
CATEGORIES:Live Music
END:VEVENT
BEGIN:VEVENT
DTSTART;TZID=America/Los_Angeles:20260415T183000
DTEND;TZID=America/Los_Angeles:20260415T213000
DTSTAMP:20260423T042109
CREATED:20260415T231417Z
LAST-MODIFIED:20260415T231510Z
UID:10016799-1776277800-1776288600@northbeachlive.com
SUMMARY:Loco Tranquilo
DESCRIPTION:Loco Tranquilo brings a 6:30–9:30 pm set to Etcetera Wine Bar\, led by Buenos Aires–born singer\, songwriter\, and composer Julián Armando Gervasi\, now based in San Francisco. His project fuses indie rock\, psychedelic pop\, freak folk\, and jazzy textures\, drawing on influences like The Velvet Underground\, Devendra Banhart\, Mac DeMarco\, Radiohead\, and Pescado Rabioso. The songs blend European Latin spirit from Buenos Aires with the dreamy\, nostalgic atmosphere of San Francisco\, creating warm\, romantic\, and slightly surreal moods that fit a seated wine-bar listening room.
URL:https://northbeachlive.com/event/loco-tranquilo/2026-04-15/
LOCATION:Etcetera Wine Bar\, 795 Valencia St\, San Francisco\, CA\, 94110\, United States
CATEGORIES:Live Music
ATTACH;FMTTYPE=image/webp:https://northbeachlive.com/wp-content/uploads/2026/04/IMG_0518.webp
END:VEVENT
BEGIN:VEVENT
DTSTART;TZID=America/Los_Angeles:20260415T190000
DTEND;TZID=America/Los_Angeles:20260415T201500
DTSTAMP:20260423T042109
CREATED:20260405T190911Z
LAST-MODIFIED:20260405T190911Z
UID:10015959-1776279600-1776284100@northbeachlive.com
SUMMARY:Mae Powell and her band
DESCRIPTION: Mae Powell is a Bay Area-based singer-songwriter known for her “rainbow-tinged” sound that blends indie psych-pop with soulful folk.
URL:https://northbeachlive.com/event/mae-powell-and-her-band/2026-04-15/1/
LOCATION:Mr. Tipples\, 39 Fell St\, San Francisco\, CA\, 94102\, United States
CATEGORIES:Live Music
ATTACH;FMTTYPE=image/jpeg:https://northbeachlive.com/wp-content/uploads/2026/04/Mae-Powell-1-e1710555124644-bP6CNo.jpg
GEO:37.776449;-122.418193
X-APPLE-STRUCTURED-LOCATION;VALUE=URI;X-ADDRESS=Mr. Tipples 39 Fell St San Francisco CA 94102 United States;X-APPLE-RADIUS=500;X-TITLE=39 Fell St:geo:-122.418193,37.776449
END:VEVENT
BEGIN:VEVENT
DTSTART;TZID=America/Los_Angeles:20260415T204500
DTEND;TZID=America/Los_Angeles:20260415T214500
DTSTAMP:20260423T042109
CREATED:20260405T190911Z
LAST-MODIFIED:20260405T190911Z
UID:10016142-1776285900-1776289500@northbeachlive.com
SUMMARY:Mae Powell and her band
DESCRIPTION: Mae Powell is a Bay Area-based singer-songwriter known for her “rainbow-tinged” sound that blends indie psych-pop with soulful folk.
URL:https://northbeachlive.com/event/mae-powell-and-her-band/2026-04-15/2/
LOCATION:Mr. Tipples\, 39 Fell St\, San Francisco\, CA\, 94102\, United States
CATEGORIES:Live Music
ATTACH;FMTTYPE=image/jpeg:https://northbeachlive.com/wp-content/uploads/2026/04/Mae-Powell-1-e1710555124644-bP6CNo.jpg
GEO:37.776449;-122.418193
X-APPLE-STRUCTURED-LOCATION;VALUE=URI;X-ADDRESS=Mr. Tipples 39 Fell St San Francisco CA 94102 United States;X-APPLE-RADIUS=500;X-TITLE=39 Fell St:geo:-122.418193,37.776449
END:VEVENT
BEGIN:VEVENT
DTSTART;TZID=America/Los_Angeles:20260418T150000
DTEND;TZID=America/Los_Angeles:20260418T180000
DTSTAMP:20260423T042109
CREATED:20260106T002416Z
LAST-MODIFIED:20260106T002416Z
UID:10011984-1776524400-1776535200@northbeachlive.com
SUMMARY:The Henry Co.
DESCRIPTION:Spend your Saturday afternoon in the heart of the Mission with The Henry Co.\, a local San Francisco ensemble known for their soulful\, laid-back instrumental and vocal grooves. These sessions have become a staple of the Casements weekend lineup\, offering a perfect “day-drinking” soundtrack that blends the sophistication of a jazz club with the relaxed energy of a neighborhood pub. \nDrawing from jazz\, soul\, and indie-rock influences\, the band is celebrated for their versatility. While they often lean into deep-pocket jazz grooves\, they are also known for their creative reinterpretations of familiar tracks (as heard on their The Henry Co-vers series)\, ranging from roots-rock to modern pop. \nWeather permitting\, these shows often take advantage of Casements’ vibrant patio. It’s an ideal setting to enjoy a Guinness or a craft cocktail while soaking in live music that evolves from mellow afternoon background vibes to high-energy jams as the set progresses.
URL:https://northbeachlive.com/event/the-henry-co/2026-04-18/
LOCATION:Casements Bar\, 2351 Mission St\, San Francisco\, CA\, 94110\, United States
CATEGORIES:Live Music
ATTACH;FMTTYPE=image/webp:https://northbeachlive.com/wp-content/uploads/2026/01/IMG_0119.webp
END:VEVENT
BEGIN:VEVENT
DTSTART;TZID=America/Los_Angeles:20260418T213000
DTEND;TZID=America/Los_Angeles:20260419T023000
DTSTAMP:20260423T042109
CREATED:20260407T232827Z
LAST-MODIFIED:20260407T232827Z
UID:10016154-1776547800-1776565800@northbeachlive.com
SUMMARY:KATDELIC
DESCRIPTION:P Funk Allstar and Grammy Winner…\n\nLive electrifying hybrid of Funk\, Soul\, EDM\, Hip Hop\, Jazz Indie-POP and Rock guaranteed to “Make ‘Em Dance.” \nKATDELIC is a six piece”party-all-night” band with an infectious groove. Irresistible to anyone within ear range. \nRonKat Spearman is a prolific songwriter and Multi-Platinum Artist\, Producer\, Composer\, Grammy and BMI award recipient. \nWriting for Lenny Kravitz\, JADE\, Toni Braxton\, El Debarge\,George Clinton\, Prince\, Kanye West\, Bootsy Collins\, Shock G\, Dj Quik\, Rick James\, Eryka  Badu\, Martika\, Scarface\, The Mary Jane Girls\, Darius McCrary\, Tichina Arnold\, Klymax\, Angelo Moore and many others.
URL:https://northbeachlive.com/event/katdelic/
LOCATION:Boom Boom Room\, 1601 Filmore St\, San Francisco\, CA\, 94115\, United States
CATEGORIES:Live Music
ATTACH;FMTTYPE=image/png:https://northbeachlive.com/wp-content/uploads/2026/04/KATDELIC-P-Funk-Allstar-Grammy-Winner-Ronkat-BoomBoomRoom.png
END:VEVENT
END:VCALENDAR