BEGIN:VCALENDAR
VERSION:2.0
PRODID:-//North Beach Live - ECPv6.15.20//NONSGML v1.0//EN
CALSCALE:GREGORIAN
METHOD:PUBLISH
X-ORIGINAL-URL:https://northbeachlive.com
X-WR-CALDESC:Events for North Beach Live
REFRESH-INTERVAL;VALUE=DURATION:PT1H
X-Robots-Tag:noindex
X-PUBLISHED-TTL:PT1H
BEGIN:VTIMEZONE
TZID:America/Los_Angeles
BEGIN:DAYLIGHT
TZOFFSETFROM:-0800
TZOFFSETTO:-0700
TZNAME:PDT
DTSTART:20250309T100000
END:DAYLIGHT
BEGIN:STANDARD
TZOFFSETFROM:-0700
TZOFFSETTO:-0800
TZNAME:PST
DTSTART:20251102T090000
END:STANDARD
BEGIN:DAYLIGHT
TZOFFSETFROM:-0800
TZOFFSETTO:-0700
TZNAME:PDT
DTSTART:20260308T100000
END:DAYLIGHT
BEGIN:STANDARD
TZOFFSETFROM:-0700
TZOFFSETTO:-0800
TZNAME:PST
DTSTART:20261101T090000
END:STANDARD
BEGIN:DAYLIGHT
TZOFFSETFROM:-0800
TZOFFSETTO:-0700
TZNAME:PDT
DTSTART:20270314T100000
END:DAYLIGHT
BEGIN:STANDARD
TZOFFSETFROM:-0700
TZOFFSETTO:-0800
TZNAME:PST
DTSTART:20271107T090000
END:STANDARD
END:VTIMEZONE
BEGIN:VEVENT
DTSTART;TZID=America/Los_Angeles:20260501T193000
DTEND;TZID=America/Los_Angeles:20260501T213000
DTSTAMP:20260423T235859
CREATED:20251205T014506Z
LAST-MODIFIED:20260331T162246Z
UID:10010266-1777663800-1777671000@northbeachlive.com
SUMMARY:The Mina Project
DESCRIPTION:THE MINA PROJECT represents the music of Italian singer Mina Mazzini in her tradition\, in\nparticular\, paying tribute to her songs of the 1960’s and 1970’s. \nMina is considered the most successful proponent of the canzone italiana through Italian\nmainstream pop music. Mina’s work combines classic Italian pop with elements of Jazz\, Blues\,\nSwing\, R&B and Soul. Her work spans 5 decades\, and\, having sold over 150 million records\nworldwide\, she is the most prolific and versatile pop singer in Italian music to this day\, \nAsk any Italian citizen… they all know MINA! \nTHE MINA PROJECT consists of:\nAnne-Marie Russo on vocals as Mina (Anne-Marie lived in Italy for a decade)\nRon Borelli on piano and/or accordion\nLarry Levy on guitar\nJosh Schultheiss on drums
URL:https://northbeachlive.com/event/the-mina-project-3/2026-05-01/
LOCATION:Paris 75\, 515 Broadway\, San Francisco\, CA\, 94133\, United States
CATEGORIES:Live Music
ATTACH;FMTTYPE=image/png:https://northbeachlive.com/wp-content/uploads/2025/06/Mina-Photo-Promo.png
GEO:37.797891;-122.405783
X-APPLE-STRUCTURED-LOCATION;VALUE=URI;X-ADDRESS=Paris 75 515 Broadway San Francisco CA 94133 United States;X-APPLE-RADIUS=500;X-TITLE=515 Broadway:geo:-122.405783,37.797891
END:VEVENT
BEGIN:VEVENT
DTSTART;TZID=America/Los_Angeles:20260605T193000
DTEND;TZID=America/Los_Angeles:20260605T213000
DTSTAMP:20260423T235859
CREATED:20251205T014506Z
LAST-MODIFIED:20260331T162246Z
UID:10010267-1780687800-1780695000@northbeachlive.com
SUMMARY:The Mina Project
DESCRIPTION:THE MINA PROJECT represents the music of Italian singer Mina Mazzini in her tradition\, in\nparticular\, paying tribute to her songs of the 1960’s and 1970’s. \nMina is considered the most successful proponent of the canzone italiana through Italian\nmainstream pop music. Mina’s work combines classic Italian pop with elements of Jazz\, Blues\,\nSwing\, R&B and Soul. Her work spans 5 decades\, and\, having sold over 150 million records\nworldwide\, she is the most prolific and versatile pop singer in Italian music to this day\, \nAsk any Italian citizen… they all know MINA! \nTHE MINA PROJECT consists of:\nAnne-Marie Russo on vocals as Mina (Anne-Marie lived in Italy for a decade)\nRon Borelli on piano and/or accordion\nLarry Levy on guitar\nJosh Schultheiss on drums
URL:https://northbeachlive.com/event/the-mina-project-3/2026-06-05/
LOCATION:Paris 75\, 515 Broadway\, San Francisco\, CA\, 94133\, United States
CATEGORIES:Live Music
ATTACH;FMTTYPE=image/png:https://northbeachlive.com/wp-content/uploads/2025/06/Mina-Photo-Promo.png
GEO:37.797891;-122.405783
X-APPLE-STRUCTURED-LOCATION;VALUE=URI;X-ADDRESS=Paris 75 515 Broadway San Francisco CA 94133 United States;X-APPLE-RADIUS=500;X-TITLE=515 Broadway:geo:-122.405783,37.797891
END:VEVENT
BEGIN:VEVENT
DTSTART;TZID=America/Los_Angeles:20260703T193000
DTEND;TZID=America/Los_Angeles:20260703T213000
DTSTAMP:20260423T235859
CREATED:20251205T014506Z
LAST-MODIFIED:20260331T162246Z
UID:10010268-1783107000-1783114200@northbeachlive.com
SUMMARY:The Mina Project
DESCRIPTION:THE MINA PROJECT represents the music of Italian singer Mina Mazzini in her tradition\, in\nparticular\, paying tribute to her songs of the 1960’s and 1970’s. \nMina is considered the most successful proponent of the canzone italiana through Italian\nmainstream pop music. Mina’s work combines classic Italian pop with elements of Jazz\, Blues\,\nSwing\, R&B and Soul. Her work spans 5 decades\, and\, having sold over 150 million records\nworldwide\, she is the most prolific and versatile pop singer in Italian music to this day\, \nAsk any Italian citizen… they all know MINA! \nTHE MINA PROJECT consists of:\nAnne-Marie Russo on vocals as Mina (Anne-Marie lived in Italy for a decade)\nRon Borelli on piano and/or accordion\nLarry Levy on guitar\nJosh Schultheiss on drums
URL:https://northbeachlive.com/event/the-mina-project-3/2026-07-03/
LOCATION:Paris 75\, 515 Broadway\, San Francisco\, CA\, 94133\, United States
CATEGORIES:Live Music
ATTACH;FMTTYPE=image/png:https://northbeachlive.com/wp-content/uploads/2025/06/Mina-Photo-Promo.png
GEO:37.797891;-122.405783
X-APPLE-STRUCTURED-LOCATION;VALUE=URI;X-ADDRESS=Paris 75 515 Broadway San Francisco CA 94133 United States;X-APPLE-RADIUS=500;X-TITLE=515 Broadway:geo:-122.405783,37.797891
END:VEVENT
BEGIN:VEVENT
DTSTART;TZID=America/Los_Angeles:20260807T193000
DTEND;TZID=America/Los_Angeles:20260807T213000
DTSTAMP:20260423T235859
CREATED:20251205T014506Z
LAST-MODIFIED:20260331T162246Z
UID:10010269-1786131000-1786138200@northbeachlive.com
SUMMARY:The Mina Project
DESCRIPTION:THE MINA PROJECT represents the music of Italian singer Mina Mazzini in her tradition\, in\nparticular\, paying tribute to her songs of the 1960’s and 1970’s. \nMina is considered the most successful proponent of the canzone italiana through Italian\nmainstream pop music. Mina’s work combines classic Italian pop with elements of Jazz\, Blues\,\nSwing\, R&B and Soul. Her work spans 5 decades\, and\, having sold over 150 million records\nworldwide\, she is the most prolific and versatile pop singer in Italian music to this day\, \nAsk any Italian citizen… they all know MINA! \nTHE MINA PROJECT consists of:\nAnne-Marie Russo on vocals as Mina (Anne-Marie lived in Italy for a decade)\nRon Borelli on piano and/or accordion\nLarry Levy on guitar\nJosh Schultheiss on drums
URL:https://northbeachlive.com/event/the-mina-project-3/2026-08-07/
LOCATION:Paris 75\, 515 Broadway\, San Francisco\, CA\, 94133\, United States
CATEGORIES:Live Music
ATTACH;FMTTYPE=image/png:https://northbeachlive.com/wp-content/uploads/2025/06/Mina-Photo-Promo.png
GEO:37.797891;-122.405783
X-APPLE-STRUCTURED-LOCATION;VALUE=URI;X-ADDRESS=Paris 75 515 Broadway San Francisco CA 94133 United States;X-APPLE-RADIUS=500;X-TITLE=515 Broadway:geo:-122.405783,37.797891
END:VEVENT
BEGIN:VEVENT
DTSTART;TZID=America/Los_Angeles:20260904T193000
DTEND;TZID=America/Los_Angeles:20260904T213000
DTSTAMP:20260423T235859
CREATED:20251205T014506Z
LAST-MODIFIED:20260331T162246Z
UID:10012747-1788550200-1788557400@northbeachlive.com
SUMMARY:The Mina Project
DESCRIPTION:THE MINA PROJECT represents the music of Italian singer Mina Mazzini in her tradition\, in\nparticular\, paying tribute to her songs of the 1960’s and 1970’s. \nMina is considered the most successful proponent of the canzone italiana through Italian\nmainstream pop music. Mina’s work combines classic Italian pop with elements of Jazz\, Blues\,\nSwing\, R&B and Soul. Her work spans 5 decades\, and\, having sold over 150 million records\nworldwide\, she is the most prolific and versatile pop singer in Italian music to this day\, \nAsk any Italian citizen… they all know MINA! \nTHE MINA PROJECT consists of:\nAnne-Marie Russo on vocals as Mina (Anne-Marie lived in Italy for a decade)\nRon Borelli on piano and/or accordion\nLarry Levy on guitar\nJosh Schultheiss on drums
URL:https://northbeachlive.com/event/the-mina-project-3/2026-09-04/
LOCATION:Paris 75\, 515 Broadway\, San Francisco\, CA\, 94133\, United States
CATEGORIES:Live Music
ATTACH;FMTTYPE=image/png:https://northbeachlive.com/wp-content/uploads/2025/06/Mina-Photo-Promo.png
GEO:37.797891;-122.405783
X-APPLE-STRUCTURED-LOCATION;VALUE=URI;X-ADDRESS=Paris 75 515 Broadway San Francisco CA 94133 United States;X-APPLE-RADIUS=500;X-TITLE=515 Broadway:geo:-122.405783,37.797891
END:VEVENT
END:VCALENDAR