BEGIN:VCALENDAR
VERSION:2.0
PRODID:-//North Beach Live - ECPv6.15.20//NONSGML v1.0//EN
CALSCALE:GREGORIAN
METHOD:PUBLISH
X-ORIGINAL-URL:https://northbeachlive.com
X-WR-CALDESC:Events for North Beach Live
REFRESH-INTERVAL;VALUE=DURATION:PT1H
X-Robots-Tag:noindex
X-PUBLISHED-TTL:PT1H
BEGIN:VTIMEZONE
TZID:America/Los_Angeles
BEGIN:DAYLIGHT
TZOFFSETFROM:-0800
TZOFFSETTO:-0700
TZNAME:PDT
DTSTART:20250309T100000
END:DAYLIGHT
BEGIN:STANDARD
TZOFFSETFROM:-0700
TZOFFSETTO:-0800
TZNAME:PST
DTSTART:20251102T090000
END:STANDARD
BEGIN:DAYLIGHT
TZOFFSETFROM:-0800
TZOFFSETTO:-0700
TZNAME:PDT
DTSTART:20260308T100000
END:DAYLIGHT
BEGIN:STANDARD
TZOFFSETFROM:-0700
TZOFFSETTO:-0800
TZNAME:PST
DTSTART:20261101T090000
END:STANDARD
BEGIN:DAYLIGHT
TZOFFSETFROM:-0800
TZOFFSETTO:-0700
TZNAME:PDT
DTSTART:20270314T100000
END:DAYLIGHT
BEGIN:STANDARD
TZOFFSETFROM:-0700
TZOFFSETTO:-0800
TZNAME:PST
DTSTART:20271107T090000
END:STANDARD
END:VTIMEZONE
BEGIN:VEVENT
DTSTART;TZID=America/Los_Angeles:20260403T193000
DTEND;TZID=America/Los_Angeles:20260403T213000
DTSTAMP:20260423T212855
CREATED:20251205T014506Z
LAST-MODIFIED:20260331T162246Z
UID:10010265-1775244600-1775251800@northbeachlive.com
SUMMARY:The Mina Project
DESCRIPTION:THE MINA PROJECT represents the music of Italian singer Mina Mazzini in her tradition\, in\nparticular\, paying tribute to her songs of the 1960’s and 1970’s. \nMina is considered the most successful proponent of the canzone italiana through Italian\nmainstream pop music. Mina’s work combines classic Italian pop with elements of Jazz\, Blues\,\nSwing\, R&B and Soul. Her work spans 5 decades\, and\, having sold over 150 million records\nworldwide\, she is the most prolific and versatile pop singer in Italian music to this day\, \nAsk any Italian citizen… they all know MINA! \nTHE MINA PROJECT consists of:\nAnne-Marie Russo on vocals as Mina (Anne-Marie lived in Italy for a decade)\nRon Borelli on piano and/or accordion\nLarry Levy on guitar\nJosh Schultheiss on drums
URL:https://northbeachlive.com/event/the-mina-project-3/2026-04-03/
LOCATION:Paris 75\, 515 Broadway\, San Francisco\, CA\, 94133\, United States
CATEGORIES:Live Music
ATTACH;FMTTYPE=image/png:https://northbeachlive.com/wp-content/uploads/2025/06/Mina-Photo-Promo.png
GEO:37.797891;-122.405783
X-APPLE-STRUCTURED-LOCATION;VALUE=URI;X-ADDRESS=Paris 75 515 Broadway San Francisco CA 94133 United States;X-APPLE-RADIUS=500;X-TITLE=515 Broadway:geo:-122.405783,37.797891
END:VEVENT
BEGIN:VEVENT
DTSTART;TZID=America/Los_Angeles:20260331T190000
DTEND;TZID=America/Los_Angeles:20260331T210000
DTSTAMP:20260423T212855
CREATED:20260116T010106Z
LAST-MODIFIED:20260329T160437Z
UID:10012746-1774983600-1774990800@northbeachlive.com
SUMMARY:The MINA Project
DESCRIPTION:Experience a journey to 1960s Rome as The Mina Project takes the stage at the historic Savoy Tivoli. This San Francisco-based ensemble is dedicated to the legacy of Mina Mazzini\, Italy’s most iconic and prolific vocalist\, whose work defined the sound of the modern era across six decades. \nThe Music \nThe Mina Project focuses on the hits of the 1960s and 70s\, a period where Italian pop intersected with jazz\, bossa nova\, and soul. Lead vocalist Anne-Marie Russo—who spent over a decade living and performing in Rome—captures the technical range and charismatic stage presence that made Mina a global sensation. \nThe quartet delivers a polished\, instrumental foundation featuring: \nAccordion: Ron Borelli \nGuitar: Larry Levy \nDrums: Josh Schultheiss \nTogether\, they recreate the sophisticated\, cinematic atmosphere of the Via Veneto\, blending classic melodies with rhythmic jazz arrangements. \nThe Setting \nSavoy Tivoli provides the perfect architectural backdrop for this retro-continental sound. Located on upper Grant Avenue\, the venue’s expansive\, canopy-covered patio and vintage interior have made it a North Beach landmark since 1907. It is a space designed for neighborhood connection\, offering a relaxed environment to enjoy high-caliber live music while the energy of the district moves past the sidewalk.
URL:https://northbeachlive.com/event/the-mina-project/
LOCATION:Savoy Tivoli\, 1434 Grant Ave\, San Francisco\, CA\, 94133\, United States
CATEGORIES:Live Music
ATTACH;FMTTYPE=image/png:https://northbeachlive.com/wp-content/uploads/2025/06/Mina-Photo-Promo.png
GEO:37.80004;-122.407373
X-APPLE-STRUCTURED-LOCATION;VALUE=URI;X-ADDRESS=Savoy Tivoli 1434 Grant Ave San Francisco CA 94133 United States;X-APPLE-RADIUS=500;X-TITLE=1434 Grant Ave:geo:-122.407373,37.80004
END:VEVENT
BEGIN:VEVENT
DTSTART;TZID=America/Los_Angeles:20260306T193000
DTEND;TZID=America/Los_Angeles:20260306T213000
DTSTAMP:20260423T212855
CREATED:20251205T014506Z
LAST-MODIFIED:20260331T162246Z
UID:10010264-1772825400-1772832600@northbeachlive.com
SUMMARY:The Mina Project
DESCRIPTION:THE MINA PROJECT represents the music of Italian singer Mina Mazzini in her tradition\, in\nparticular\, paying tribute to her songs of the 1960’s and 1970’s. \nMina is considered the most successful proponent of the canzone italiana through Italian\nmainstream pop music. Mina’s work combines classic Italian pop with elements of Jazz\, Blues\,\nSwing\, R&B and Soul. Her work spans 5 decades\, and\, having sold over 150 million records\nworldwide\, she is the most prolific and versatile pop singer in Italian music to this day\, \nAsk any Italian citizen… they all know MINA! \nTHE MINA PROJECT consists of:\nAnne-Marie Russo on vocals as Mina (Anne-Marie lived in Italy for a decade)\nRon Borelli on piano and/or accordion\nLarry Levy on guitar\nJosh Schultheiss on drums
URL:https://northbeachlive.com/event/the-mina-project-3/2026-03-06/
LOCATION:Paris 75\, 515 Broadway\, San Francisco\, CA\, 94133\, United States
CATEGORIES:Live Music
ATTACH;FMTTYPE=image/png:https://northbeachlive.com/wp-content/uploads/2025/06/Mina-Photo-Promo.png
GEO:37.797891;-122.405783
X-APPLE-STRUCTURED-LOCATION;VALUE=URI;X-ADDRESS=Paris 75 515 Broadway San Francisco CA 94133 United States;X-APPLE-RADIUS=500;X-TITLE=515 Broadway:geo:-122.405783,37.797891
END:VEVENT
BEGIN:VEVENT
DTSTART;TZID=America/Los_Angeles:20260206T193000
DTEND;TZID=America/Los_Angeles:20260206T213000
DTSTAMP:20260423T212855
CREATED:20251205T014506Z
LAST-MODIFIED:20260331T162246Z
UID:10010263-1770406200-1770413400@northbeachlive.com
SUMMARY:The Mina Project
DESCRIPTION:THE MINA PROJECT represents the music of Italian singer Mina Mazzini in her tradition\, in\nparticular\, paying tribute to her songs of the 1960’s and 1970’s. \nMina is considered the most successful proponent of the canzone italiana through Italian\nmainstream pop music. Mina’s work combines classic Italian pop with elements of Jazz\, Blues\,\nSwing\, R&B and Soul. Her work spans 5 decades\, and\, having sold over 150 million records\nworldwide\, she is the most prolific and versatile pop singer in Italian music to this day\, \nAsk any Italian citizen… they all know MINA! \nTHE MINA PROJECT consists of:\nAnne-Marie Russo on vocals as Mina (Anne-Marie lived in Italy for a decade)\nRon Borelli on piano and/or accordion\nLarry Levy on guitar\nJosh Schultheiss on drums
URL:https://northbeachlive.com/event/the-mina-project-3/2026-02-06/
LOCATION:Paris 75\, 515 Broadway\, San Francisco\, CA\, 94133\, United States
CATEGORIES:Live Music
ATTACH;FMTTYPE=image/png:https://northbeachlive.com/wp-content/uploads/2025/06/Mina-Photo-Promo.png
GEO:37.797891;-122.405783
X-APPLE-STRUCTURED-LOCATION;VALUE=URI;X-ADDRESS=Paris 75 515 Broadway San Francisco CA 94133 United States;X-APPLE-RADIUS=500;X-TITLE=515 Broadway:geo:-122.405783,37.797891
END:VEVENT
END:VCALENDAR