BEGIN:VCALENDAR
VERSION:2.0
PRODID:-//North Beach Live - ECPv6.15.20//NONSGML v1.0//EN
CALSCALE:GREGORIAN
METHOD:PUBLISH
X-WR-CALNAME:North Beach Live
X-ORIGINAL-URL:https://northbeachlive.com
X-WR-CALDESC:Events for North Beach Live
REFRESH-INTERVAL;VALUE=DURATION:PT1H
X-Robots-Tag:noindex
X-PUBLISHED-TTL:PT1H
BEGIN:VTIMEZONE
TZID:America/Los_Angeles
BEGIN:DAYLIGHT
TZOFFSETFROM:-0800
TZOFFSETTO:-0700
TZNAME:PDT
DTSTART:20250309T100000
END:DAYLIGHT
BEGIN:STANDARD
TZOFFSETFROM:-0700
TZOFFSETTO:-0800
TZNAME:PST
DTSTART:20251102T090000
END:STANDARD
BEGIN:DAYLIGHT
TZOFFSETFROM:-0800
TZOFFSETTO:-0700
TZNAME:PDT
DTSTART:20260308T100000
END:DAYLIGHT
BEGIN:STANDARD
TZOFFSETFROM:-0700
TZOFFSETTO:-0800
TZNAME:PST
DTSTART:20261101T090000
END:STANDARD
BEGIN:DAYLIGHT
TZOFFSETFROM:-0800
TZOFFSETTO:-0700
TZNAME:PDT
DTSTART:20270314T100000
END:DAYLIGHT
BEGIN:STANDARD
TZOFFSETFROM:-0700
TZOFFSETTO:-0800
TZNAME:PST
DTSTART:20271107T090000
END:STANDARD
END:VTIMEZONE
BEGIN:VEVENT
DTSTART;TZID=America/Los_Angeles:20260412T213000
DTEND;TZID=America/Los_Angeles:20260413T013000
DTSTAMP:20260425T033246
CREATED:20251101T194456Z
LAST-MODIFIED:20260403T024413Z
UID:10015896-1776029400-1776043800@northbeachlive.com
SUMMARY:Jon Otis & BluBeatz
DESCRIPTION:The Blu Beatz sound is a kaleidoscopic fusion of Jazz\, Blues\, R&B\, Rock & Roll\, Pop\, Salsa\, Latin Jazz\, Brazilian\, Afro-Caribbean\, Folk\, Classical\, Afro\, and Middle Eastern & Eastern rhythms. \nThe Saloon—San Francisco’s oldest operating tavern—hosts the “BluBeatz” sound of Jon Otis. Stepping into this Grant Avenue institution is like stepping back to 1861; with its original carved wooden bar and storied “stout timbers” that survived the 1906 quake. \nThe Artist: Jon Otis\, son of the “Godfather of Rhythm and Blues” Johnny Otis\, carries on a formidable musical dynasty. A master drummer\, percussionist\, and vocalist\, Jon has spent decades touring with greats like Solomon Burke and his brother Shuggie Otis. \nThe Setting: The Saloon is an unapologetic\, no-frills dive bar where the music is loud and the history is thick. There are no fancy craft cocktails here—just cold beer\, stiff shots\, and a “Dolby on steroids” sound system that makes every kick drum hit resonate in your chest. \nThe Experience: This is a “late show” staple. As the fog rolls through North Beach\, the interior of The Saloon heats up into one of the city’s most authentic dance scenes. Expect a diverse mix of neighborhood legends\, blues aficionados\, and travelers all unified by the groove.
URL:https://northbeachlive.com/event/jon-otis-blu-beats-3/2026-04-12/
LOCATION:The Saloon\, 1232 Grant Ave\, San Francisco\, CA\, 94133\, United States
CATEGORIES:Live Music
ATTACH;FMTTYPE=image/png:https://northbeachlive.com/wp-content/uploads/2025/11/IMG_0309.png
GEO:37.79849;-122.407149
X-APPLE-STRUCTURED-LOCATION;VALUE=URI;X-ADDRESS=The Saloon 1232 Grant Ave San Francisco CA 94133 United States;X-APPLE-RADIUS=500;X-TITLE=1232 Grant Ave:geo:-122.407149,37.79849
END:VEVENT
END:VCALENDAR