BEGIN:VCALENDAR
VERSION:2.0
PRODID:-//North Beach Live - ECPv6.15.20//NONSGML v1.0//EN
CALSCALE:GREGORIAN
METHOD:PUBLISH
X-ORIGINAL-URL:https://northbeachlive.com
X-WR-CALDESC:Events for North Beach Live
REFRESH-INTERVAL;VALUE=DURATION:PT1H
X-Robots-Tag:noindex
X-PUBLISHED-TTL:PT1H
BEGIN:VTIMEZONE
TZID:America/Los_Angeles
BEGIN:DAYLIGHT
TZOFFSETFROM:-0800
TZOFFSETTO:-0700
TZNAME:PDT
DTSTART:20250309T100000
END:DAYLIGHT
BEGIN:STANDARD
TZOFFSETFROM:-0700
TZOFFSETTO:-0800
TZNAME:PST
DTSTART:20251102T090000
END:STANDARD
BEGIN:DAYLIGHT
TZOFFSETFROM:-0800
TZOFFSETTO:-0700
TZNAME:PDT
DTSTART:20260308T100000
END:DAYLIGHT
BEGIN:STANDARD
TZOFFSETFROM:-0700
TZOFFSETTO:-0800
TZNAME:PST
DTSTART:20261101T090000
END:STANDARD
BEGIN:DAYLIGHT
TZOFFSETFROM:-0800
TZOFFSETTO:-0700
TZNAME:PDT
DTSTART:20270314T100000
END:DAYLIGHT
BEGIN:STANDARD
TZOFFSETFROM:-0700
TZOFFSETTO:-0800
TZNAME:PST
DTSTART:20271107T090000
END:STANDARD
END:VTIMEZONE
BEGIN:VEVENT
DTSTART;TZID=America/Los_Angeles:20260419T180000
DTEND;TZID=America/Los_Angeles:20260419T200000
DTSTAMP:20260422T062327
CREATED:20260108T004351Z
LAST-MODIFIED:20260415T172739Z
UID:10016762-1776621600-1776628800@northbeachlive.com
SUMMARY:Alexandra Rieloff Jazz Trio
DESCRIPTION:Spend your Sunday afternoon immersed in the sultry\, soulful sounds of the Alexandra Rieloff Trio at Otherwise Brewing. Known for her versatile background as a choreographer and filmmaker\, Brooklyn-born Chilean vocalist Alexandra Rieloff brings a cinematic elegance to her jazz performances. This intimate set will feature a timeless repertoire of Jazz Standards\, Bossa Nova\, and Boleros\, perfectly curated to complement the airy\, inclusive atmosphere of the North Beach taproom. \n A sophisticated blend of smooth melodies and Latin-inspired rhythms. Alexandra is typically joined by a seasoned trio\, often featuring Mark Holzinger on guitar and Rob Bassinette on bass\, creating a rich but relaxed soundscape. \nNo cover (though tipping the musicians is always encouraged!).
URL:https://northbeachlive.com/event/alexandra-rieloff-jazz-trio/2026-04-19/
LOCATION:Otherwise Brewing\, 1402 Grant Ave\, San Francisco\, CA\, 94133\, United States
CATEGORIES:Live Music
ATTACH;FMTTYPE=image/webp:https://northbeachlive.com/wp-content/uploads/2025/07/IMG_0062.webp
GEO:37.799735;-122.407324
X-APPLE-STRUCTURED-LOCATION;VALUE=URI;X-ADDRESS=Otherwise Brewing 1402 Grant Ave San Francisco CA 94133 United States;X-APPLE-RADIUS=500;X-TITLE=1402 Grant Ave:geo:-122.407324,37.799735
END:VEVENT
END:VCALENDAR