BEGIN:VCALENDAR
VERSION:2.0
PRODID:-//North Beach Live - ECPv6.15.20//NONSGML v1.0//EN
CALSCALE:GREGORIAN
METHOD:PUBLISH
X-ORIGINAL-URL:https://northbeachlive.com
X-WR-CALDESC:Events for North Beach Live
REFRESH-INTERVAL;VALUE=DURATION:PT1H
X-Robots-Tag:noindex
X-PUBLISHED-TTL:PT1H
BEGIN:VTIMEZONE
TZID:America/Los_Angeles
BEGIN:DAYLIGHT
TZOFFSETFROM:-0800
TZOFFSETTO:-0700
TZNAME:PDT
DTSTART:20250309T100000
END:DAYLIGHT
BEGIN:STANDARD
TZOFFSETFROM:-0700
TZOFFSETTO:-0800
TZNAME:PST
DTSTART:20251102T090000
END:STANDARD
BEGIN:DAYLIGHT
TZOFFSETFROM:-0800
TZOFFSETTO:-0700
TZNAME:PDT
DTSTART:20260308T100000
END:DAYLIGHT
BEGIN:STANDARD
TZOFFSETFROM:-0700
TZOFFSETTO:-0800
TZNAME:PST
DTSTART:20261101T090000
END:STANDARD
BEGIN:DAYLIGHT
TZOFFSETFROM:-0800
TZOFFSETTO:-0700
TZNAME:PDT
DTSTART:20270314T100000
END:DAYLIGHT
BEGIN:STANDARD
TZOFFSETFROM:-0700
TZOFFSETTO:-0800
TZNAME:PST
DTSTART:20271107T090000
END:STANDARD
END:VTIMEZONE
BEGIN:VEVENT
DTSTART;TZID=America/Los_Angeles:20260423T180000
DTEND;TZID=America/Los_Angeles:20260423T210000
DTSTAMP:20260421T124546
CREATED:20260226T025041Z
LAST-MODIFIED:20260414T014127Z
UID:10014372-1776967200-1776978000@northbeachlive.com
SUMMARY:Viajó de la Música
DESCRIPTION:Viajó de la Música brings a traveling soundtrack of Latin jazz\, boleros to the intimate wine‑bar glow of Scopo Divino. Led by saxophonist Renner\, this jazz quartet moves effortlessly from bossa and samba to slow‑dance ballads\, weaving guitars\, percussion\, and rich vocals into one continuous journey. Expect romantic melodies\, hypnotic grooves\, and a set list that feels like wandering through nightspots from Havana to Rio to San Francisco. Pair a glass of something bold with the music and let the room turn into your own little passport stamp for the evening.
URL:https://northbeachlive.com/event/latin-jazz-with-viajo-de-la-musica-2/2026-04-23/
LOCATION:Scopo Divino\, 2800 California St #101\, San Francisco\, CA\, 94115\, United States
CATEGORIES:Live Music
ATTACH;FMTTYPE=image/webp:https://northbeachlive.com/wp-content/uploads/2025/10/IMG_0134-e1773341083397.webp
END:VEVENT
BEGIN:VEVENT
DTSTART;TZID=America/Los_Angeles:20260424T190000
DTEND;TZID=America/Los_Angeles:20260424T203000
DTSTAMP:20260421T124546
CREATED:20260416T201306Z
LAST-MODIFIED:20260416T201306Z
UID:10016582-1777057200-1777062600@northbeachlive.com
SUMMARY:Pete Rodriguez Quintet
DESCRIPTION:Trumpeter\, vocalist\, and percussionist Pete Rodríguez\, featured on three Grammy-winning records\, commands the stage with fiery energy and masterful artistry. \nHe’s collaborated with legends like Tito Puente\, Branford Marsalis\, and Eddie Palmieri. His original compositions highlight his incredible technique and sound. With a bold\, modern jazz style\, his work is narrative-driven and timeless. \nRodriguez has family roots in Latin jazz\, he played classical music with the symphony orchestra in Puerto Rico and pursued his DMA in Jazz Performance. “These varied experiences help explain music that is not only instrumentally ferocious\, but texturally rich and at times\, profoundly intimate.” – Downbeat. \nBand Lineup: Pete Rodríguez\, Trumpet/ Voice Esteban Castro\, Piano Jon Beshay\, Sax Nico Martinez\, Bass Francisco Alcala\, Drums
URL:https://northbeachlive.com/event/pete-rodriguez-quintet/2026-04-24/1/
LOCATION:Black Cat Jazz Supper Club\, 400 Eddy St\, San Francisco\, CA\, 94109\, United States
CATEGORIES:Live Music
ATTACH;FMTTYPE=image/webp:https://northbeachlive.com/wp-content/uploads/2026/04/IMG_0523.webp
END:VEVENT
BEGIN:VEVENT
DTSTART;TZID=America/Los_Angeles:20260424T210000
DTEND;TZID=America/Los_Angeles:20260424T223000
DTSTAMP:20260421T124546
CREATED:20251110T213558Z
LAST-MODIFIED:20260404T021723Z
UID:10015978-1777064400-1777069800@northbeachlive.com
SUMMARY:Ritmo y Voz: Afro-Cuban Jazz Ignited
DESCRIPTION:Immerse yourself in the electrifying world of “Ritmo y Voz”\, where the deep-rooted traditions of Afro-Cuban jazz meet the power of dynamic vocals. This high-energy performance features an all-star lineup\, including guitarist Kai Lyons\, percussion master Ernesto\, bassist Mazar\, and the incomparable Einar Leliebre Nuñez\, whose fiery rhythms and soaring voice bring the soul of Santiago de Cuba to life. Drawing from the rich traditions of Rumba\, Timba\, Changüí\, and Batá\, the group weaves a tapestry of sound that pulses with history\, spirit\, and innovation. Their collective experience includes collaborations with legendary artists like Omar Sosa\, John Santos\, and other torchbearers of the Afro-Cuban and Latin jazz traditions.\nEinar “Tito” Leliebre – Vocals\, Percussion\nErnesto Kindelan Mazar- Bass\nKai Lyons-Guitar
URL:https://northbeachlive.com/event/ritmo-y-voz-afro-cuban-jazz-ignited-3/2026-04-24/
LOCATION:Keys Jazz Bistro\, 498 Broadway\, San Francisco\, CA\, 94133\, United States
CATEGORIES:Live Music
ATTACH;FMTTYPE=image/jpeg:https://northbeachlive.com/wp-content/uploads/2025/11/IMG_0079.jpeg
GEO:37.798017;-122.405473
X-APPLE-STRUCTURED-LOCATION;VALUE=URI;X-ADDRESS=Keys Jazz Bistro 498 Broadway San Francisco CA 94133 United States;X-APPLE-RADIUS=500;X-TITLE=498 Broadway:geo:-122.405473,37.798017
END:VEVENT
BEGIN:VEVENT
DTSTART;TZID=America/Los_Angeles:20260424T213000
DTEND;TZID=America/Los_Angeles:20260424T230000
DTSTAMP:20260421T124546
CREATED:20260416T201306Z
LAST-MODIFIED:20260416T201306Z
UID:10016583-1777066200-1777071600@northbeachlive.com
SUMMARY:Pete Rodriguez Quintet
DESCRIPTION:Trumpeter\, vocalist\, and percussionist Pete Rodríguez\, featured on three Grammy-winning records\, commands the stage with fiery energy and masterful artistry. \nHe’s collaborated with legends like Tito Puente\, Branford Marsalis\, and Eddie Palmieri. His original compositions highlight his incredible technique and sound. With a bold\, modern jazz style\, his work is narrative-driven and timeless. \nRodriguez has family roots in Latin jazz\, he played classical music with the symphony orchestra in Puerto Rico and pursued his DMA in Jazz Performance. “These varied experiences help explain music that is not only instrumentally ferocious\, but texturally rich and at times\, profoundly intimate.” – Downbeat. \nBand Lineup: Pete Rodríguez\, Trumpet/ Voice Esteban Castro\, Piano Jon Beshay\, Sax Nico Martinez\, Bass Francisco Alcala\, Drums
URL:https://northbeachlive.com/event/pete-rodriguez-quintet/2026-04-24/2/
LOCATION:Black Cat Jazz Supper Club\, 400 Eddy St\, San Francisco\, CA\, 94109\, United States
CATEGORIES:Live Music
ATTACH;FMTTYPE=image/webp:https://northbeachlive.com/wp-content/uploads/2026/04/IMG_0523.webp
END:VEVENT
BEGIN:VEVENT
DTSTART;TZID=America/Los_Angeles:20260425T190000
DTEND;TZID=America/Los_Angeles:20260425T203000
DTSTAMP:20260421T124546
CREATED:20260416T201306Z
LAST-MODIFIED:20260416T201306Z
UID:10016584-1777143600-1777149000@northbeachlive.com
SUMMARY:Pete Rodriguez Quintet
DESCRIPTION:Trumpeter\, vocalist\, and percussionist Pete Rodríguez\, featured on three Grammy-winning records\, commands the stage with fiery energy and masterful artistry. \nHe’s collaborated with legends like Tito Puente\, Branford Marsalis\, and Eddie Palmieri. His original compositions highlight his incredible technique and sound. With a bold\, modern jazz style\, his work is narrative-driven and timeless. \nRodriguez has family roots in Latin jazz\, he played classical music with the symphony orchestra in Puerto Rico and pursued his DMA in Jazz Performance. “These varied experiences help explain music that is not only instrumentally ferocious\, but texturally rich and at times\, profoundly intimate.” – Downbeat. \nBand Lineup: Pete Rodríguez\, Trumpet/ Voice Esteban Castro\, Piano Jon Beshay\, Sax Nico Martinez\, Bass Francisco Alcala\, Drums
URL:https://northbeachlive.com/event/pete-rodriguez-quintet/2026-04-25/1/
LOCATION:Black Cat Jazz Supper Club\, 400 Eddy St\, San Francisco\, CA\, 94109\, United States
CATEGORIES:Live Music
ATTACH;FMTTYPE=image/webp:https://northbeachlive.com/wp-content/uploads/2026/04/IMG_0523.webp
END:VEVENT
BEGIN:VEVENT
DTSTART;TZID=America/Los_Angeles:20260425T213000
DTEND;TZID=America/Los_Angeles:20260425T230000
DTSTAMP:20260421T124546
CREATED:20260416T201306Z
LAST-MODIFIED:20260416T201306Z
UID:10016585-1777152600-1777158000@northbeachlive.com
SUMMARY:Pete Rodriguez Quintet
DESCRIPTION:Trumpeter\, vocalist\, and percussionist Pete Rodríguez\, featured on three Grammy-winning records\, commands the stage with fiery energy and masterful artistry. \nHe’s collaborated with legends like Tito Puente\, Branford Marsalis\, and Eddie Palmieri. His original compositions highlight his incredible technique and sound. With a bold\, modern jazz style\, his work is narrative-driven and timeless. \nRodriguez has family roots in Latin jazz\, he played classical music with the symphony orchestra in Puerto Rico and pursued his DMA in Jazz Performance. “These varied experiences help explain music that is not only instrumentally ferocious\, but texturally rich and at times\, profoundly intimate.” – Downbeat. \nBand Lineup: Pete Rodríguez\, Trumpet/ Voice Esteban Castro\, Piano Jon Beshay\, Sax Nico Martinez\, Bass Francisco Alcala\, Drums
URL:https://northbeachlive.com/event/pete-rodriguez-quintet/2026-04-25/2/
LOCATION:Black Cat Jazz Supper Club\, 400 Eddy St\, San Francisco\, CA\, 94109\, United States
CATEGORIES:Live Music
ATTACH;FMTTYPE=image/webp:https://northbeachlive.com/wp-content/uploads/2026/04/IMG_0523.webp
END:VEVENT
BEGIN:VEVENT
DTSTART;TZID=America/Los_Angeles:20260426T190000
DTEND;TZID=America/Los_Angeles:20260426T203000
DTSTAMP:20260421T124546
CREATED:20260416T201306Z
LAST-MODIFIED:20260416T201306Z
UID:10016586-1777230000-1777235400@northbeachlive.com
SUMMARY:Pete Rodriguez Quintet
DESCRIPTION:Trumpeter\, vocalist\, and percussionist Pete Rodríguez\, featured on three Grammy-winning records\, commands the stage with fiery energy and masterful artistry. \nHe’s collaborated with legends like Tito Puente\, Branford Marsalis\, and Eddie Palmieri. His original compositions highlight his incredible technique and sound. With a bold\, modern jazz style\, his work is narrative-driven and timeless. \nRodriguez has family roots in Latin jazz\, he played classical music with the symphony orchestra in Puerto Rico and pursued his DMA in Jazz Performance. “These varied experiences help explain music that is not only instrumentally ferocious\, but texturally rich and at times\, profoundly intimate.” – Downbeat. \nBand Lineup: Pete Rodríguez\, Trumpet/ Voice Esteban Castro\, Piano Jon Beshay\, Sax Nico Martinez\, Bass Francisco Alcala\, Drums
URL:https://northbeachlive.com/event/pete-rodriguez-quintet/2026-04-26/1/
LOCATION:Black Cat Jazz Supper Club\, 400 Eddy St\, San Francisco\, CA\, 94109\, United States
CATEGORIES:Live Music
ATTACH;FMTTYPE=image/webp:https://northbeachlive.com/wp-content/uploads/2026/04/IMG_0523.webp
END:VEVENT
BEGIN:VEVENT
DTSTART;TZID=America/Los_Angeles:20260426T211500
DTEND;TZID=America/Los_Angeles:20260426T224500
DTSTAMP:20260421T124546
CREATED:20260416T201306Z
LAST-MODIFIED:20260416T201306Z
UID:10016587-1777238100-1777243500@northbeachlive.com
SUMMARY:Pete Rodriguez Quintet
DESCRIPTION:Trumpeter\, vocalist\, and percussionist Pete Rodríguez\, featured on three Grammy-winning records\, commands the stage with fiery energy and masterful artistry. \nHe’s collaborated with legends like Tito Puente\, Branford Marsalis\, and Eddie Palmieri. His original compositions highlight his incredible technique and sound. With a bold\, modern jazz style\, his work is narrative-driven and timeless. \nRodriguez has family roots in Latin jazz\, he played classical music with the symphony orchestra in Puerto Rico and pursued his DMA in Jazz Performance. “These varied experiences help explain music that is not only instrumentally ferocious\, but texturally rich and at times\, profoundly intimate.” – Downbeat. \nBand Lineup: Pete Rodríguez\, Trumpet/ Voice Esteban Castro\, Piano Jon Beshay\, Sax Nico Martinez\, Bass Francisco Alcala\, Drums
URL:https://northbeachlive.com/event/pete-rodriguez-quintet/2026-04-26/2/
LOCATION:Black Cat Jazz Supper Club\, 400 Eddy St\, San Francisco\, CA\, 94109\, United States
CATEGORIES:Live Music
ATTACH;FMTTYPE=image/webp:https://northbeachlive.com/wp-content/uploads/2026/04/IMG_0523.webp
END:VEVENT
BEGIN:VEVENT
DTSTART;TZID=America/Los_Angeles:20260429T203000
DTEND;TZID=America/Los_Angeles:20260429T235900
DTSTAMP:20260421T124546
CREATED:20260322T141109Z
LAST-MODIFIED:20260410T133217Z
UID:10016578-1777494600-1777507140@northbeachlive.com
SUMMARY:WestSide Jazz Club
DESCRIPTION:This is a high-energy quartet known for blending traditional jazz with funk\, soul\, and Latin rhythms. \nThe Band: Fronted by tenor saxophonist and vocalist Scotty Silver (Scott Silverberg). The lineup typically includes John Watson (Guitar)\, Craig Kleinman (Bass)\, and Chris Gamper (Drums). \n***Local Edition closed for a Private Event until 11pm.**
URL:https://northbeachlive.com/event/westside-jazz-club-2/2026-04-29/
LOCATION:Local Edition\, 691 Market St\, San Francisco\, CA\, 94105\, United States
CATEGORIES:Live Music
ATTACH;FMTTYPE=image/png:https://northbeachlive.com/wp-content/uploads/2026/02/IMG_0288-e1771091110289.png
END:VEVENT
BEGIN:VEVENT
DTSTART;TZID=America/Los_Angeles:20260430T180000
DTEND;TZID=America/Los_Angeles:20260430T210000
DTSTAMP:20260421T124546
CREATED:20260226T025041Z
LAST-MODIFIED:20260414T014127Z
UID:10014373-1777572000-1777582800@northbeachlive.com
SUMMARY:Viajó de la Música
DESCRIPTION:Viajó de la Música brings a traveling soundtrack of Latin jazz\, boleros to the intimate wine‑bar glow of Scopo Divino. Led by saxophonist Renner\, this jazz quartet moves effortlessly from bossa and samba to slow‑dance ballads\, weaving guitars\, percussion\, and rich vocals into one continuous journey. Expect romantic melodies\, hypnotic grooves\, and a set list that feels like wandering through nightspots from Havana to Rio to San Francisco. Pair a glass of something bold with the music and let the room turn into your own little passport stamp for the evening.
URL:https://northbeachlive.com/event/latin-jazz-with-viajo-de-la-musica-2/2026-04-30/
LOCATION:Scopo Divino\, 2800 California St #101\, San Francisco\, CA\, 94115\, United States
CATEGORIES:Live Music
ATTACH;FMTTYPE=image/webp:https://northbeachlive.com/wp-content/uploads/2025/10/IMG_0134-e1773341083397.webp
END:VEVENT
BEGIN:VEVENT
DTSTART;TZID=America/Los_Angeles:20260507T180000
DTEND;TZID=America/Los_Angeles:20260507T210000
DTSTAMP:20260421T124546
CREATED:20260226T025041Z
LAST-MODIFIED:20260414T014127Z
UID:10014374-1778176800-1778187600@northbeachlive.com
SUMMARY:Viajó de la Música
DESCRIPTION:Viajó de la Música brings a traveling soundtrack of Latin jazz\, boleros to the intimate wine‑bar glow of Scopo Divino. Led by saxophonist Renner\, this jazz quartet moves effortlessly from bossa and samba to slow‑dance ballads\, weaving guitars\, percussion\, and rich vocals into one continuous journey. Expect romantic melodies\, hypnotic grooves\, and a set list that feels like wandering through nightspots from Havana to Rio to San Francisco. Pair a glass of something bold with the music and let the room turn into your own little passport stamp for the evening.
URL:https://northbeachlive.com/event/latin-jazz-with-viajo-de-la-musica-2/2026-05-07/
LOCATION:Scopo Divino\, 2800 California St #101\, San Francisco\, CA\, 94115\, United States
CATEGORIES:Live Music
ATTACH;FMTTYPE=image/webp:https://northbeachlive.com/wp-content/uploads/2025/10/IMG_0134-e1773341083397.webp
END:VEVENT
BEGIN:VEVENT
DTSTART;TZID=America/Los_Angeles:20260514T180000
DTEND;TZID=America/Los_Angeles:20260514T210000
DTSTAMP:20260421T124546
CREATED:20260226T025041Z
LAST-MODIFIED:20260414T014127Z
UID:10014375-1778781600-1778792400@northbeachlive.com
SUMMARY:Viajó de la Música
DESCRIPTION:Viajó de la Música brings a traveling soundtrack of Latin jazz\, boleros to the intimate wine‑bar glow of Scopo Divino. Led by saxophonist Renner\, this jazz quartet moves effortlessly from bossa and samba to slow‑dance ballads\, weaving guitars\, percussion\, and rich vocals into one continuous journey. Expect romantic melodies\, hypnotic grooves\, and a set list that feels like wandering through nightspots from Havana to Rio to San Francisco. Pair a glass of something bold with the music and let the room turn into your own little passport stamp for the evening.
URL:https://northbeachlive.com/event/latin-jazz-with-viajo-de-la-musica-2/2026-05-14/
LOCATION:Scopo Divino\, 2800 California St #101\, San Francisco\, CA\, 94115\, United States
CATEGORIES:Live Music
ATTACH;FMTTYPE=image/webp:https://northbeachlive.com/wp-content/uploads/2025/10/IMG_0134-e1773341083397.webp
END:VEVENT
BEGIN:VEVENT
DTSTART;TZID=America/Los_Angeles:20260521T180000
DTEND;TZID=America/Los_Angeles:20260521T210000
DTSTAMP:20260421T124546
CREATED:20260226T025041Z
LAST-MODIFIED:20260414T014127Z
UID:10014376-1779386400-1779397200@northbeachlive.com
SUMMARY:Viajó de la Música
DESCRIPTION:Viajó de la Música brings a traveling soundtrack of Latin jazz\, boleros to the intimate wine‑bar glow of Scopo Divino. Led by saxophonist Renner\, this jazz quartet moves effortlessly from bossa and samba to slow‑dance ballads\, weaving guitars\, percussion\, and rich vocals into one continuous journey. Expect romantic melodies\, hypnotic grooves\, and a set list that feels like wandering through nightspots from Havana to Rio to San Francisco. Pair a glass of something bold with the music and let the room turn into your own little passport stamp for the evening.
URL:https://northbeachlive.com/event/latin-jazz-with-viajo-de-la-musica-2/2026-05-21/
LOCATION:Scopo Divino\, 2800 California St #101\, San Francisco\, CA\, 94115\, United States
CATEGORIES:Live Music
ATTACH;FMTTYPE=image/webp:https://northbeachlive.com/wp-content/uploads/2025/10/IMG_0134-e1773341083397.webp
END:VEVENT
BEGIN:VEVENT
DTSTART;TZID=America/Los_Angeles:20260528T180000
DTEND;TZID=America/Los_Angeles:20260528T210000
DTSTAMP:20260421T124546
CREATED:20260226T025041Z
LAST-MODIFIED:20260414T014127Z
UID:10014377-1779991200-1780002000@northbeachlive.com
SUMMARY:Viajó de la Música
DESCRIPTION:Viajó de la Música brings a traveling soundtrack of Latin jazz\, boleros to the intimate wine‑bar glow of Scopo Divino. Led by saxophonist Renner\, this jazz quartet moves effortlessly from bossa and samba to slow‑dance ballads\, weaving guitars\, percussion\, and rich vocals into one continuous journey. Expect romantic melodies\, hypnotic grooves\, and a set list that feels like wandering through nightspots from Havana to Rio to San Francisco. Pair a glass of something bold with the music and let the room turn into your own little passport stamp for the evening.
URL:https://northbeachlive.com/event/latin-jazz-with-viajo-de-la-musica-2/2026-05-28/
LOCATION:Scopo Divino\, 2800 California St #101\, San Francisco\, CA\, 94115\, United States
CATEGORIES:Live Music
ATTACH;FMTTYPE=image/webp:https://northbeachlive.com/wp-content/uploads/2025/10/IMG_0134-e1773341083397.webp
END:VEVENT
END:VCALENDAR