BEGIN:VCALENDAR
VERSION:2.0
PRODID:-//North Beach Live - ECPv6.15.20//NONSGML v1.0//EN
CALSCALE:GREGORIAN
METHOD:PUBLISH
X-WR-CALNAME:North Beach Live
X-ORIGINAL-URL:https://northbeachlive.com
X-WR-CALDESC:Events for North Beach Live
REFRESH-INTERVAL;VALUE=DURATION:PT1H
X-Robots-Tag:noindex
X-PUBLISHED-TTL:PT1H
BEGIN:VTIMEZONE
TZID:America/Los_Angeles
BEGIN:DAYLIGHT
TZOFFSETFROM:-0800
TZOFFSETTO:-0700
TZNAME:PDT
DTSTART:20250309T100000
END:DAYLIGHT
BEGIN:STANDARD
TZOFFSETFROM:-0700
TZOFFSETTO:-0800
TZNAME:PST
DTSTART:20251102T090000
END:STANDARD
BEGIN:DAYLIGHT
TZOFFSETFROM:-0800
TZOFFSETTO:-0700
TZNAME:PDT
DTSTART:20260308T100000
END:DAYLIGHT
BEGIN:STANDARD
TZOFFSETFROM:-0700
TZOFFSETTO:-0800
TZNAME:PST
DTSTART:20261101T090000
END:STANDARD
BEGIN:DAYLIGHT
TZOFFSETFROM:-0800
TZOFFSETTO:-0700
TZNAME:PDT
DTSTART:20270314T100000
END:DAYLIGHT
BEGIN:STANDARD
TZOFFSETFROM:-0700
TZOFFSETTO:-0800
TZNAME:PST
DTSTART:20271107T090000
END:STANDARD
END:VTIMEZONE
BEGIN:VEVENT
DTSTART;TZID=America/Los_Angeles:20260424T190000
DTEND;TZID=America/Los_Angeles:20260424T203000
DTSTAMP:20260424T083229
CREATED:20260416T201306Z
LAST-MODIFIED:20260416T201306Z
UID:10016582-1777057200-1777062600@northbeachlive.com
SUMMARY:Pete Rodriguez Quintet
DESCRIPTION:Trumpeter\, vocalist\, and percussionist Pete Rodríguez\, featured on three Grammy-winning records\, commands the stage with fiery energy and masterful artistry. \nHe’s collaborated with legends like Tito Puente\, Branford Marsalis\, and Eddie Palmieri. His original compositions highlight his incredible technique and sound. With a bold\, modern jazz style\, his work is narrative-driven and timeless. \nRodriguez has family roots in Latin jazz\, he played classical music with the symphony orchestra in Puerto Rico and pursued his DMA in Jazz Performance. “These varied experiences help explain music that is not only instrumentally ferocious\, but texturally rich and at times\, profoundly intimate.” – Downbeat. \nBand Lineup: Pete Rodríguez\, Trumpet/ Voice Esteban Castro\, Piano Jon Beshay\, Sax Nico Martinez\, Bass Francisco Alcala\, Drums
URL:https://northbeachlive.com/event/pete-rodriguez-quintet/2026-04-24/1/
LOCATION:Black Cat Jazz Supper Club\, 400 Eddy St\, San Francisco\, CA\, 94109\, United States
CATEGORIES:Live Music
ATTACH;FMTTYPE=image/webp:https://northbeachlive.com/wp-content/uploads/2026/04/IMG_0523.webp
END:VEVENT
BEGIN:VEVENT
DTSTART;TZID=America/Los_Angeles:20260424T210000
DTEND;TZID=America/Los_Angeles:20260424T223000
DTSTAMP:20260424T083229
CREATED:20251110T213558Z
LAST-MODIFIED:20260404T021723Z
UID:10015978-1777064400-1777069800@northbeachlive.com
SUMMARY:Ritmo y Voz: Afro-Cuban Jazz Ignited
DESCRIPTION:Immerse yourself in the electrifying world of “Ritmo y Voz”\, where the deep-rooted traditions of Afro-Cuban jazz meet the power of dynamic vocals. This high-energy performance features an all-star lineup\, including guitarist Kai Lyons\, percussion master Ernesto\, bassist Mazar\, and the incomparable Einar Leliebre Nuñez\, whose fiery rhythms and soaring voice bring the soul of Santiago de Cuba to life. Drawing from the rich traditions of Rumba\, Timba\, Changüí\, and Batá\, the group weaves a tapestry of sound that pulses with history\, spirit\, and innovation. Their collective experience includes collaborations with legendary artists like Omar Sosa\, John Santos\, and other torchbearers of the Afro-Cuban and Latin jazz traditions.\nEinar “Tito” Leliebre – Vocals\, Percussion\nErnesto Kindelan Mazar- Bass\nKai Lyons-Guitar
URL:https://northbeachlive.com/event/ritmo-y-voz-afro-cuban-jazz-ignited-3/2026-04-24/
LOCATION:Keys Jazz Bistro\, 498 Broadway\, San Francisco\, CA\, 94133\, United States
CATEGORIES:Live Music
ATTACH;FMTTYPE=image/jpeg:https://northbeachlive.com/wp-content/uploads/2025/11/IMG_0079.jpeg
GEO:37.798017;-122.405473
X-APPLE-STRUCTURED-LOCATION;VALUE=URI;X-ADDRESS=Keys Jazz Bistro 498 Broadway San Francisco CA 94133 United States;X-APPLE-RADIUS=500;X-TITLE=498 Broadway:geo:-122.405473,37.798017
END:VEVENT
BEGIN:VEVENT
DTSTART;TZID=America/Los_Angeles:20260424T213000
DTEND;TZID=America/Los_Angeles:20260424T230000
DTSTAMP:20260424T083229
CREATED:20260416T201306Z
LAST-MODIFIED:20260416T201306Z
UID:10016583-1777066200-1777071600@northbeachlive.com
SUMMARY:Pete Rodriguez Quintet
DESCRIPTION:Trumpeter\, vocalist\, and percussionist Pete Rodríguez\, featured on three Grammy-winning records\, commands the stage with fiery energy and masterful artistry. \nHe’s collaborated with legends like Tito Puente\, Branford Marsalis\, and Eddie Palmieri. His original compositions highlight his incredible technique and sound. With a bold\, modern jazz style\, his work is narrative-driven and timeless. \nRodriguez has family roots in Latin jazz\, he played classical music with the symphony orchestra in Puerto Rico and pursued his DMA in Jazz Performance. “These varied experiences help explain music that is not only instrumentally ferocious\, but texturally rich and at times\, profoundly intimate.” – Downbeat. \nBand Lineup: Pete Rodríguez\, Trumpet/ Voice Esteban Castro\, Piano Jon Beshay\, Sax Nico Martinez\, Bass Francisco Alcala\, Drums
URL:https://northbeachlive.com/event/pete-rodriguez-quintet/2026-04-24/2/
LOCATION:Black Cat Jazz Supper Club\, 400 Eddy St\, San Francisco\, CA\, 94109\, United States
CATEGORIES:Live Music
ATTACH;FMTTYPE=image/webp:https://northbeachlive.com/wp-content/uploads/2026/04/IMG_0523.webp
END:VEVENT
END:VCALENDAR