BEGIN:VCALENDAR
VERSION:2.0
PRODID:-//North Beach Live - ECPv6.15.20//NONSGML v1.0//EN
CALSCALE:GREGORIAN
METHOD:PUBLISH
X-ORIGINAL-URL:https://northbeachlive.com
X-WR-CALDESC:Events for North Beach Live
REFRESH-INTERVAL;VALUE=DURATION:PT1H
X-Robots-Tag:noindex
X-PUBLISHED-TTL:PT1H
BEGIN:VTIMEZONE
TZID:America/Los_Angeles
BEGIN:DAYLIGHT
TZOFFSETFROM:-0800
TZOFFSETTO:-0700
TZNAME:PDT
DTSTART:20250309T100000
END:DAYLIGHT
BEGIN:STANDARD
TZOFFSETFROM:-0700
TZOFFSETTO:-0800
TZNAME:PST
DTSTART:20251102T090000
END:STANDARD
BEGIN:DAYLIGHT
TZOFFSETFROM:-0800
TZOFFSETTO:-0700
TZNAME:PDT
DTSTART:20260308T100000
END:DAYLIGHT
BEGIN:STANDARD
TZOFFSETFROM:-0700
TZOFFSETTO:-0800
TZNAME:PST
DTSTART:20261101T090000
END:STANDARD
BEGIN:DAYLIGHT
TZOFFSETFROM:-0800
TZOFFSETTO:-0700
TZNAME:PDT
DTSTART:20270314T100000
END:DAYLIGHT
BEGIN:STANDARD
TZOFFSETFROM:-0700
TZOFFSETTO:-0800
TZNAME:PST
DTSTART:20271107T090000
END:STANDARD
END:VTIMEZONE
BEGIN:VEVENT
DTSTART;TZID=America/Los_Angeles:20260411T203000
DTEND;TZID=America/Los_Angeles:20260411T230000
DTSTAMP:20260424T210121
CREATED:20260411T143212Z
LAST-MODIFIED:20260416T234039Z
UID:10016254-1775939400-1775948400@northbeachlive.com
SUMMARY:Chris Burns
DESCRIPTION:Chris Burns is an American pianist\, organist\, songwriter\, and producer whose deep roots in blues\, soul\, and R&B have made him a sought-after collaborator for more than three decades. A core member of The Lucky Losers for over ten years\, Burns co-writes extensively with Cathy Lemons and Phil Berkowitz and has appeared on all six of the band’s albums\, helping shape their signature blend of blues-soul storytelling and groove.
URL:https://northbeachlive.com/event/chris-burns/2026-04-11/
LOCATION:Royal Cuckoo Organ Lounge\, 3202 Mission St\, San Francisco\, CA\, 94133\, United States
CATEGORIES:Live Music
ATTACH;FMTTYPE=image/webp:https://northbeachlive.com/wp-content/uploads/2026/04/IMG_0505.webp
END:VEVENT
BEGIN:VEVENT
DTSTART;TZID=America/Los_Angeles:20260411T210000
DTEND;TZID=America/Los_Angeles:20260411T220000
DTSTAMP:20260424T210121
CREATED:20260405T190751Z
LAST-MODIFIED:20260410T141449Z
UID:10015955-1775941200-1775944800@northbeachlive.com
SUMMARY:Ethan Ostrow Quartet
DESCRIPTION:Berkeley native Ethan Ostrow returns to the Bay from Minneapolis\, where he has established himself as a leading voice in the jazz and original music scenes. Ethan’s music draws influence from rock and folk music\, and is “dynamic\, passionate\, and gorgeous” (East Bay Express). \nEthan’s credits include Dayna Stephens\, Kellin Hanas\, Nick Marziani\, and contestants of NBC’s The Voice Adam Bohanan and Ashley DuBose at venues such as Birdland\, Dizzy’s\, Yoshi’s\, and The Dakota. Ethan is a graduate of the Manhattan School of Music\, having been mentored by Stefon Harris\, Ingrid Jensen\, Jaleel Shaw\, and Phil Markowitz. He also studied with Bay Area legends Susan Muscarella and Max Cowan (Otis McDonald\, Atta Kid). \nEthan Ostrow | Piano \nRemee Ashley | Trombone \nIsaac Coyle | Bass \nMalachi Whitson | Drums
URL:https://northbeachlive.com/event/ethan-ostrow-quartet/2026-04-11/2/
LOCATION:Mr. Tipples\, 39 Fell St\, San Francisco\, CA\, 94102\, United States
CATEGORIES:Live Music
ATTACH;FMTTYPE=image/jpeg:https://northbeachlive.com/wp-content/uploads/2026/04/Ethan-ostrow-IMG_2530-scaled-GEW311.jpg
GEO:37.776449;-122.418193
X-APPLE-STRUCTURED-LOCATION;VALUE=URI;X-ADDRESS=Mr. Tipples 39 Fell St San Francisco CA 94102 United States;X-APPLE-RADIUS=500;X-TITLE=39 Fell St:geo:-122.418193,37.776449
END:VEVENT
BEGIN:VEVENT
DTSTART;TZID=America/Los_Angeles:20260411T223000
DTEND;TZID=America/Los_Angeles:20260411T233000
DTSTAMP:20260424T210121
CREATED:20260405T190751Z
LAST-MODIFIED:20260410T141449Z
UID:10016591-1775946600-1775950200@northbeachlive.com
SUMMARY:Ethan Ostrow Quartet
DESCRIPTION:Berkeley native Ethan Ostrow returns to the Bay from Minneapolis\, where he has established himself as a leading voice in the jazz and original music scenes. Ethan’s music draws influence from rock and folk music\, and is “dynamic\, passionate\, and gorgeous” (East Bay Express). \nEthan’s credits include Dayna Stephens\, Kellin Hanas\, Nick Marziani\, and contestants of NBC’s The Voice Adam Bohanan and Ashley DuBose at venues such as Birdland\, Dizzy’s\, Yoshi’s\, and The Dakota. Ethan is a graduate of the Manhattan School of Music\, having been mentored by Stefon Harris\, Ingrid Jensen\, Jaleel Shaw\, and Phil Markowitz. He also studied with Bay Area legends Susan Muscarella and Max Cowan (Otis McDonald\, Atta Kid). \nEthan Ostrow | Piano \nRemee Ashley | Trombone \nIsaac Coyle | Bass \nMalachi Whitson | Drums
URL:https://northbeachlive.com/event/ethan-ostrow-quartet/2026-04-11/3/
LOCATION:Mr. Tipples\, 39 Fell St\, San Francisco\, CA\, 94102\, United States
CATEGORIES:Live Music
ATTACH;FMTTYPE=image/jpeg:https://northbeachlive.com/wp-content/uploads/2026/04/Ethan-ostrow-IMG_2530-scaled-GEW311.jpg
GEO:37.776449;-122.418193
X-APPLE-STRUCTURED-LOCATION;VALUE=URI;X-ADDRESS=Mr. Tipples 39 Fell St San Francisco CA 94102 United States;X-APPLE-RADIUS=500;X-TITLE=39 Fell St:geo:-122.418193,37.776449
END:VEVENT
END:VCALENDAR