BEGIN:VCALENDAR
VERSION:2.0
PRODID:-//North Beach Live - ECPv6.15.20//NONSGML v1.0//EN
CALSCALE:GREGORIAN
METHOD:PUBLISH
X-ORIGINAL-URL:https://northbeachlive.com
X-WR-CALDESC:Events for North Beach Live
REFRESH-INTERVAL;VALUE=DURATION:PT1H
X-Robots-Tag:noindex
X-PUBLISHED-TTL:PT1H
BEGIN:VTIMEZONE
TZID:America/Los_Angeles
BEGIN:DAYLIGHT
TZOFFSETFROM:-0800
TZOFFSETTO:-0700
TZNAME:PDT
DTSTART:20240310T100000
END:DAYLIGHT
BEGIN:STANDARD
TZOFFSETFROM:-0700
TZOFFSETTO:-0800
TZNAME:PST
DTSTART:20241103T090000
END:STANDARD
BEGIN:DAYLIGHT
TZOFFSETFROM:-0800
TZOFFSETTO:-0700
TZNAME:PDT
DTSTART:20250309T100000
END:DAYLIGHT
BEGIN:STANDARD
TZOFFSETFROM:-0700
TZOFFSETTO:-0800
TZNAME:PST
DTSTART:20251102T090000
END:STANDARD
BEGIN:DAYLIGHT
TZOFFSETFROM:-0800
TZOFFSETTO:-0700
TZNAME:PDT
DTSTART:20260308T100000
END:DAYLIGHT
BEGIN:STANDARD
TZOFFSETFROM:-0700
TZOFFSETTO:-0800
TZNAME:PST
DTSTART:20261101T090000
END:STANDARD
BEGIN:DAYLIGHT
TZOFFSETFROM:-0800
TZOFFSETTO:-0700
TZNAME:PDT
DTSTART:20270314T100000
END:DAYLIGHT
BEGIN:STANDARD
TZOFFSETFROM:-0700
TZOFFSETTO:-0800
TZNAME:PST
DTSTART:20271107T090000
END:STANDARD
END:VTIMEZONE
BEGIN:VEVENT
DTSTART;TZID=America/Los_Angeles:20251218T210000
DTEND;TZID=America/Los_Angeles:20251219T000000
DTSTAMP:20260422T211816
CREATED:20251218T175408Z
LAST-MODIFIED:20260415T173136Z
UID:10011158-1766091600-1766102400@northbeachlive.com
SUMMARY:Alexandra Rieloff Trio
DESCRIPTION:Step into a slice of Paris in the heart of North Beach for an evening of enchanting melodies with the Alexandra Rieloff Trio! \nAlexandra Rieloff brings her sophisticated trio to the intimate stage of Paris 75. Featuring the talented Mark Holzinger on guitar and Rob Bassinette on bass\, the ensemble is known for their polished and heartfelt performances that capture the essence of classic lounge music. \nThe trio specializes in a beautiful blend of jazz standards\, smooth bossa nova\, and evocative boleros. Their performance is the perfect complement to the moody\, French-inspired atmosphere of the lounge\, offering a refined musical journey that pairs wonderfully with a glass of wine and charcuterie. Whether you are a jazz aficionado or just looking for a classy late-night vibe\, this trio provides the perfect soundtrack for an evening in San Francisco.
URL:https://northbeachlive.com/event/alexandra-rieloff-trio-2/2025-12-18/
LOCATION:Paris 75\, 515 Broadway\, San Francisco\, CA\, 94133\, United States
CATEGORIES:Live Music
ATTACH;FMTTYPE=image/webp:https://northbeachlive.com/wp-content/uploads/2025/07/IMG_0062.webp
GEO:37.797891;-122.405783
X-APPLE-STRUCTURED-LOCATION;VALUE=URI;X-ADDRESS=Paris 75 515 Broadway San Francisco CA 94133 United States;X-APPLE-RADIUS=500;X-TITLE=515 Broadway:geo:-122.405783,37.797891
END:VEVENT
BEGIN:VEVENT
DTSTART;TZID=America/Los_Angeles:20260308T170000
DTEND;TZID=America/Los_Angeles:20260308T183000
DTSTAMP:20260422T211816
CREATED:20260307T191315Z
LAST-MODIFIED:20260415T225920Z
UID:10015082-1772989200-1772994600@northbeachlive.com
SUMMARY:Suzanna Smith
DESCRIPTION:Returning to Keys\, Suzanna Smith fronts another stellar ensemble to work her magic around the Peggy Lee songbook. “There are relatively few contemporary female vocalists who evoke Peggy Lee\, at least not genuinely. Suzanna Smith numbers among that rare ilk. That Smith sounds like Lee — slightly breathy and warmly sensual with a hint of huskiness — is undeniable\, but the parallels extend much further. Lee’s ability to not just caress a ballad but smother it in mink has seldom been matched. She was also a sage swinger — never too much\, never too little — as well as a first-rate songwriter. Smith checks all those boxes.” \n— Christopher Louden\, Jazz Times
URL:https://northbeachlive.com/event/suzanna-smith-2/2026-03-08/1/
LOCATION:Keys Jazz Bistro\, 498 Broadway\, San Francisco\, CA\, 94133\, United States
CATEGORIES:Live Music
ATTACH;FMTTYPE=image/jpeg:https://northbeachlive.com/wp-content/uploads/2026/03/IMG_0339.jpeg
GEO:37.798017;-122.405473
X-APPLE-STRUCTURED-LOCATION;VALUE=URI;X-ADDRESS=Keys Jazz Bistro 498 Broadway San Francisco CA 94133 United States;X-APPLE-RADIUS=500;X-TITLE=498 Broadway:geo:-122.405473,37.798017
END:VEVENT
BEGIN:VEVENT
DTSTART;TZID=America/Los_Angeles:20260308T190000
DTEND;TZID=America/Los_Angeles:20260308T203000
DTSTAMP:20260422T211816
CREATED:20260307T191315Z
LAST-MODIFIED:20260415T225920Z
UID:10015083-1772996400-1773001800@northbeachlive.com
SUMMARY:Suzanna Smith
DESCRIPTION:Returning to Keys\, Suzanna Smith fronts another stellar ensemble to work her magic around the Peggy Lee songbook. “There are relatively few contemporary female vocalists who evoke Peggy Lee\, at least not genuinely. Suzanna Smith numbers among that rare ilk. That Smith sounds like Lee — slightly breathy and warmly sensual with a hint of huskiness — is undeniable\, but the parallels extend much further. Lee’s ability to not just caress a ballad but smother it in mink has seldom been matched. She was also a sage swinger — never too much\, never too little — as well as a first-rate songwriter. Smith checks all those boxes.” \n— Christopher Louden\, Jazz Times
URL:https://northbeachlive.com/event/suzanna-smith-2/2026-03-08/2/
LOCATION:Keys Jazz Bistro\, 498 Broadway\, San Francisco\, CA\, 94133\, United States
CATEGORIES:Live Music
ATTACH;FMTTYPE=image/jpeg:https://northbeachlive.com/wp-content/uploads/2026/03/IMG_0339.jpeg
GEO:37.798017;-122.405473
X-APPLE-STRUCTURED-LOCATION;VALUE=URI;X-ADDRESS=Keys Jazz Bistro 498 Broadway San Francisco CA 94133 United States;X-APPLE-RADIUS=500;X-TITLE=498 Broadway:geo:-122.405473,37.798017
END:VEVENT
BEGIN:VEVENT
DTSTART;TZID=America/Los_Angeles:20260411T190000
DTEND;TZID=America/Los_Angeles:20260411T203000
DTSTAMP:20260422T211816
CREATED:20260318T200415Z
LAST-MODIFIED:20260406T162432Z
UID:10016158-1775934000-1775939400@northbeachlive.com
SUMMARY:Paula West
DESCRIPTION:A true treasure of the Bay Area jazz scene\, vocalist Paula West is celebrated for her rich contralto voice and deeply expressive interpretations of song.Her repertoire moves effortlessly from the Great American Songbook to inspired reinventions of music by artists like Bob Dylan\, David Bowie\, Lou Reed\, and Johnny Cash\, always delivered with nuance\, emotional depth\, and impeccable phrasing.West has performed in renowned venues across San Francisco and New York\, including residencies at the Oak Room of the Algonquin Hotel and appearances at Jazz at Lincoln Center\, SFJAZZ\, Feinstein’s at the Nikko\, and Yoshi’s. Her performances at the Algonquin earned three consecutive New York Magazine Nightlife Awards for Outstanding Female Jazz Vocalist.Praised by The New York Times for a voice that has “ripened into a driving expressive force\,” Paula West continues to captivate audiences with performances that are both timeless and strikingly personal.Join us at Keys Jazz Bistro for an unforgettable evening with one of the great vocal stylists in jazz
URL:https://northbeachlive.com/event/paula-west/2026-04-11/1/
LOCATION:Keys Jazz Bistro\, 498 Broadway\, San Francisco\, CA\, 94133\, United States
CATEGORIES:Live Music
ATTACH;FMTTYPE=image/png:https://northbeachlive.com/wp-content/uploads/2026/03/IMG_0366.png
GEO:37.798017;-122.405473
X-APPLE-STRUCTURED-LOCATION;VALUE=URI;X-ADDRESS=Keys Jazz Bistro 498 Broadway San Francisco CA 94133 United States;X-APPLE-RADIUS=500;X-TITLE=498 Broadway:geo:-122.405473,37.798017
END:VEVENT
BEGIN:VEVENT
DTSTART;TZID=America/Los_Angeles:20260411T210000
DTEND;TZID=America/Los_Angeles:20260411T223000
DTSTAMP:20260422T211816
CREATED:20260318T200415Z
LAST-MODIFIED:20260406T162432Z
UID:10016160-1775941200-1775946600@northbeachlive.com
SUMMARY:Paula West
DESCRIPTION:A true treasure of the Bay Area jazz scene\, vocalist Paula West is celebrated for her rich contralto voice and deeply expressive interpretations of song.Her repertoire moves effortlessly from the Great American Songbook to inspired reinventions of music by artists like Bob Dylan\, David Bowie\, Lou Reed\, and Johnny Cash\, always delivered with nuance\, emotional depth\, and impeccable phrasing.West has performed in renowned venues across San Francisco and New York\, including residencies at the Oak Room of the Algonquin Hotel and appearances at Jazz at Lincoln Center\, SFJAZZ\, Feinstein’s at the Nikko\, and Yoshi’s. Her performances at the Algonquin earned three consecutive New York Magazine Nightlife Awards for Outstanding Female Jazz Vocalist.Praised by The New York Times for a voice that has “ripened into a driving expressive force\,” Paula West continues to captivate audiences with performances that are both timeless and strikingly personal.Join us at Keys Jazz Bistro for an unforgettable evening with one of the great vocal stylists in jazz
URL:https://northbeachlive.com/event/paula-west/2026-04-11/2/
LOCATION:Keys Jazz Bistro\, 498 Broadway\, San Francisco\, CA\, 94133\, United States
CATEGORIES:Live Music
ATTACH;FMTTYPE=image/png:https://northbeachlive.com/wp-content/uploads/2026/03/IMG_0366.png
GEO:37.798017;-122.405473
X-APPLE-STRUCTURED-LOCATION;VALUE=URI;X-ADDRESS=Keys Jazz Bistro 498 Broadway San Francisco CA 94133 United States;X-APPLE-RADIUS=500;X-TITLE=498 Broadway:geo:-122.405473,37.798017
END:VEVENT
BEGIN:VEVENT
DTSTART;TZID=America/Los_Angeles:20260412T170000
DTEND;TZID=America/Los_Angeles:20260412T183000
DTSTAMP:20260422T211816
CREATED:20260406T163703Z
LAST-MODIFIED:20260406T163837Z
UID:10016161-1776013200-1776018600@northbeachlive.com
SUMMARY:Clairdee Sings Gershwin\, Porter\, and Berlin
DESCRIPTION:Join us for an evening celebrating the music of Gershwin\, Porter\, and Berlin—three iconic composers who shaped Broadway\, Hollywood\, and the core repertoire of jazz standards. \nKnown for her warmth\, clarity\, and emotional honesty\, celebrated vocalist Clairdee brings her unmistakable voice to these timeless classics. As a master storyteller\, her interpretations honor the original spirit of the Great American Songbook while revealing new depth and nuance\, moving from tender ballads to swinging standards with ease and authority. \nWe invite you to experience an evening of impeccable musicianship and the enduring beauty of some of America’s greatest songs. \nClairdee\, vocals \nKen French\, piano / music director \nRon Belcher\, bass \nJason Lewis\, drums \nJohn Hoy\, guitar
URL:https://northbeachlive.com/event/clairdee-sings-gershwin-porter-and-berlin/2026-04-12/1/
LOCATION:Keys Jazz Bistro\, 498 Broadway\, San Francisco\, CA\, 94133\, United States
CATEGORIES:Live Music
ATTACH;FMTTYPE=image/jpeg:https://northbeachlive.com/wp-content/uploads/2026/04/IMG_0466.jpeg
GEO:37.798017;-122.405473
X-APPLE-STRUCTURED-LOCATION;VALUE=URI;X-ADDRESS=Keys Jazz Bistro 498 Broadway San Francisco CA 94133 United States;X-APPLE-RADIUS=500;X-TITLE=498 Broadway:geo:-122.405473,37.798017
END:VEVENT
BEGIN:VEVENT
DTSTART;TZID=America/Los_Angeles:20260412T190000
DTEND;TZID=America/Los_Angeles:20260412T203000
DTSTAMP:20260422T211816
CREATED:20260406T163703Z
LAST-MODIFIED:20260406T163837Z
UID:10016162-1776020400-1776025800@northbeachlive.com
SUMMARY:Clairdee Sings Gershwin\, Porter\, and Berlin
DESCRIPTION:Join us for an evening celebrating the music of Gershwin\, Porter\, and Berlin—three iconic composers who shaped Broadway\, Hollywood\, and the core repertoire of jazz standards. \nKnown for her warmth\, clarity\, and emotional honesty\, celebrated vocalist Clairdee brings her unmistakable voice to these timeless classics. As a master storyteller\, her interpretations honor the original spirit of the Great American Songbook while revealing new depth and nuance\, moving from tender ballads to swinging standards with ease and authority. \nWe invite you to experience an evening of impeccable musicianship and the enduring beauty of some of America’s greatest songs. \nClairdee\, vocals \nKen French\, piano / music director \nRon Belcher\, bass \nJason Lewis\, drums \nJohn Hoy\, guitar
URL:https://northbeachlive.com/event/clairdee-sings-gershwin-porter-and-berlin/2026-04-12/2/
LOCATION:Keys Jazz Bistro\, 498 Broadway\, San Francisco\, CA\, 94133\, United States
CATEGORIES:Live Music
ATTACH;FMTTYPE=image/jpeg:https://northbeachlive.com/wp-content/uploads/2026/04/IMG_0466.jpeg
GEO:37.798017;-122.405473
X-APPLE-STRUCTURED-LOCATION;VALUE=URI;X-ADDRESS=Keys Jazz Bistro 498 Broadway San Francisco CA 94133 United States;X-APPLE-RADIUS=500;X-TITLE=498 Broadway:geo:-122.405473,37.798017
END:VEVENT
BEGIN:VEVENT
DTSTART;TZID=America/Los_Angeles:20260415T203000
DTEND;TZID=America/Los_Angeles:20260415T233000
DTSTAMP:20260422T211816
CREATED:20251218T175408Z
LAST-MODIFIED:20260415T173136Z
UID:10016772-1776285000-1776295800@northbeachlive.com
SUMMARY:Alexandra Rieloff Trio
DESCRIPTION:Step into a slice of Paris in the heart of North Beach for an evening of enchanting melodies with the Alexandra Rieloff Trio! \nAlexandra Rieloff brings her sophisticated trio to the intimate stage of Paris 75. Featuring the talented Mark Holzinger on guitar and Rob Bassinette on bass\, the ensemble is known for their polished and heartfelt performances that capture the essence of classic lounge music. \nThe trio specializes in a beautiful blend of jazz standards\, smooth bossa nova\, and evocative boleros. Their performance is the perfect complement to the moody\, French-inspired atmosphere of the lounge\, offering a refined musical journey that pairs wonderfully with a glass of wine and charcuterie. Whether you are a jazz aficionado or just looking for a classy late-night vibe\, this trio provides the perfect soundtrack for an evening in San Francisco.
URL:https://northbeachlive.com/event/alexandra-rieloff-trio-2/2026-04-15/
LOCATION:Paris 75\, 515 Broadway\, San Francisco\, CA\, 94133\, United States
CATEGORIES:Live Music
ATTACH;FMTTYPE=image/webp:https://northbeachlive.com/wp-content/uploads/2025/07/IMG_0062.webp
GEO:37.797891;-122.405783
X-APPLE-STRUCTURED-LOCATION;VALUE=URI;X-ADDRESS=Paris 75 515 Broadway San Francisco CA 94133 United States;X-APPLE-RADIUS=500;X-TITLE=515 Broadway:geo:-122.405783,37.797891
END:VEVENT
BEGIN:VEVENT
DTSTART;TZID=America/Los_Angeles:20260416T190000
DTEND;TZID=America/Los_Angeles:20260416T203000
DTSTAMP:20260422T211816
CREATED:20260318T200644Z
LAST-MODIFIED:20260318T200644Z
UID:10015185-1776366000-1776371400@northbeachlive.com
SUMMARY:Liz Kennedy
DESCRIPTION:After going through a whirlwind of life changes\, the San Francisco-based singer-songwriter\, Liz Kennedy\, has come to see songwriting not as a choice but as something she has to do. She says music sustains her and offers a way forward. Her decade-plus as a critically acclaimed recording artist has built her confidence in her ever-unfolding identity as a quirky\, often humorous\, and always insightful storyteller committed to honesty and to finding something unique to say. \nKennedy describes herself as honest and observant and adds\, “I sure hope I can easily laugh at myself.” Her songcraft – where the lyrics always follow the music – perfectly reflects that thoughtful self-assessment. The fascinating part of the process is not knowing just where the inspiration will come from. “It’s strange how emotional pain and joy can equally send you racing to the piano to capture something … whether it’s a butterfly or a heavy brick.
URL:https://northbeachlive.com/event/liz-kennedy/
LOCATION:Keys Jazz Bistro\, 498 Broadway\, San Francisco\, CA\, 94133\, United States
CATEGORIES:Live Music
ATTACH;FMTTYPE=image/png:https://northbeachlive.com/wp-content/uploads/2026/03/IMG_0367.png
GEO:37.798017;-122.405473
X-APPLE-STRUCTURED-LOCATION;VALUE=URI;X-ADDRESS=Keys Jazz Bistro 498 Broadway San Francisco CA 94133 United States;X-APPLE-RADIUS=500;X-TITLE=498 Broadway:geo:-122.405473,37.798017
END:VEVENT
END:VCALENDAR