BEGIN:VCALENDAR
VERSION:2.0
PRODID:-//North Beach Live - ECPv6.15.20//NONSGML v1.0//EN
CALSCALE:GREGORIAN
METHOD:PUBLISH
X-WR-CALNAME:North Beach Live
X-ORIGINAL-URL:https://northbeachlive.com
X-WR-CALDESC:Events for North Beach Live
REFRESH-INTERVAL;VALUE=DURATION:PT1H
X-Robots-Tag:noindex
X-PUBLISHED-TTL:PT1H
BEGIN:VTIMEZONE
TZID:America/Los_Angeles
BEGIN:DAYLIGHT
TZOFFSETFROM:-0800
TZOFFSETTO:-0700
TZNAME:PDT
DTSTART:20250309T100000
END:DAYLIGHT
BEGIN:STANDARD
TZOFFSETFROM:-0700
TZOFFSETTO:-0800
TZNAME:PST
DTSTART:20251102T090000
END:STANDARD
BEGIN:DAYLIGHT
TZOFFSETFROM:-0800
TZOFFSETTO:-0700
TZNAME:PDT
DTSTART:20260308T100000
END:DAYLIGHT
BEGIN:STANDARD
TZOFFSETFROM:-0700
TZOFFSETTO:-0800
TZNAME:PST
DTSTART:20261101T090000
END:STANDARD
BEGIN:DAYLIGHT
TZOFFSETFROM:-0800
TZOFFSETTO:-0700
TZNAME:PDT
DTSTART:20270314T100000
END:DAYLIGHT
BEGIN:STANDARD
TZOFFSETFROM:-0700
TZOFFSETTO:-0800
TZNAME:PST
DTSTART:20271107T090000
END:STANDARD
END:VTIMEZONE
BEGIN:VEVENT
DTSTART;TZID=America/Los_Angeles:20260422T190000
DTEND;TZID=America/Los_Angeles:20260422T210000
DTSTAMP:20260422T102738
CREATED:20251220T233657Z
LAST-MODIFIED:20260128T020535Z
UID:10011177-1776884400-1776891600@northbeachlive.com
SUMMARY:The Charles Unger Experience
DESCRIPTION:Join us for a high-energy evening of soulful jazz and funk with the Charles Unger Experience at Ti Piacera! \nPerforming every other Wednesday from 7:00 pm to 9:00 pm\, the legendary San Francisco saxophonist Charles Unger brings his signature blend of passion and virtuosity to the stage. Known for his charismatic stage presence and explosive playing\, Charles Unger leads a band that bridges the gap between classic jazz and contemporary grooves. \nThe Charles Unger Experience is more than just a jazz set; it is a vibrant musical journey featuring soulful melodies\, driving rhythms\, and intricate improvisation. Whether he is playing a tender ballad or an up-tempo funk number\, Charles delivers a performance that is both technically impressive and deeply emotional\, making it a perfect mid-week escape in an intimate setting.
URL:https://northbeachlive.com/event/the-charles-unger-experience/2026-04-22/
LOCATION:Ti Piacera\, 1507 Polk St\, San Francisco\, CA\, 94109\, United States
CATEGORIES:Live Music
ATTACH;FMTTYPE=image/jpeg:https://northbeachlive.com/wp-content/uploads/2025/12/IMG_0151.jpeg
END:VEVENT
BEGIN:VEVENT
DTSTART;TZID=America/Los_Angeles:20260423T190000
DTEND;TZID=America/Los_Angeles:20260423T230000
DTSTAMP:20260422T102738
CREATED:20260325T163847Z
LAST-MODIFIED:20260409T205000Z
UID:10015394-1776970800-1776985200@northbeachlive.com
SUMMARY:Jazz Music Bands/Local Musicians
DESCRIPTION:
URL:https://northbeachlive.com/event/jazz-music-bands-local-musicians-2-2/2026-04-23/
LOCATION:Amelie\, 1754 Polk St\, San Francisco\, CA\, 94109\, United States
CATEGORIES:Live Music
END:VEVENT
BEGIN:VEVENT
DTSTART;TZID=America/Los_Angeles:20260426T170000
DTEND;TZID=America/Los_Angeles:20260426T200000
DTSTAMP:20260422T102738
CREATED:20260414T001758Z
LAST-MODIFIED:20260414T001758Z
UID:10016633-1777222800-1777233600@northbeachlive.com
SUMMARY:Gaucho
DESCRIPTION:Settle into a Sunday evening that feels straight out of a New Orleans daydream as Gaucho brings their signature hot-club–inspired jazz to Brenda’s French Soul Food. From 5:00 PM to 8:00 PM\, the band turns the Polk Street institution into a warm\, swinging supper room\, mixing Django-style gypsy jazz\, classic standards\, and soulful improvisations that pair perfectly with beignets\, biscuits\, and Creole comfort food. It’s an easygoing\, come-as-you-are hang: grab a table\, order your favorites from the Brenda’s menu\, and let Gaucho’s guitars\, bass\, and horns carry you through a lazy\, joyfully unhurried Sunday night.
URL:https://northbeachlive.com/event/gaucho-2/2026-04-26/
LOCATION:Brenda’s French Soul Food\, 652 Polk Street\, San Francisco\, CA\, 94102\, United States
CATEGORIES:Live Music
ATTACH;FMTTYPE=image/jpeg:https://northbeachlive.com/wp-content/uploads/2025/09/IMG_0041.jpeg
END:VEVENT
BEGIN:VEVENT
DTSTART;TZID=America/Los_Angeles:20260426T190000
DTEND;TZID=America/Los_Angeles:20260426T230000
DTSTAMP:20260422T102738
CREATED:20250903T221605Z
LAST-MODIFIED:20260325T162745Z
UID:10015450-1777230000-1777244400@northbeachlive.com
SUMMARY:Spanish Folk live music
DESCRIPTION:
URL:https://northbeachlive.com/event/locura-latin-jazz-live-music/2026-04-26/
LOCATION:Amelie\, 1754 Polk St\, San Francisco\, CA\, 94109\, United States
CATEGORIES:Live Music
ATTACH;FMTTYPE=image/webp:https://northbeachlive.com/wp-content/uploads/2025/09/IMG_0240.webp
END:VEVENT
BEGIN:VEVENT
DTSTART;TZID=America/Los_Angeles:20260426T190000
DTEND;TZID=America/Los_Angeles:20260426T230000
DTSTAMP:20260422T102738
CREATED:20260415T235420Z
LAST-MODIFIED:20260415T235724Z
UID:10016803-1777230000-1777244400@northbeachlive.com
SUMMARY:Raul Vargas
DESCRIPTION:Raul Vargas appears at Amélie with a solo set of live Spanish‑language repertoire\, suited to the bar’s acoustic\, small‑ensemble format. Expect a mix of romantic and traditional material delivered in an intimate\, guitar‑forward setting that fits the wine‑bar atmosphere.
URL:https://northbeachlive.com/event/raul-vargas/2026-04-26/
LOCATION:Amelie\, 1754 Polk St\, San Francisco\, CA\, 94109\, United States
CATEGORIES:Live Music
ATTACH;FMTTYPE=image/jpeg:https://northbeachlive.com/wp-content/uploads/2026/04/IMG_0521.jpeg
END:VEVENT
BEGIN:VEVENT
DTSTART;TZID=America/Los_Angeles:20260428T193000
DTEND;TZID=America/Los_Angeles:20260428T223000
DTSTAMP:20260422T102738
CREATED:20260414T003843Z
LAST-MODIFIED:20260414T003843Z
UID:10016686-1777404600-1777415400@northbeachlive.com
SUMMARY:Gaucho Jazz
DESCRIPTION:Step into DecoDance on a Thursday night and you’ll find Gaucho turning the Art Deco lounge into a Paris-meets-San-Francisco swing party. Their hot-club–inspired sound — acoustic guitars\, bass\, and horns weaving gypsy jazz\, musette\, and classic swing — pairs perfectly with the bar’s Great Gatsby mood and craft cocktails. Grab a booth under the moody lights\, order a drink\, and let the band’s playful\, high-energy sets pull you toward the dance floor as the night unfolds.
URL:https://northbeachlive.com/event/gaucho-jazz-2/2026-04-28/
LOCATION:DecoDance Bar\, 1160 Polk St.\, San Francisco\, CA\, 94109\, United States
CATEGORIES:Live Music
ATTACH;FMTTYPE=image/webp:https://northbeachlive.com/wp-content/uploads/2026/04/IMG_0506.webp
END:VEVENT
BEGIN:VEVENT
DTSTART;TZID=America/Los_Angeles:20260429T190000
DTEND;TZID=America/Los_Angeles:20260429T210000
DTSTAMP:20260422T102738
CREATED:20260128T020210Z
LAST-MODIFIED:20260317T011822Z
UID:10012919-1777489200-1777496400@northbeachlive.com
SUMMARY:Live Jazz
DESCRIPTION:Break up the work week with an evening of live jazz at Ti Piacera! \nEvery Wednesday from 7:00 pm to 9:00 pm\, this cozy Polk Street destination hosts a rotating selection of talented local jazz ensembles. While the specific band changes from week to week\, you can always expect a high-quality musical experience featuring some of San Francisco’s most dedicated jazz musicians. \nIt is the perfect atmosphere for a refined dinner or a relaxed drink\, providing a sophisticated backdrop of live improvisation and classic melodies in an intimate neighborhood setting.
URL:https://northbeachlive.com/event/live-jazz-2-2/2026-04-29/
LOCATION:Ti Piacera\, 1507 Polk St\, San Francisco\, CA\, 94109\, United States
CATEGORIES:Live Music
ATTACH;FMTTYPE=image/jpeg:https://northbeachlive.com/wp-content/uploads/2026/01/IMG_0358.jpeg
END:VEVENT
BEGIN:VEVENT
DTSTART;TZID=America/Los_Angeles:20260430T190000
DTEND;TZID=America/Los_Angeles:20260430T230000
DTSTAMP:20260422T102738
CREATED:20260325T163847Z
LAST-MODIFIED:20260409T205000Z
UID:10015395-1777575600-1777590000@northbeachlive.com
SUMMARY:Jazz Music Bands/Local Musicians
DESCRIPTION:
URL:https://northbeachlive.com/event/jazz-music-bands-local-musicians-2-2/2026-04-30/
LOCATION:Amelie\, 1754 Polk St\, San Francisco\, CA\, 94109\, United States
CATEGORIES:Live Music
END:VEVENT
BEGIN:VEVENT
DTSTART;TZID=America/Los_Angeles:20260503T170000
DTEND;TZID=America/Los_Angeles:20260503T200000
DTSTAMP:20260422T102738
CREATED:20260414T001758Z
LAST-MODIFIED:20260414T001758Z
UID:10016634-1777827600-1777838400@northbeachlive.com
SUMMARY:Gaucho
DESCRIPTION:Settle into a Sunday evening that feels straight out of a New Orleans daydream as Gaucho brings their signature hot-club–inspired jazz to Brenda’s French Soul Food. From 5:00 PM to 8:00 PM\, the band turns the Polk Street institution into a warm\, swinging supper room\, mixing Django-style gypsy jazz\, classic standards\, and soulful improvisations that pair perfectly with beignets\, biscuits\, and Creole comfort food. It’s an easygoing\, come-as-you-are hang: grab a table\, order your favorites from the Brenda’s menu\, and let Gaucho’s guitars\, bass\, and horns carry you through a lazy\, joyfully unhurried Sunday night.
URL:https://northbeachlive.com/event/gaucho-2/2026-05-03/
LOCATION:Brenda’s French Soul Food\, 652 Polk Street\, San Francisco\, CA\, 94102\, United States
CATEGORIES:Live Music
ATTACH;FMTTYPE=image/jpeg:https://northbeachlive.com/wp-content/uploads/2025/09/IMG_0041.jpeg
END:VEVENT
BEGIN:VEVENT
DTSTART;TZID=America/Los_Angeles:20260503T190000
DTEND;TZID=America/Los_Angeles:20260503T230000
DTSTAMP:20260422T102738
CREATED:20250903T221605Z
LAST-MODIFIED:20260325T162745Z
UID:10015451-1777834800-1777849200@northbeachlive.com
SUMMARY:Spanish Folk live music
DESCRIPTION:
URL:https://northbeachlive.com/event/locura-latin-jazz-live-music/2026-05-03/
LOCATION:Amelie\, 1754 Polk St\, San Francisco\, CA\, 94109\, United States
CATEGORIES:Live Music
ATTACH;FMTTYPE=image/webp:https://northbeachlive.com/wp-content/uploads/2025/09/IMG_0240.webp
END:VEVENT
BEGIN:VEVENT
DTSTART;TZID=America/Los_Angeles:20260505T193000
DTEND;TZID=America/Los_Angeles:20260505T223000
DTSTAMP:20260422T102738
CREATED:20260414T003843Z
LAST-MODIFIED:20260414T003843Z
UID:10016687-1778009400-1778020200@northbeachlive.com
SUMMARY:Gaucho Jazz
DESCRIPTION:Step into DecoDance on a Thursday night and you’ll find Gaucho turning the Art Deco lounge into a Paris-meets-San-Francisco swing party. Their hot-club–inspired sound — acoustic guitars\, bass\, and horns weaving gypsy jazz\, musette\, and classic swing — pairs perfectly with the bar’s Great Gatsby mood and craft cocktails. Grab a booth under the moody lights\, order a drink\, and let the band’s playful\, high-energy sets pull you toward the dance floor as the night unfolds.
URL:https://northbeachlive.com/event/gaucho-jazz-2/2026-05-05/
LOCATION:DecoDance Bar\, 1160 Polk St.\, San Francisco\, CA\, 94109\, United States
CATEGORIES:Live Music
ATTACH;FMTTYPE=image/webp:https://northbeachlive.com/wp-content/uploads/2026/04/IMG_0506.webp
END:VEVENT
BEGIN:VEVENT
DTSTART;TZID=America/Los_Angeles:20260506T190000
DTEND;TZID=America/Los_Angeles:20260506T210000
DTSTAMP:20260422T102738
CREATED:20251220T233657Z
LAST-MODIFIED:20260128T020535Z
UID:10011178-1778094000-1778101200@northbeachlive.com
SUMMARY:The Charles Unger Experience
DESCRIPTION:Join us for a high-energy evening of soulful jazz and funk with the Charles Unger Experience at Ti Piacera! \nPerforming every other Wednesday from 7:00 pm to 9:00 pm\, the legendary San Francisco saxophonist Charles Unger brings his signature blend of passion and virtuosity to the stage. Known for his charismatic stage presence and explosive playing\, Charles Unger leads a band that bridges the gap between classic jazz and contemporary grooves. \nThe Charles Unger Experience is more than just a jazz set; it is a vibrant musical journey featuring soulful melodies\, driving rhythms\, and intricate improvisation. Whether he is playing a tender ballad or an up-tempo funk number\, Charles delivers a performance that is both technically impressive and deeply emotional\, making it a perfect mid-week escape in an intimate setting.
URL:https://northbeachlive.com/event/the-charles-unger-experience/2026-05-06/
LOCATION:Ti Piacera\, 1507 Polk St\, San Francisco\, CA\, 94109\, United States
CATEGORIES:Live Music
ATTACH;FMTTYPE=image/jpeg:https://northbeachlive.com/wp-content/uploads/2025/12/IMG_0151.jpeg
END:VEVENT
BEGIN:VEVENT
DTSTART;TZID=America/Los_Angeles:20260507T190000
DTEND;TZID=America/Los_Angeles:20260507T230000
DTSTAMP:20260422T102738
CREATED:20260325T163847Z
LAST-MODIFIED:20260409T205000Z
UID:10015396-1778180400-1778194800@northbeachlive.com
SUMMARY:Jazz Music Bands/Local Musicians
DESCRIPTION:
URL:https://northbeachlive.com/event/jazz-music-bands-local-musicians-2-2/2026-05-07/
LOCATION:Amelie\, 1754 Polk St\, San Francisco\, CA\, 94109\, United States
CATEGORIES:Live Music
END:VEVENT
BEGIN:VEVENT
DTSTART;TZID=America/Los_Angeles:20260510T170000
DTEND;TZID=America/Los_Angeles:20260510T200000
DTSTAMP:20260422T102738
CREATED:20260414T001758Z
LAST-MODIFIED:20260414T001758Z
UID:10016635-1778432400-1778443200@northbeachlive.com
SUMMARY:Gaucho
DESCRIPTION:Settle into a Sunday evening that feels straight out of a New Orleans daydream as Gaucho brings their signature hot-club–inspired jazz to Brenda’s French Soul Food. From 5:00 PM to 8:00 PM\, the band turns the Polk Street institution into a warm\, swinging supper room\, mixing Django-style gypsy jazz\, classic standards\, and soulful improvisations that pair perfectly with beignets\, biscuits\, and Creole comfort food. It’s an easygoing\, come-as-you-are hang: grab a table\, order your favorites from the Brenda’s menu\, and let Gaucho’s guitars\, bass\, and horns carry you through a lazy\, joyfully unhurried Sunday night.
URL:https://northbeachlive.com/event/gaucho-2/2026-05-10/
LOCATION:Brenda’s French Soul Food\, 652 Polk Street\, San Francisco\, CA\, 94102\, United States
CATEGORIES:Live Music
ATTACH;FMTTYPE=image/jpeg:https://northbeachlive.com/wp-content/uploads/2025/09/IMG_0041.jpeg
END:VEVENT
BEGIN:VEVENT
DTSTART;TZID=America/Los_Angeles:20260510T190000
DTEND;TZID=America/Los_Angeles:20260510T230000
DTSTAMP:20260422T102738
CREATED:20250903T221605Z
LAST-MODIFIED:20260325T162745Z
UID:10015452-1778439600-1778454000@northbeachlive.com
SUMMARY:Spanish Folk live music
DESCRIPTION:
URL:https://northbeachlive.com/event/locura-latin-jazz-live-music/2026-05-10/
LOCATION:Amelie\, 1754 Polk St\, San Francisco\, CA\, 94109\, United States
CATEGORIES:Live Music
ATTACH;FMTTYPE=image/webp:https://northbeachlive.com/wp-content/uploads/2025/09/IMG_0240.webp
END:VEVENT
BEGIN:VEVENT
DTSTART;TZID=America/Los_Angeles:20260512T193000
DTEND;TZID=America/Los_Angeles:20260512T223000
DTSTAMP:20260422T102738
CREATED:20260414T003843Z
LAST-MODIFIED:20260414T003843Z
UID:10016688-1778614200-1778625000@northbeachlive.com
SUMMARY:Gaucho Jazz
DESCRIPTION:Step into DecoDance on a Thursday night and you’ll find Gaucho turning the Art Deco lounge into a Paris-meets-San-Francisco swing party. Their hot-club–inspired sound — acoustic guitars\, bass\, and horns weaving gypsy jazz\, musette\, and classic swing — pairs perfectly with the bar’s Great Gatsby mood and craft cocktails. Grab a booth under the moody lights\, order a drink\, and let the band’s playful\, high-energy sets pull you toward the dance floor as the night unfolds.
URL:https://northbeachlive.com/event/gaucho-jazz-2/2026-05-12/
LOCATION:DecoDance Bar\, 1160 Polk St.\, San Francisco\, CA\, 94109\, United States
CATEGORIES:Live Music
ATTACH;FMTTYPE=image/webp:https://northbeachlive.com/wp-content/uploads/2026/04/IMG_0506.webp
END:VEVENT
BEGIN:VEVENT
DTSTART;TZID=America/Los_Angeles:20260513T190000
DTEND;TZID=America/Los_Angeles:20260513T210000
DTSTAMP:20260422T102738
CREATED:20260128T020210Z
LAST-MODIFIED:20260317T011822Z
UID:10012920-1778698800-1778706000@northbeachlive.com
SUMMARY:Live Jazz
DESCRIPTION:Break up the work week with an evening of live jazz at Ti Piacera! \nEvery Wednesday from 7:00 pm to 9:00 pm\, this cozy Polk Street destination hosts a rotating selection of talented local jazz ensembles. While the specific band changes from week to week\, you can always expect a high-quality musical experience featuring some of San Francisco’s most dedicated jazz musicians. \nIt is the perfect atmosphere for a refined dinner or a relaxed drink\, providing a sophisticated backdrop of live improvisation and classic melodies in an intimate neighborhood setting.
URL:https://northbeachlive.com/event/live-jazz-2-2/2026-05-13/
LOCATION:Ti Piacera\, 1507 Polk St\, San Francisco\, CA\, 94109\, United States
CATEGORIES:Live Music
ATTACH;FMTTYPE=image/jpeg:https://northbeachlive.com/wp-content/uploads/2026/01/IMG_0358.jpeg
END:VEVENT
BEGIN:VEVENT
DTSTART;TZID=America/Los_Angeles:20260514T190000
DTEND;TZID=America/Los_Angeles:20260514T230000
DTSTAMP:20260422T102738
CREATED:20260325T163847Z
LAST-MODIFIED:20260409T205000Z
UID:10015397-1778785200-1778799600@northbeachlive.com
SUMMARY:Jazz Music Bands/Local Musicians
DESCRIPTION:
URL:https://northbeachlive.com/event/jazz-music-bands-local-musicians-2-2/2026-05-14/
LOCATION:Amelie\, 1754 Polk St\, San Francisco\, CA\, 94109\, United States
CATEGORIES:Live Music
END:VEVENT
BEGIN:VEVENT
DTSTART;TZID=America/Los_Angeles:20260517T170000
DTEND;TZID=America/Los_Angeles:20260517T200000
DTSTAMP:20260422T102738
CREATED:20260414T001758Z
LAST-MODIFIED:20260414T001758Z
UID:10016636-1779037200-1779048000@northbeachlive.com
SUMMARY:Gaucho
DESCRIPTION:Settle into a Sunday evening that feels straight out of a New Orleans daydream as Gaucho brings their signature hot-club–inspired jazz to Brenda’s French Soul Food. From 5:00 PM to 8:00 PM\, the band turns the Polk Street institution into a warm\, swinging supper room\, mixing Django-style gypsy jazz\, classic standards\, and soulful improvisations that pair perfectly with beignets\, biscuits\, and Creole comfort food. It’s an easygoing\, come-as-you-are hang: grab a table\, order your favorites from the Brenda’s menu\, and let Gaucho’s guitars\, bass\, and horns carry you through a lazy\, joyfully unhurried Sunday night.
URL:https://northbeachlive.com/event/gaucho-2/2026-05-17/
LOCATION:Brenda’s French Soul Food\, 652 Polk Street\, San Francisco\, CA\, 94102\, United States
CATEGORIES:Live Music
ATTACH;FMTTYPE=image/jpeg:https://northbeachlive.com/wp-content/uploads/2025/09/IMG_0041.jpeg
END:VEVENT
BEGIN:VEVENT
DTSTART;TZID=America/Los_Angeles:20260517T190000
DTEND;TZID=America/Los_Angeles:20260517T230000
DTSTAMP:20260422T102738
CREATED:20250903T221605Z
LAST-MODIFIED:20260325T162745Z
UID:10015453-1779044400-1779058800@northbeachlive.com
SUMMARY:Spanish Folk live music
DESCRIPTION:
URL:https://northbeachlive.com/event/locura-latin-jazz-live-music/2026-05-17/
LOCATION:Amelie\, 1754 Polk St\, San Francisco\, CA\, 94109\, United States
CATEGORIES:Live Music
ATTACH;FMTTYPE=image/webp:https://northbeachlive.com/wp-content/uploads/2025/09/IMG_0240.webp
END:VEVENT
BEGIN:VEVENT
DTSTART;TZID=America/Los_Angeles:20260519T193000
DTEND;TZID=America/Los_Angeles:20260519T223000
DTSTAMP:20260422T102738
CREATED:20260414T003843Z
LAST-MODIFIED:20260414T003843Z
UID:10016689-1779219000-1779229800@northbeachlive.com
SUMMARY:Gaucho Jazz
DESCRIPTION:Step into DecoDance on a Thursday night and you’ll find Gaucho turning the Art Deco lounge into a Paris-meets-San-Francisco swing party. Their hot-club–inspired sound — acoustic guitars\, bass\, and horns weaving gypsy jazz\, musette\, and classic swing — pairs perfectly with the bar’s Great Gatsby mood and craft cocktails. Grab a booth under the moody lights\, order a drink\, and let the band’s playful\, high-energy sets pull you toward the dance floor as the night unfolds.
URL:https://northbeachlive.com/event/gaucho-jazz-2/2026-05-19/
LOCATION:DecoDance Bar\, 1160 Polk St.\, San Francisco\, CA\, 94109\, United States
CATEGORIES:Live Music
ATTACH;FMTTYPE=image/webp:https://northbeachlive.com/wp-content/uploads/2026/04/IMG_0506.webp
END:VEVENT
BEGIN:VEVENT
DTSTART;TZID=America/Los_Angeles:20260520T190000
DTEND;TZID=America/Los_Angeles:20260520T210000
DTSTAMP:20260422T102738
CREATED:20251220T233657Z
LAST-MODIFIED:20260128T020535Z
UID:10011179-1779303600-1779310800@northbeachlive.com
SUMMARY:The Charles Unger Experience
DESCRIPTION:Join us for a high-energy evening of soulful jazz and funk with the Charles Unger Experience at Ti Piacera! \nPerforming every other Wednesday from 7:00 pm to 9:00 pm\, the legendary San Francisco saxophonist Charles Unger brings his signature blend of passion and virtuosity to the stage. Known for his charismatic stage presence and explosive playing\, Charles Unger leads a band that bridges the gap between classic jazz and contemporary grooves. \nThe Charles Unger Experience is more than just a jazz set; it is a vibrant musical journey featuring soulful melodies\, driving rhythms\, and intricate improvisation. Whether he is playing a tender ballad or an up-tempo funk number\, Charles delivers a performance that is both technically impressive and deeply emotional\, making it a perfect mid-week escape in an intimate setting.
URL:https://northbeachlive.com/event/the-charles-unger-experience/2026-05-20/
LOCATION:Ti Piacera\, 1507 Polk St\, San Francisco\, CA\, 94109\, United States
CATEGORIES:Live Music
ATTACH;FMTTYPE=image/jpeg:https://northbeachlive.com/wp-content/uploads/2025/12/IMG_0151.jpeg
END:VEVENT
BEGIN:VEVENT
DTSTART;TZID=America/Los_Angeles:20260521T190000
DTEND;TZID=America/Los_Angeles:20260521T230000
DTSTAMP:20260422T102738
CREATED:20260325T163847Z
LAST-MODIFIED:20260409T205000Z
UID:10015398-1779390000-1779404400@northbeachlive.com
SUMMARY:Jazz Music Bands/Local Musicians
DESCRIPTION:
URL:https://northbeachlive.com/event/jazz-music-bands-local-musicians-2-2/2026-05-21/
LOCATION:Amelie\, 1754 Polk St\, San Francisco\, CA\, 94109\, United States
CATEGORIES:Live Music
END:VEVENT
BEGIN:VEVENT
DTSTART;TZID=America/Los_Angeles:20260524T170000
DTEND;TZID=America/Los_Angeles:20260524T200000
DTSTAMP:20260422T102738
CREATED:20260414T001758Z
LAST-MODIFIED:20260414T001758Z
UID:10016637-1779642000-1779652800@northbeachlive.com
SUMMARY:Gaucho
DESCRIPTION:Settle into a Sunday evening that feels straight out of a New Orleans daydream as Gaucho brings their signature hot-club–inspired jazz to Brenda’s French Soul Food. From 5:00 PM to 8:00 PM\, the band turns the Polk Street institution into a warm\, swinging supper room\, mixing Django-style gypsy jazz\, classic standards\, and soulful improvisations that pair perfectly with beignets\, biscuits\, and Creole comfort food. It’s an easygoing\, come-as-you-are hang: grab a table\, order your favorites from the Brenda’s menu\, and let Gaucho’s guitars\, bass\, and horns carry you through a lazy\, joyfully unhurried Sunday night.
URL:https://northbeachlive.com/event/gaucho-2/2026-05-24/
LOCATION:Brenda’s French Soul Food\, 652 Polk Street\, San Francisco\, CA\, 94102\, United States
CATEGORIES:Live Music
ATTACH;FMTTYPE=image/jpeg:https://northbeachlive.com/wp-content/uploads/2025/09/IMG_0041.jpeg
END:VEVENT
BEGIN:VEVENT
DTSTART;TZID=America/Los_Angeles:20260524T190000
DTEND;TZID=America/Los_Angeles:20260524T230000
DTSTAMP:20260422T102738
CREATED:20250903T221605Z
LAST-MODIFIED:20260325T162745Z
UID:10015454-1779649200-1779663600@northbeachlive.com
SUMMARY:Spanish Folk live music
DESCRIPTION:
URL:https://northbeachlive.com/event/locura-latin-jazz-live-music/2026-05-24/
LOCATION:Amelie\, 1754 Polk St\, San Francisco\, CA\, 94109\, United States
CATEGORIES:Live Music
ATTACH;FMTTYPE=image/webp:https://northbeachlive.com/wp-content/uploads/2025/09/IMG_0240.webp
END:VEVENT
BEGIN:VEVENT
DTSTART;TZID=America/Los_Angeles:20260526T193000
DTEND;TZID=America/Los_Angeles:20260526T223000
DTSTAMP:20260422T102738
CREATED:20260414T003843Z
LAST-MODIFIED:20260414T003843Z
UID:10016690-1779823800-1779834600@northbeachlive.com
SUMMARY:Gaucho Jazz
DESCRIPTION:Step into DecoDance on a Thursday night and you’ll find Gaucho turning the Art Deco lounge into a Paris-meets-San-Francisco swing party. Their hot-club–inspired sound — acoustic guitars\, bass\, and horns weaving gypsy jazz\, musette\, and classic swing — pairs perfectly with the bar’s Great Gatsby mood and craft cocktails. Grab a booth under the moody lights\, order a drink\, and let the band’s playful\, high-energy sets pull you toward the dance floor as the night unfolds.
URL:https://northbeachlive.com/event/gaucho-jazz-2/2026-05-26/
LOCATION:DecoDance Bar\, 1160 Polk St.\, San Francisco\, CA\, 94109\, United States
CATEGORIES:Live Music
ATTACH;FMTTYPE=image/webp:https://northbeachlive.com/wp-content/uploads/2026/04/IMG_0506.webp
END:VEVENT
BEGIN:VEVENT
DTSTART;TZID=America/Los_Angeles:20260527T190000
DTEND;TZID=America/Los_Angeles:20260527T210000
DTSTAMP:20260422T102738
CREATED:20260128T020210Z
LAST-MODIFIED:20260317T011822Z
UID:10012921-1779908400-1779915600@northbeachlive.com
SUMMARY:Live Jazz
DESCRIPTION:Break up the work week with an evening of live jazz at Ti Piacera! \nEvery Wednesday from 7:00 pm to 9:00 pm\, this cozy Polk Street destination hosts a rotating selection of talented local jazz ensembles. While the specific band changes from week to week\, you can always expect a high-quality musical experience featuring some of San Francisco’s most dedicated jazz musicians. \nIt is the perfect atmosphere for a refined dinner or a relaxed drink\, providing a sophisticated backdrop of live improvisation and classic melodies in an intimate neighborhood setting.
URL:https://northbeachlive.com/event/live-jazz-2-2/2026-05-27/
LOCATION:Ti Piacera\, 1507 Polk St\, San Francisco\, CA\, 94109\, United States
CATEGORIES:Live Music
ATTACH;FMTTYPE=image/jpeg:https://northbeachlive.com/wp-content/uploads/2026/01/IMG_0358.jpeg
END:VEVENT
BEGIN:VEVENT
DTSTART;TZID=America/Los_Angeles:20260528T190000
DTEND;TZID=America/Los_Angeles:20260528T230000
DTSTAMP:20260422T102738
CREATED:20260325T163847Z
LAST-MODIFIED:20260409T205000Z
UID:10015399-1779994800-1780009200@northbeachlive.com
SUMMARY:Jazz Music Bands/Local Musicians
DESCRIPTION:
URL:https://northbeachlive.com/event/jazz-music-bands-local-musicians-2-2/2026-05-28/
LOCATION:Amelie\, 1754 Polk St\, San Francisco\, CA\, 94109\, United States
CATEGORIES:Live Music
END:VEVENT
BEGIN:VEVENT
DTSTART;TZID=America/Los_Angeles:20260531T170000
DTEND;TZID=America/Los_Angeles:20260531T200000
DTSTAMP:20260422T102738
CREATED:20260414T001758Z
LAST-MODIFIED:20260414T001758Z
UID:10016638-1780246800-1780257600@northbeachlive.com
SUMMARY:Gaucho
DESCRIPTION:Settle into a Sunday evening that feels straight out of a New Orleans daydream as Gaucho brings their signature hot-club–inspired jazz to Brenda’s French Soul Food. From 5:00 PM to 8:00 PM\, the band turns the Polk Street institution into a warm\, swinging supper room\, mixing Django-style gypsy jazz\, classic standards\, and soulful improvisations that pair perfectly with beignets\, biscuits\, and Creole comfort food. It’s an easygoing\, come-as-you-are hang: grab a table\, order your favorites from the Brenda’s menu\, and let Gaucho’s guitars\, bass\, and horns carry you through a lazy\, joyfully unhurried Sunday night.
URL:https://northbeachlive.com/event/gaucho-2/2026-05-31/
LOCATION:Brenda’s French Soul Food\, 652 Polk Street\, San Francisco\, CA\, 94102\, United States
CATEGORIES:Live Music
ATTACH;FMTTYPE=image/jpeg:https://northbeachlive.com/wp-content/uploads/2025/09/IMG_0041.jpeg
END:VEVENT
BEGIN:VEVENT
DTSTART;TZID=America/Los_Angeles:20260531T190000
DTEND;TZID=America/Los_Angeles:20260531T230000
DTSTAMP:20260422T102738
CREATED:20250903T221605Z
LAST-MODIFIED:20260325T162745Z
UID:10015455-1780254000-1780268400@northbeachlive.com
SUMMARY:Spanish Folk live music
DESCRIPTION:
URL:https://northbeachlive.com/event/locura-latin-jazz-live-music/2026-05-31/
LOCATION:Amelie\, 1754 Polk St\, San Francisco\, CA\, 94109\, United States
CATEGORIES:Live Music
ATTACH;FMTTYPE=image/webp:https://northbeachlive.com/wp-content/uploads/2025/09/IMG_0240.webp
END:VEVENT
END:VCALENDAR