BEGIN:VCALENDAR
VERSION:2.0
PRODID:-//North Beach Live - ECPv6.15.20//NONSGML v1.0//EN
CALSCALE:GREGORIAN
METHOD:PUBLISH
X-ORIGINAL-URL:https://northbeachlive.com
X-WR-CALDESC:Events for North Beach Live
REFRESH-INTERVAL;VALUE=DURATION:PT1H
X-Robots-Tag:noindex
X-PUBLISHED-TTL:PT1H
BEGIN:VTIMEZONE
TZID:America/Los_Angeles
BEGIN:DAYLIGHT
TZOFFSETFROM:-0800
TZOFFSETTO:-0700
TZNAME:PDT
DTSTART:20250309T100000
END:DAYLIGHT
BEGIN:STANDARD
TZOFFSETFROM:-0700
TZOFFSETTO:-0800
TZNAME:PST
DTSTART:20251102T090000
END:STANDARD
BEGIN:DAYLIGHT
TZOFFSETFROM:-0800
TZOFFSETTO:-0700
TZNAME:PDT
DTSTART:20260308T100000
END:DAYLIGHT
BEGIN:STANDARD
TZOFFSETFROM:-0700
TZOFFSETTO:-0800
TZNAME:PST
DTSTART:20261101T090000
END:STANDARD
BEGIN:DAYLIGHT
TZOFFSETFROM:-0800
TZOFFSETTO:-0700
TZNAME:PDT
DTSTART:20270314T100000
END:DAYLIGHT
BEGIN:STANDARD
TZOFFSETFROM:-0700
TZOFFSETTO:-0800
TZNAME:PST
DTSTART:20271107T090000
END:STANDARD
END:VTIMEZONE
BEGIN:VEVENT
DTSTART;TZID=America/Los_Angeles:20260531T190000
DTEND;TZID=America/Los_Angeles:20260531T230000
DTSTAMP:20260422T211724
CREATED:20260422T175559Z
LAST-MODIFIED:20260422T175600Z
UID:10015455-1780254000-1780268400@northbeachlive.com
SUMMARY:Spanish Folk live music
DESCRIPTION:
URL:https://northbeachlive.com/event/locura-latin-jazz-live-music-4/2026-05-31/
LOCATION:Amelie\, 1754 Polk St\, San Francisco\, CA\, 94109\, United States
CATEGORIES:Live Music
ATTACH;FMTTYPE=image/webp:https://northbeachlive.com/wp-content/uploads/2025/09/IMG_0240.webp
END:VEVENT
BEGIN:VEVENT
DTSTART;TZID=America/Los_Angeles:20260604T190000
DTEND;TZID=America/Los_Angeles:20260604T230000
DTSTAMP:20260422T211724
CREATED:20260325T163847Z
LAST-MODIFIED:20260409T205000Z
UID:10015400-1780599600-1780614000@northbeachlive.com
SUMMARY:Jazz Music Bands/Local Musicians
DESCRIPTION:
URL:https://northbeachlive.com/event/jazz-music-bands-local-musicians-2-2/2026-06-04/
LOCATION:Amelie\, 1754 Polk St\, San Francisco\, CA\, 94109\, United States
CATEGORIES:Live Music
END:VEVENT
BEGIN:VEVENT
DTSTART;TZID=America/Los_Angeles:20260607T190000
DTEND;TZID=America/Los_Angeles:20260607T230000
DTSTAMP:20260422T211724
CREATED:20260422T175559Z
LAST-MODIFIED:20260422T175600Z
UID:10015456-1780858800-1780873200@northbeachlive.com
SUMMARY:Spanish Folk live music
DESCRIPTION:
URL:https://northbeachlive.com/event/locura-latin-jazz-live-music-4/2026-06-07/
LOCATION:Amelie\, 1754 Polk St\, San Francisco\, CA\, 94109\, United States
CATEGORIES:Live Music
ATTACH;FMTTYPE=image/webp:https://northbeachlive.com/wp-content/uploads/2025/09/IMG_0240.webp
END:VEVENT
BEGIN:VEVENT
DTSTART;TZID=America/Los_Angeles:20260611T190000
DTEND;TZID=America/Los_Angeles:20260611T230000
DTSTAMP:20260422T211724
CREATED:20260325T163847Z
LAST-MODIFIED:20260409T205000Z
UID:10015401-1781204400-1781218800@northbeachlive.com
SUMMARY:Jazz Music Bands/Local Musicians
DESCRIPTION:
URL:https://northbeachlive.com/event/jazz-music-bands-local-musicians-2-2/2026-06-11/
LOCATION:Amelie\, 1754 Polk St\, San Francisco\, CA\, 94109\, United States
CATEGORIES:Live Music
END:VEVENT
BEGIN:VEVENT
DTSTART;TZID=America/Los_Angeles:20260614T190000
DTEND;TZID=America/Los_Angeles:20260614T230000
DTSTAMP:20260422T211724
CREATED:20260422T175559Z
LAST-MODIFIED:20260422T175600Z
UID:10015457-1781463600-1781478000@northbeachlive.com
SUMMARY:Spanish Folk live music
DESCRIPTION:
URL:https://northbeachlive.com/event/locura-latin-jazz-live-music-4/2026-06-14/
LOCATION:Amelie\, 1754 Polk St\, San Francisco\, CA\, 94109\, United States
CATEGORIES:Live Music
ATTACH;FMTTYPE=image/webp:https://northbeachlive.com/wp-content/uploads/2025/09/IMG_0240.webp
END:VEVENT
BEGIN:VEVENT
DTSTART;TZID=America/Los_Angeles:20260618T190000
DTEND;TZID=America/Los_Angeles:20260618T230000
DTSTAMP:20260422T211724
CREATED:20260325T163847Z
LAST-MODIFIED:20260409T205000Z
UID:10015402-1781809200-1781823600@northbeachlive.com
SUMMARY:Jazz Music Bands/Local Musicians
DESCRIPTION:
URL:https://northbeachlive.com/event/jazz-music-bands-local-musicians-2-2/2026-06-18/
LOCATION:Amelie\, 1754 Polk St\, San Francisco\, CA\, 94109\, United States
CATEGORIES:Live Music
END:VEVENT
BEGIN:VEVENT
DTSTART;TZID=America/Los_Angeles:20260621T190000
DTEND;TZID=America/Los_Angeles:20260621T230000
DTSTAMP:20260422T211724
CREATED:20260422T175559Z
LAST-MODIFIED:20260422T175600Z
UID:10015458-1782068400-1782082800@northbeachlive.com
SUMMARY:Spanish Folk live music
DESCRIPTION:
URL:https://northbeachlive.com/event/locura-latin-jazz-live-music-4/2026-06-21/
LOCATION:Amelie\, 1754 Polk St\, San Francisco\, CA\, 94109\, United States
CATEGORIES:Live Music
ATTACH;FMTTYPE=image/webp:https://northbeachlive.com/wp-content/uploads/2025/09/IMG_0240.webp
END:VEVENT
BEGIN:VEVENT
DTSTART;TZID=America/Los_Angeles:20260625T190000
DTEND;TZID=America/Los_Angeles:20260625T230000
DTSTAMP:20260422T211724
CREATED:20260325T163847Z
LAST-MODIFIED:20260409T205000Z
UID:10015403-1782414000-1782428400@northbeachlive.com
SUMMARY:Jazz Music Bands/Local Musicians
DESCRIPTION:
URL:https://northbeachlive.com/event/jazz-music-bands-local-musicians-2-2/2026-06-25/
LOCATION:Amelie\, 1754 Polk St\, San Francisco\, CA\, 94109\, United States
CATEGORIES:Live Music
END:VEVENT
BEGIN:VEVENT
DTSTART;TZID=America/Los_Angeles:20260628T190000
DTEND;TZID=America/Los_Angeles:20260628T230000
DTSTAMP:20260422T211724
CREATED:20260422T175559Z
LAST-MODIFIED:20260422T175600Z
UID:10015459-1782673200-1782687600@northbeachlive.com
SUMMARY:Spanish Folk live music
DESCRIPTION:
URL:https://northbeachlive.com/event/locura-latin-jazz-live-music-4/2026-06-28/
LOCATION:Amelie\, 1754 Polk St\, San Francisco\, CA\, 94109\, United States
CATEGORIES:Live Music
ATTACH;FMTTYPE=image/webp:https://northbeachlive.com/wp-content/uploads/2025/09/IMG_0240.webp
END:VEVENT
BEGIN:VEVENT
DTSTART;TZID=America/Los_Angeles:20260702T190000
DTEND;TZID=America/Los_Angeles:20260702T230000
DTSTAMP:20260422T211724
CREATED:20260325T163847Z
LAST-MODIFIED:20260409T205000Z
UID:10015404-1783018800-1783033200@northbeachlive.com
SUMMARY:Jazz Music Bands/Local Musicians
DESCRIPTION:
URL:https://northbeachlive.com/event/jazz-music-bands-local-musicians-2-2/2026-07-02/
LOCATION:Amelie\, 1754 Polk St\, San Francisco\, CA\, 94109\, United States
CATEGORIES:Live Music
END:VEVENT
BEGIN:VEVENT
DTSTART;TZID=America/Los_Angeles:20260705T190000
DTEND;TZID=America/Los_Angeles:20260705T230000
DTSTAMP:20260422T211724
CREATED:20260422T175559Z
LAST-MODIFIED:20260422T175600Z
UID:10015460-1783278000-1783292400@northbeachlive.com
SUMMARY:Spanish Folk live music
DESCRIPTION:
URL:https://northbeachlive.com/event/locura-latin-jazz-live-music-4/2026-07-05/
LOCATION:Amelie\, 1754 Polk St\, San Francisco\, CA\, 94109\, United States
CATEGORIES:Live Music
ATTACH;FMTTYPE=image/webp:https://northbeachlive.com/wp-content/uploads/2025/09/IMG_0240.webp
END:VEVENT
BEGIN:VEVENT
DTSTART;TZID=America/Los_Angeles:20260709T190000
DTEND;TZID=America/Los_Angeles:20260709T230000
DTSTAMP:20260422T211724
CREATED:20260325T163847Z
LAST-MODIFIED:20260409T205000Z
UID:10015405-1783623600-1783638000@northbeachlive.com
SUMMARY:Jazz Music Bands/Local Musicians
DESCRIPTION:
URL:https://northbeachlive.com/event/jazz-music-bands-local-musicians-2-2/2026-07-09/
LOCATION:Amelie\, 1754 Polk St\, San Francisco\, CA\, 94109\, United States
CATEGORIES:Live Music
END:VEVENT
BEGIN:VEVENT
DTSTART;TZID=America/Los_Angeles:20260712T190000
DTEND;TZID=America/Los_Angeles:20260712T230000
DTSTAMP:20260422T211724
CREATED:20260422T175559Z
LAST-MODIFIED:20260422T175600Z
UID:10015461-1783882800-1783897200@northbeachlive.com
SUMMARY:Spanish Folk live music
DESCRIPTION:
URL:https://northbeachlive.com/event/locura-latin-jazz-live-music-4/2026-07-12/
LOCATION:Amelie\, 1754 Polk St\, San Francisco\, CA\, 94109\, United States
CATEGORIES:Live Music
ATTACH;FMTTYPE=image/webp:https://northbeachlive.com/wp-content/uploads/2025/09/IMG_0240.webp
END:VEVENT
BEGIN:VEVENT
DTSTART;TZID=America/Los_Angeles:20260716T190000
DTEND;TZID=America/Los_Angeles:20260716T230000
DTSTAMP:20260422T211724
CREATED:20260325T163847Z
LAST-MODIFIED:20260409T205000Z
UID:10015406-1784228400-1784242800@northbeachlive.com
SUMMARY:Jazz Music Bands/Local Musicians
DESCRIPTION:
URL:https://northbeachlive.com/event/jazz-music-bands-local-musicians-2-2/2026-07-16/
LOCATION:Amelie\, 1754 Polk St\, San Francisco\, CA\, 94109\, United States
CATEGORIES:Live Music
END:VEVENT
BEGIN:VEVENT
DTSTART;TZID=America/Los_Angeles:20260719T190000
DTEND;TZID=America/Los_Angeles:20260719T230000
DTSTAMP:20260422T211724
CREATED:20260422T175559Z
LAST-MODIFIED:20260422T175600Z
UID:10015462-1784487600-1784502000@northbeachlive.com
SUMMARY:Spanish Folk live music
DESCRIPTION:
URL:https://northbeachlive.com/event/locura-latin-jazz-live-music-4/2026-07-19/
LOCATION:Amelie\, 1754 Polk St\, San Francisco\, CA\, 94109\, United States
CATEGORIES:Live Music
ATTACH;FMTTYPE=image/webp:https://northbeachlive.com/wp-content/uploads/2025/09/IMG_0240.webp
END:VEVENT
BEGIN:VEVENT
DTSTART;TZID=America/Los_Angeles:20260723T190000
DTEND;TZID=America/Los_Angeles:20260723T230000
DTSTAMP:20260422T211724
CREATED:20260325T163847Z
LAST-MODIFIED:20260409T205000Z
UID:10015407-1784833200-1784847600@northbeachlive.com
SUMMARY:Jazz Music Bands/Local Musicians
DESCRIPTION:
URL:https://northbeachlive.com/event/jazz-music-bands-local-musicians-2-2/2026-07-23/
LOCATION:Amelie\, 1754 Polk St\, San Francisco\, CA\, 94109\, United States
CATEGORIES:Live Music
END:VEVENT
BEGIN:VEVENT
DTSTART;TZID=America/Los_Angeles:20260726T190000
DTEND;TZID=America/Los_Angeles:20260726T230000
DTSTAMP:20260422T211724
CREATED:20260422T175559Z
LAST-MODIFIED:20260422T175600Z
UID:10015463-1785092400-1785106800@northbeachlive.com
SUMMARY:Spanish Folk live music
DESCRIPTION:
URL:https://northbeachlive.com/event/locura-latin-jazz-live-music-4/2026-07-26/
LOCATION:Amelie\, 1754 Polk St\, San Francisco\, CA\, 94109\, United States
CATEGORIES:Live Music
ATTACH;FMTTYPE=image/webp:https://northbeachlive.com/wp-content/uploads/2025/09/IMG_0240.webp
END:VEVENT
BEGIN:VEVENT
DTSTART;TZID=America/Los_Angeles:20260730T190000
DTEND;TZID=America/Los_Angeles:20260730T230000
DTSTAMP:20260422T211724
CREATED:20260325T163847Z
LAST-MODIFIED:20260409T205000Z
UID:10015408-1785438000-1785452400@northbeachlive.com
SUMMARY:Jazz Music Bands/Local Musicians
DESCRIPTION:
URL:https://northbeachlive.com/event/jazz-music-bands-local-musicians-2-2/2026-07-30/
LOCATION:Amelie\, 1754 Polk St\, San Francisco\, CA\, 94109\, United States
CATEGORIES:Live Music
END:VEVENT
BEGIN:VEVENT
DTSTART;TZID=America/Los_Angeles:20260802T190000
DTEND;TZID=America/Los_Angeles:20260802T230000
DTSTAMP:20260422T211724
CREATED:20260422T175559Z
LAST-MODIFIED:20260422T175600Z
UID:10015464-1785697200-1785711600@northbeachlive.com
SUMMARY:Spanish Folk live music
DESCRIPTION:
URL:https://northbeachlive.com/event/locura-latin-jazz-live-music-4/2026-08-02/
LOCATION:Amelie\, 1754 Polk St\, San Francisco\, CA\, 94109\, United States
CATEGORIES:Live Music
ATTACH;FMTTYPE=image/webp:https://northbeachlive.com/wp-content/uploads/2025/09/IMG_0240.webp
END:VEVENT
BEGIN:VEVENT
DTSTART;TZID=America/Los_Angeles:20260806T190000
DTEND;TZID=America/Los_Angeles:20260806T230000
DTSTAMP:20260422T211724
CREATED:20260325T163847Z
LAST-MODIFIED:20260409T205000Z
UID:10015409-1786042800-1786057200@northbeachlive.com
SUMMARY:Jazz Music Bands/Local Musicians
DESCRIPTION:
URL:https://northbeachlive.com/event/jazz-music-bands-local-musicians-2-2/2026-08-06/
LOCATION:Amelie\, 1754 Polk St\, San Francisco\, CA\, 94109\, United States
CATEGORIES:Live Music
END:VEVENT
BEGIN:VEVENT
DTSTART;TZID=America/Los_Angeles:20260809T190000
DTEND;TZID=America/Los_Angeles:20260809T230000
DTSTAMP:20260422T211724
CREATED:20260422T175559Z
LAST-MODIFIED:20260422T175600Z
UID:10015465-1786302000-1786316400@northbeachlive.com
SUMMARY:Spanish Folk live music
DESCRIPTION:
URL:https://northbeachlive.com/event/locura-latin-jazz-live-music-4/2026-08-09/
LOCATION:Amelie\, 1754 Polk St\, San Francisco\, CA\, 94109\, United States
CATEGORIES:Live Music
ATTACH;FMTTYPE=image/webp:https://northbeachlive.com/wp-content/uploads/2025/09/IMG_0240.webp
END:VEVENT
BEGIN:VEVENT
DTSTART;TZID=America/Los_Angeles:20260813T190000
DTEND;TZID=America/Los_Angeles:20260813T230000
DTSTAMP:20260422T211724
CREATED:20260325T163847Z
LAST-MODIFIED:20260409T205000Z
UID:10015410-1786647600-1786662000@northbeachlive.com
SUMMARY:Jazz Music Bands/Local Musicians
DESCRIPTION:
URL:https://northbeachlive.com/event/jazz-music-bands-local-musicians-2-2/2026-08-13/
LOCATION:Amelie\, 1754 Polk St\, San Francisco\, CA\, 94109\, United States
CATEGORIES:Live Music
END:VEVENT
BEGIN:VEVENT
DTSTART;TZID=America/Los_Angeles:20260816T190000
DTEND;TZID=America/Los_Angeles:20260816T230000
DTSTAMP:20260422T211724
CREATED:20260422T175559Z
LAST-MODIFIED:20260422T175600Z
UID:10015466-1786906800-1786921200@northbeachlive.com
SUMMARY:Spanish Folk live music
DESCRIPTION:
URL:https://northbeachlive.com/event/locura-latin-jazz-live-music-4/2026-08-16/
LOCATION:Amelie\, 1754 Polk St\, San Francisco\, CA\, 94109\, United States
CATEGORIES:Live Music
ATTACH;FMTTYPE=image/webp:https://northbeachlive.com/wp-content/uploads/2025/09/IMG_0240.webp
END:VEVENT
BEGIN:VEVENT
DTSTART;TZID=America/Los_Angeles:20260820T190000
DTEND;TZID=America/Los_Angeles:20260820T230000
DTSTAMP:20260422T211724
CREATED:20260325T163847Z
LAST-MODIFIED:20260409T205000Z
UID:10015411-1787252400-1787266800@northbeachlive.com
SUMMARY:Jazz Music Bands/Local Musicians
DESCRIPTION:
URL:https://northbeachlive.com/event/jazz-music-bands-local-musicians-2-2/2026-08-20/
LOCATION:Amelie\, 1754 Polk St\, San Francisco\, CA\, 94109\, United States
CATEGORIES:Live Music
END:VEVENT
BEGIN:VEVENT
DTSTART;TZID=America/Los_Angeles:20260823T190000
DTEND;TZID=America/Los_Angeles:20260823T230000
DTSTAMP:20260422T211724
CREATED:20260422T175559Z
LAST-MODIFIED:20260422T175600Z
UID:10015467-1787511600-1787526000@northbeachlive.com
SUMMARY:Spanish Folk live music
DESCRIPTION:
URL:https://northbeachlive.com/event/locura-latin-jazz-live-music-4/2026-08-23/
LOCATION:Amelie\, 1754 Polk St\, San Francisco\, CA\, 94109\, United States
CATEGORIES:Live Music
ATTACH;FMTTYPE=image/webp:https://northbeachlive.com/wp-content/uploads/2025/09/IMG_0240.webp
END:VEVENT
BEGIN:VEVENT
DTSTART;TZID=America/Los_Angeles:20260827T190000
DTEND;TZID=America/Los_Angeles:20260827T230000
DTSTAMP:20260422T211724
CREATED:20260325T163847Z
LAST-MODIFIED:20260409T205000Z
UID:10015412-1787857200-1787871600@northbeachlive.com
SUMMARY:Jazz Music Bands/Local Musicians
DESCRIPTION:
URL:https://northbeachlive.com/event/jazz-music-bands-local-musicians-2-2/2026-08-27/
LOCATION:Amelie\, 1754 Polk St\, San Francisco\, CA\, 94109\, United States
CATEGORIES:Live Music
END:VEVENT
BEGIN:VEVENT
DTSTART;TZID=America/Los_Angeles:20260830T190000
DTEND;TZID=America/Los_Angeles:20260830T230000
DTSTAMP:20260422T211724
CREATED:20260422T175559Z
LAST-MODIFIED:20260422T175600Z
UID:10015468-1788116400-1788130800@northbeachlive.com
SUMMARY:Spanish Folk live music
DESCRIPTION:
URL:https://northbeachlive.com/event/locura-latin-jazz-live-music-4/2026-08-30/
LOCATION:Amelie\, 1754 Polk St\, San Francisco\, CA\, 94109\, United States
CATEGORIES:Live Music
ATTACH;FMTTYPE=image/webp:https://northbeachlive.com/wp-content/uploads/2025/09/IMG_0240.webp
END:VEVENT
BEGIN:VEVENT
DTSTART;TZID=America/Los_Angeles:20260903T190000
DTEND;TZID=America/Los_Angeles:20260903T230000
DTSTAMP:20260422T211724
CREATED:20260325T163847Z
LAST-MODIFIED:20260409T205000Z
UID:10015413-1788462000-1788476400@northbeachlive.com
SUMMARY:Jazz Music Bands/Local Musicians
DESCRIPTION:
URL:https://northbeachlive.com/event/jazz-music-bands-local-musicians-2-2/2026-09-03/
LOCATION:Amelie\, 1754 Polk St\, San Francisco\, CA\, 94109\, United States
CATEGORIES:Live Music
END:VEVENT
BEGIN:VEVENT
DTSTART;TZID=America/Los_Angeles:20260906T190000
DTEND;TZID=America/Los_Angeles:20260906T230000
DTSTAMP:20260422T211724
CREATED:20260422T175559Z
LAST-MODIFIED:20260422T175600Z
UID:10015469-1788721200-1788735600@northbeachlive.com
SUMMARY:Spanish Folk live music
DESCRIPTION:
URL:https://northbeachlive.com/event/locura-latin-jazz-live-music-4/2026-09-06/
LOCATION:Amelie\, 1754 Polk St\, San Francisco\, CA\, 94109\, United States
CATEGORIES:Live Music
ATTACH;FMTTYPE=image/webp:https://northbeachlive.com/wp-content/uploads/2025/09/IMG_0240.webp
END:VEVENT
BEGIN:VEVENT
DTSTART;TZID=America/Los_Angeles:20260910T190000
DTEND;TZID=America/Los_Angeles:20260910T230000
DTSTAMP:20260422T211724
CREATED:20260325T163847Z
LAST-MODIFIED:20260409T205000Z
UID:10015414-1789066800-1789081200@northbeachlive.com
SUMMARY:Jazz Music Bands/Local Musicians
DESCRIPTION:
URL:https://northbeachlive.com/event/jazz-music-bands-local-musicians-2-2/2026-09-10/
LOCATION:Amelie\, 1754 Polk St\, San Francisco\, CA\, 94109\, United States
CATEGORIES:Live Music
END:VEVENT
END:VCALENDAR