BEGIN:VCALENDAR
VERSION:2.0
PRODID:-//North Beach Live - ECPv6.15.20//NONSGML v1.0//EN
CALSCALE:GREGORIAN
METHOD:PUBLISH
X-ORIGINAL-URL:https://northbeachlive.com
X-WR-CALDESC:Events for North Beach Live
REFRESH-INTERVAL;VALUE=DURATION:PT1H
X-Robots-Tag:noindex
X-PUBLISHED-TTL:PT1H
BEGIN:VTIMEZONE
TZID:America/Los_Angeles
BEGIN:DAYLIGHT
TZOFFSETFROM:-0800
TZOFFSETTO:-0700
TZNAME:PDT
DTSTART:20250309T100000
END:DAYLIGHT
BEGIN:STANDARD
TZOFFSETFROM:-0700
TZOFFSETTO:-0800
TZNAME:PST
DTSTART:20251102T090000
END:STANDARD
BEGIN:DAYLIGHT
TZOFFSETFROM:-0800
TZOFFSETTO:-0700
TZNAME:PDT
DTSTART:20260308T100000
END:DAYLIGHT
BEGIN:STANDARD
TZOFFSETFROM:-0700
TZOFFSETTO:-0800
TZNAME:PST
DTSTART:20261101T090000
END:STANDARD
BEGIN:DAYLIGHT
TZOFFSETFROM:-0800
TZOFFSETTO:-0700
TZNAME:PDT
DTSTART:20270314T100000
END:DAYLIGHT
BEGIN:STANDARD
TZOFFSETFROM:-0700
TZOFFSETTO:-0800
TZNAME:PST
DTSTART:20271107T090000
END:STANDARD
END:VTIMEZONE
BEGIN:VEVENT
DTSTART;TZID=America/Los_Angeles:20260423T200000
DTEND;TZID=America/Los_Angeles:20260423T235900
DTSTAMP:20260423T010920
CREATED:20260416T200804Z
LAST-MODIFIED:20260416T212139Z
UID:10016300-1776974400-1776988740@northbeachlive.com
SUMMARY:Hard Bop Quintet
DESCRIPTION:The Hard Bop Quintet is a jazz group from the San Francisco Bay Area inspired by the fiery style of the early 1960s New York jazz scene. \nThe group began as the brainchild of two Bay Area jazz musicians who grew up together in Santa Cruz\, California: trombonist Scott Larson\, and trumpeter Jay Sanders – the idea for the band being to create a hard bop jazz group which seamlessly fuses different musical aesthetics from boogaloo\, afro-cuban\, and bebop into the contemporary jazz landscape. \nThe groups repertoire consists of original compositions by Larson as well as new interpretations of genre classics by legends such as Hank Mobley\, Lee Morgan and Kenny Dorham.
URL:https://northbeachlive.com/event/hard-bop-quintet-2/
LOCATION:Dawn Club\, 10 Annie St\, San Francisco\, CA\, 94103\, United States
CATEGORIES:Live Music
ATTACH;FMTTYPE=image/webp:https://northbeachlive.com/wp-content/uploads/2026/04/IMG_0640.webp
END:VEVENT
BEGIN:VEVENT
DTSTART;TZID=America/Los_Angeles:20260424T200000
DTEND;TZID=America/Los_Angeles:20260424T235900
DTSTAMP:20260423T010920
CREATED:20260104T200824Z
LAST-MODIFIED:20260401T034553Z
UID:10015831-1777060800-1777075140@northbeachlive.com
SUMMARY:Fog City Swing
DESCRIPTION:Ladies and Gentemen\, introducing Fog City Swing! The bay area’s newest and hottest swing band featuring an electrifying three horn front line\, stellar crooning vocals\, and a swing till you drop rhythm section. This seven piece ensemble will transport you to the 1940’s\, it is truly the world’s smallest big band! \nFog City Swing is co-led by saxophonist Greg Johnson and trumpeter Daniel Herrera.
URL:https://northbeachlive.com/event/fog-city-swing/2026-04-24/
LOCATION:Dawn Club\, 10 Annie St\, San Francisco\, CA\, 94103\, United States
CATEGORIES:Live Music
ATTACH;FMTTYPE=image/png:https://northbeachlive.com/wp-content/uploads/2026/02/IMG_0074.png
END:VEVENT
BEGIN:VEVENT
DTSTART;TZID=America/Los_Angeles:20260424T235900
DTEND;TZID=America/Los_Angeles:20260425T013000
DTSTAMP:20260423T010920
CREATED:20260225T000120Z
LAST-MODIFIED:20260416T211934Z
UID:10016301-1777075140-1777080600@northbeachlive.com
SUMMARY:Late Night: Kevin Person Jr.
DESCRIPTION:Kevin Person Jr. has been captivating audiences with his piano artistry for over two decades. His journey began with a spark of inspiration\, ignited by jazz\, when his father encouraged him to join the renowned jazz program at Alta Sierra Middle School under the guidance of Paul Lucckesi. During his teenage years\, Kevin’s musical horizons expanded as he immersed himself in the rich traditions of Gospel music\, playing passionately for his father’s church. These formative experiences laid the foundation for his distinctive blend of soulful expression and improvisational brilliance. After high school\, Kevin refined his craft at California State University\, Fresno\, where he studied Jazz Performance. Today\, he brings his dynamic energy and heartfelt performances to stages across California\, sharing his love of music with audiences who are drawn to his depth\, creativity\, and unmistakable sound.
URL:https://northbeachlive.com/event/late-night-kevin-person-jr/2026-04-24/
LOCATION:Dawn Club\, 10 Annie St\, San Francisco\, CA\, 94103\, United States
CATEGORIES:Live Music
ATTACH;FMTTYPE=image/webp:https://northbeachlive.com/wp-content/uploads/2026/02/IMG_0234.webp
END:VEVENT
BEGIN:VEVENT
DTSTART;TZID=America/Los_Angeles:20260425T203000
DTEND;TZID=America/Los_Angeles:20260425T235900
DTSTAMP:20260423T010920
CREATED:20260228T114047Z
LAST-MODIFIED:20260410T125007Z
UID:10016302-1777149000-1777161540@northbeachlive.com
SUMMARY:Ben Misterka and Collectivity
DESCRIPTION:Collectivity is a jazz/funk\, psychedelic soul band originally formed in Shanghai\, China and now based in the SF Bay Area. We’re talking about blistering energy and genre blending from an ensemble of world class musicians with a focus on exploration through collective improvisation. Upbeat grooves\, soulful guitar work and tight arrangements are things to expect from a collectivity show. They draw on influences from jazz/funk\, gospel and psychedelic soul. \nWith their high energy stage performances\, this band has recently opened for Larry Graham at Shanghai Arena\, performed in Mongolia at Ulanchabo Stadium\, toured in Europe\, and headlining festivals across the States\, and has been turning heads touring throughout Asia and the US. \nIn addition to the guitar wizardry of bandleader Ben Misterka\, the level of musicianship in this band is off the charts. The two horn players have played with Etta James\, Boz Scaggs and The New Mastersounds! Bassist Uriah Duffy is one of the most loved on the scene\, working with everyone from Christina Aguilera\, Whitesnake\, Too Short\, The Family Stone to name a few. Keys wizard Kevin Wong is one of the most in demand in the Bay and Tokyo. You may have seen James Small on the drums touring the world with Fantastic Negrito. We can’t wait to witness firsthand why Collectivity is renowned across several continents
URL:https://northbeachlive.com/event/ben-misterka-and-collectivity/2026-04-25/
LOCATION:Dawn Club\, 10 Annie St\, San Francisco\, CA\, 94103\, United States
CATEGORIES:Live Music
ATTACH;FMTTYPE=image/webp:https://northbeachlive.com/wp-content/uploads/2026/02/Ben-Misterka-and-Collectivity.webp
END:VEVENT
BEGIN:VEVENT
DTSTART;TZID=America/Los_Angeles:20260427T200000
DTEND;TZID=America/Los_Angeles:20260427T235900
DTSTAMP:20260423T010920
CREATED:20251221T185740Z
LAST-MODIFIED:20260416T212247Z
UID:10016303-1777320000-1777334340@northbeachlive.com
SUMMARY:Silver Bell Jazz Band
DESCRIPTION:Silver Bell Jazz Band inspires dancers and listeners all over the Bay Area. The band specializes in ragtime\, blues\, swing\, and dixieland from the early 20th century. They’re known for their authenticity and dedication to the craft as well as their foot-tapping energy
URL:https://northbeachlive.com/event/silver-bell-jazz-band/2026-04-27/
LOCATION:Dawn Club\, 10 Annie St\, San Francisco\, CA\, 94103\, United States
CATEGORIES:Live Music
ATTACH;FMTTYPE=image/webp:https://northbeachlive.com/wp-content/uploads/2025/12/IMG_0233.webp
END:VEVENT
BEGIN:VEVENT
DTSTART;TZID=America/Los_Angeles:20260428T200000
DTEND;TZID=America/Los_Angeles:20260428T235900
DTSTAMP:20260423T010920
CREATED:20260416T212622Z
LAST-MODIFIED:20260416T212622Z
UID:10016304-1777406400-1777420740@northbeachlive.com
SUMMARY:Marcos Varela
DESCRIPTION:Marcos Varela\, an equally skilled doubler at both acoustic and electric bass\, is among the most highly respected bassists/musicians in the American and International Jazz/music scene. His talents have also earned him many awards (YoungArts\, Creative Capital\, Jazz Road) and accolades as a musician\, composer\, producer\, band leader\, and educator. \nIn his hometown of Houston\, Texas\, Varela attended the renowned High School for the Performing & Visual Arts\, which paved the path for him to NYC to attend the storied New School on scholarship. As a professional musician\, he continues to be very active in the New York jazz and contemporary music scene\, and has made a name for himself as one of the most in-demand bassists in the City and worldwide. He regularly performs with a wide variety of ensembles and band leader including: The Mingus Big Band\, Nasheet Waits\, John Holiday\, George Cables\, Ingrid Jensen\, ‪Billy Hart‬\, Antoine Roney\, Charli Persip\, ‪Clifton Anderson‬\, ‪Jason Moran‬\, ‪Geri Allen‬\, ‪The Last Poets‬\, ‪Leslie Odom\, Jr‬.\, Frank Lacy’s Vibe Tribe\, ‪Kendrick Scott‬\, ‪Billy Harper‬\, ‪Tyshawn Sorey‬\, and Bob Mover\, among countless others. Varela was also selected as a member of ‪Jazz at Lincoln Center‬ trombonist Vincent Gardner’s Jazz Houston\, which has featured guests such as ‪Gregory Porter‬\, ‪Wynton Marsalis‬\, ‪Ruben Blades‬ and‪ Jon Faddis‬‬. As a composer\, Varela has also composed music for several film and television projects\, including director Domenica Cameron-Scorsese’s film “Roots in Water.” \nLegendary bassist ‪Ron Carter‬ contributed to the liner notes for Varela’s Origin Records debut album “San Ygnacio\,” where Carter writes that Varela’s “Tone\, Choice of Notes and Compositions will place his playing and name on the list of bassists to be heard.” In addition\, Mr. Carter has made statements regarding Varela’s musical contributions\, saying of him “a valuable asset to any musical organization\,” “a truly unique musician\,” “Mr. Varela belongs in the top bass players in the industry and his impressive resume confirms my words\,” “a fine example of talent that is essential to the scene\,” and “top notch proficiency on his instrument as well as a complete understanding of the history and details of the jazz art form.” \nIn addition to sideman work\, Varela leads his own projects. This includes a European tour which featured a festival headlining performance of the music of his debut album “San Ygnacio” at the historic Jazz á Liège festival in Liege\, Belgium. This project (Marcos Varela featuring Billy Hart)‬ shared a billing with Fred Hersch‬’s Trio at the festival. He also headlined leading an all star quartet at Prishtina’s Jazz Week in Kosovo\, in March of 2020. He opened for the Legendary Mavis Staples with his “San Ygnacio project” in his hometown of Houston\, TX at Discovery Green in October 2021 and most recently headlined the 30th anniversary of the Bilbaina Jazz Association in Bilbao\, Spain at the beautiful and historic Teatro Arriaga Antzokia in December 2021. Varela’s newest projects include “One Mind\,” recently released on the Spanish label Fresh Sound Records\, with pianist Peter Zak\, as well as Seamus Blake and Billy Drummond. Another project on the same label “Illumination” featuring Rob Garcia\, Marcos Varela\, John O’Gallagher\, and ‪Noah Preminger\,‬ was the most recent release on December 15th\, 2020. \nMarcos was also a recent recipient of a South Arts “Jazz Road” grant and a Creative Capital fellow and Awardee \nMarcos is an NS Design\, Aguilar Amplification\, Kolstein\, Thomastik-Infeld Strings\, Fishman\, Mono Creators\, and Fodera Artist.
URL:https://northbeachlive.com/event/marcos-varela/
LOCATION:Dawn Club\, 10 Annie St\, San Francisco\, CA\, 94103\, United States
CATEGORIES:Live Music
ATTACH;FMTTYPE=image/webp:https://northbeachlive.com/wp-content/uploads/2026/04/IMG_0642.webp
END:VEVENT
BEGIN:VEVENT
DTSTART;TZID=America/Los_Angeles:20260429T200000
DTEND;TZID=America/Los_Angeles:20260429T235900
DTSTAMP:20260423T010920
CREATED:20251222T193758Z
LAST-MODIFIED:20260416T212355Z
UID:10016305-1777492800-1777507140@northbeachlive.com
SUMMARY:Tomoko Funaki
DESCRIPTION:Tomoko Funaki was born in Japan into a musical family. Following in the footsteps of her parents\, both musicians\, she studied classical violin and flute. A move to New York exposed her to a broad range of musical genres but she found herself increasingly drawn towards jazz. After moving to San Francisco in 2002\, she began studying upright bass and quickly immersed herself into the San Francisco jazz scene\, studying and performing with luminaries including Ray Drummond\, Rodney Whitaker\, Rufus Reid\, the Marcus Shelby Jazz Orchestra\, Andrew Speight\, Vince Lateano\, Mark Levine\, Donald “Duck” Bailey\, Allan Harris and Denise Perrier. She has also been involved in jazz education programs such as ‘Stanford Jazz Workshop’ and SFSU ICA ‘The Generations Jazz Project’ in recent years.
URL:https://northbeachlive.com/event/tomoko-funaki/2026-04-29/
LOCATION:Dawn Club\, 10 Annie St\, San Francisco\, CA\, 94103\, United States
CATEGORIES:Live Music
ATTACH;FMTTYPE=image/webp:https://northbeachlive.com/wp-content/uploads/2025/12/IMG_0643.webp
END:VEVENT
BEGIN:VEVENT
DTSTART;TZID=America/Los_Angeles:20260430T200000
DTEND;TZID=America/Los_Angeles:20260430T235900
DTSTAMP:20260423T010920
CREATED:20260416T212504Z
LAST-MODIFIED:20260416T212504Z
UID:10016306-1777579200-1777593540@northbeachlive.com
SUMMARY:Jonathon Seiberlich
DESCRIPTION:Over the past 12 years\, Jonathan Seiberlich has become a prominent member of the San Francisco Bay Area’s vibrant music scene. On any given night you may hear him perform with the San Francisco Symphony\, the Nomad Session Wind Octet\, Jazz Mafia collective\, Circus Bella\, and Kyle Athayde Dance Party. Jonathan has also performed alongside internationally renowned acts such as Sigur Ros\, Ben Folds\, Veronica Swift\, Peter Apfelbaum\, Josh Jones\, and The California Honeydrops. \nJonathan formed the Seiberlich Quintet in 2024 to explore music that combines “Classical” composition with avant-garde improvisational music. \nThe debut record “Isolation Suite” features Danny Lunin-Laden(trombone)\, Mike Olmos(trumpet)\, Raffi Garabedian(tenor saxophone)\, and Scott Amendola(drums).
URL:https://northbeachlive.com/event/jonathon-seiberlich/
LOCATION:Dawn Club\, 10 Annie St\, San Francisco\, CA\, 94103\, United States
CATEGORIES:Live Music
ATTACH;FMTTYPE=image/webp:https://northbeachlive.com/wp-content/uploads/2026/04/IMG_0644.webp
END:VEVENT
END:VCALENDAR