BEGIN:VCALENDAR
VERSION:2.0
PRODID:-//North Beach Live - ECPv6.15.20//NONSGML v1.0//EN
CALSCALE:GREGORIAN
METHOD:PUBLISH
X-WR-CALNAME:North Beach Live
X-ORIGINAL-URL:https://northbeachlive.com
X-WR-CALDESC:Events for North Beach Live
REFRESH-INTERVAL;VALUE=DURATION:PT1H
X-Robots-Tag:noindex
X-PUBLISHED-TTL:PT1H
BEGIN:VTIMEZONE
TZID:America/Los_Angeles
BEGIN:DAYLIGHT
TZOFFSETFROM:-0800
TZOFFSETTO:-0700
TZNAME:PDT
DTSTART:20250309T100000
END:DAYLIGHT
BEGIN:STANDARD
TZOFFSETFROM:-0700
TZOFFSETTO:-0800
TZNAME:PST
DTSTART:20251102T090000
END:STANDARD
BEGIN:DAYLIGHT
TZOFFSETFROM:-0800
TZOFFSETTO:-0700
TZNAME:PDT
DTSTART:20260308T100000
END:DAYLIGHT
BEGIN:STANDARD
TZOFFSETFROM:-0700
TZOFFSETTO:-0800
TZNAME:PST
DTSTART:20261101T090000
END:STANDARD
BEGIN:DAYLIGHT
TZOFFSETFROM:-0800
TZOFFSETTO:-0700
TZNAME:PDT
DTSTART:20270314T100000
END:DAYLIGHT
BEGIN:STANDARD
TZOFFSETFROM:-0700
TZOFFSETTO:-0800
TZNAME:PST
DTSTART:20271107T090000
END:STANDARD
END:VTIMEZONE
BEGIN:VEVENT
DTSTART;TZID=America/Los_Angeles:20260621T180000
DTEND;TZID=America/Los_Angeles:20260621T210000
DTSTAMP:20260424T001126
CREATED:20251014T235808Z
LAST-MODIFIED:20260307T005902Z
UID:10011766-1782064800-1782075600@northbeachlive.com
SUMMARY:Twango SF
DESCRIPTION:Twango SF plays every Sunday evening at Etcetera Wine bar. This gypsy jazz group that plays hot swing music in the style of Django Reinhardt.
URL:https://northbeachlive.com/event/twango-sf/2026-06-21/
LOCATION:Etcetera Wine Bar\, 795 Valencia St\, San Francisco\, CA\, 94110\, United States
CATEGORIES:Live Music
ATTACH;FMTTYPE=image/png:https://northbeachlive.com/wp-content/uploads/2025/10/IMG_0403.png
END:VEVENT
BEGIN:VEVENT
DTSTART;TZID=America/Los_Angeles:20260622T180000
DTEND;TZID=America/Los_Angeles:20260622T210000
DTSTAMP:20260424T001126
CREATED:20251015T000545Z
LAST-MODIFIED:20260210T004558Z
UID:10011788-1782151200-1782162000@northbeachlive.com
SUMMARY:Flavio Souza
DESCRIPTION:Flavio Souza performs weekly on Mondays at Etcetera Wine bar. \nBorn in São Paulo\, Brazil\, Flavio started music at 14 years old. His main influences were great musicians such as Chick Corea\, Bill Evans\, Oscar Peterson\, Jimmy Smith\, Joey DeFrancesco\, Joe Satriani\, Sandro Haick and others. \nHe is the owner of Studio Plano 7\, which he founded in 2002 and has continued to record and produce various artists such as: Anderson Dantas\, Célia Soul\, PG\, Samuel Barbosa\, Félix Silva\, Jessik\, Samuel Dativo\, The Bridge Music\, Rafhael Peres\, Banda Patmus and others.
URL:https://northbeachlive.com/event/flavio-souza/2026-06-22/
LOCATION:Etcetera Wine Bar\, 795 Valencia St\, San Francisco\, CA\, 94110\, United States
CATEGORIES:Live Music
ATTACH;FMTTYPE=image/jpeg:https://northbeachlive.com/wp-content/uploads/2025/10/IMG_0149.jpeg
END:VEVENT
BEGIN:VEVENT
DTSTART;TZID=America/Los_Angeles:20260626T180000
DTEND;TZID=America/Los_Angeles:20260626T210000
DTSTAMP:20260424T001126
CREATED:20251014T234751Z
LAST-MODIFIED:20260206T231309Z
UID:10011724-1782496800-1782507600@northbeachlive.com
SUMMARY:Hipsteria
DESCRIPTION:Hipsteria is one of San Francisco’s favorite jazz\, soul and party bands! Members of Hipsteria have included some of music’s legendary musicians! \nFeaturing “Tender Tim” on drums and some vocals Hipsteria plays every Friday at Etcetera Wine bar.
URL:https://northbeachlive.com/event/hipsteria-2/2026-06-26/
LOCATION:Etcetera Wine Bar\, 795 Valencia St\, San Francisco\, CA\, 94110\, United States
CATEGORIES:Live Music
ATTACH;FMTTYPE=image/jpeg:https://northbeachlive.com/wp-content/uploads/2025/10/IMG_0220.jpeg
END:VEVENT
BEGIN:VEVENT
DTSTART;TZID=America/Los_Angeles:20260627T180000
DTEND;TZID=America/Los_Angeles:20260627T210000
DTSTAMP:20260424T001126
CREATED:20251014T235415Z
LAST-MODIFIED:20260207T200213Z
UID:10011745-1782583200-1782594000@northbeachlive.com
SUMMARY:Radio Sofia
DESCRIPTION:Radio Sophia is an instrumental musical collaboration between\nDavid Boyce (Saxophones\, Loops\, Effects)\, Michael Cavaseno (Guitar\, Loops\, Effects) and Zori Marinova (Percussion: Congas\, Bongos\, Cajon\, Etc). \nThe trio’s sound can be described as Groovy\, Soulful Mix of Jazz\, Pop\, RnB and World Music. And plays weekly on Saturday’s at Etcetera Wine bar. \nRadio Sofia has been playing together consistently for over 10 Years and has performed for audiences at venues such as The Great American Music Hall\, Friday Nights at The DeYoung Museum\, Yoshi’s SF\, Etc. \nDavid Boyce (Broun Fellinis\, Black Quarterback\, 6 Roses) \nis a mesmerizing multi-reed player and is one of the great musical treasures of the Bay Area. His sound can be described as Afro-Futuristic\, steeped in Jazz\, informed by Soul and World Music.
URL:https://northbeachlive.com/event/radio-sofia/2026-06-27/
LOCATION:Etcetera Wine Bar\, 795 Valencia St\, San Francisco\, CA\, 94110\, United States
CATEGORIES:Live Music
ATTACH;FMTTYPE=image/jpeg:https://northbeachlive.com/wp-content/uploads/2025/10/IMG_0230-e1770494750205.jpeg
END:VEVENT
BEGIN:VEVENT
DTSTART;TZID=America/Los_Angeles:20260628T180000
DTEND;TZID=America/Los_Angeles:20260628T210000
DTSTAMP:20260424T001126
CREATED:20251014T235808Z
LAST-MODIFIED:20260307T005902Z
UID:10011767-1782669600-1782680400@northbeachlive.com
SUMMARY:Twango SF
DESCRIPTION:Twango SF plays every Sunday evening at Etcetera Wine bar. This gypsy jazz group that plays hot swing music in the style of Django Reinhardt.
URL:https://northbeachlive.com/event/twango-sf/2026-06-28/
LOCATION:Etcetera Wine Bar\, 795 Valencia St\, San Francisco\, CA\, 94110\, United States
CATEGORIES:Live Music
ATTACH;FMTTYPE=image/png:https://northbeachlive.com/wp-content/uploads/2025/10/IMG_0403.png
END:VEVENT
BEGIN:VEVENT
DTSTART;TZID=America/Los_Angeles:20260629T180000
DTEND;TZID=America/Los_Angeles:20260629T210000
DTSTAMP:20260424T001126
CREATED:20251015T000545Z
LAST-MODIFIED:20260210T004558Z
UID:10011789-1782756000-1782766800@northbeachlive.com
SUMMARY:Flavio Souza
DESCRIPTION:Flavio Souza performs weekly on Mondays at Etcetera Wine bar. \nBorn in São Paulo\, Brazil\, Flavio started music at 14 years old. His main influences were great musicians such as Chick Corea\, Bill Evans\, Oscar Peterson\, Jimmy Smith\, Joey DeFrancesco\, Joe Satriani\, Sandro Haick and others. \nHe is the owner of Studio Plano 7\, which he founded in 2002 and has continued to record and produce various artists such as: Anderson Dantas\, Célia Soul\, PG\, Samuel Barbosa\, Félix Silva\, Jessik\, Samuel Dativo\, The Bridge Music\, Rafhael Peres\, Banda Patmus and others.
URL:https://northbeachlive.com/event/flavio-souza/2026-06-29/
LOCATION:Etcetera Wine Bar\, 795 Valencia St\, San Francisco\, CA\, 94110\, United States
CATEGORIES:Live Music
ATTACH;FMTTYPE=image/jpeg:https://northbeachlive.com/wp-content/uploads/2025/10/IMG_0149.jpeg
END:VEVENT
END:VCALENDAR