BEGIN:VCALENDAR
VERSION:2.0
PRODID:-//North Beach Live - ECPv6.15.20//NONSGML v1.0//EN
CALSCALE:GREGORIAN
METHOD:PUBLISH
X-ORIGINAL-URL:https://northbeachlive.com
X-WR-CALDESC:Events for North Beach Live
REFRESH-INTERVAL;VALUE=DURATION:PT1H
X-Robots-Tag:noindex
X-PUBLISHED-TTL:PT1H
BEGIN:VTIMEZONE
TZID:America/Los_Angeles
BEGIN:DAYLIGHT
TZOFFSETFROM:-0800
TZOFFSETTO:-0700
TZNAME:PDT
DTSTART:20250309T100000
END:DAYLIGHT
BEGIN:STANDARD
TZOFFSETFROM:-0700
TZOFFSETTO:-0800
TZNAME:PST
DTSTART:20251102T090000
END:STANDARD
BEGIN:DAYLIGHT
TZOFFSETFROM:-0800
TZOFFSETTO:-0700
TZNAME:PDT
DTSTART:20260308T100000
END:DAYLIGHT
BEGIN:STANDARD
TZOFFSETFROM:-0700
TZOFFSETTO:-0800
TZNAME:PST
DTSTART:20261101T090000
END:STANDARD
BEGIN:DAYLIGHT
TZOFFSETFROM:-0800
TZOFFSETTO:-0700
TZNAME:PDT
DTSTART:20270314T100000
END:DAYLIGHT
BEGIN:STANDARD
TZOFFSETFROM:-0700
TZOFFSETTO:-0800
TZNAME:PST
DTSTART:20271107T090000
END:STANDARD
END:VTIMEZONE
BEGIN:VEVENT
DTSTART;TZID=America/Los_Angeles:20260420T200000
DTEND;TZID=America/Los_Angeles:20260420T230000
DTSTAMP:20260421T223627
CREATED:20260404T142933Z
LAST-MODIFIED:20260404T142938Z
UID:10016009-1776715200-1776726000@northbeachlive.com
SUMMARY:Barbary Coast Jazz Band
DESCRIPTION:Barbary Coast Jazz Band performs every other Monday! \nBob Schulz – Lead/Cornet \nDon Neely – Reeds \nClint Baker – Trombone \nBill Reinhart – Tuba \nScott Anthony – Banjo \nMarty Eggers – Piano
URL:https://northbeachlive.com/event/barbary-coast-jazz-band-2-2/2026-04-20/
LOCATION:Local Edition\, 691 Market St\, San Francisco\, CA\, 94105\, United States
CATEGORIES:Live Music
ATTACH;FMTTYPE=image/webp:https://northbeachlive.com/wp-content/uploads/2026/01/BarbaryCoast-e1771091696925.webp
END:VEVENT
BEGIN:VEVENT
DTSTART;TZID=America/Los_Angeles:20260418T203000
DTEND;TZID=America/Los_Angeles:20260418T233000
DTSTAMP:20260421T223627
CREATED:20251231T225329Z
LAST-MODIFIED:20260416T205832Z
UID:10016573-1776544200-1776555000@northbeachlive.com
SUMMARY:Mitch Polzak & The Royal Deuces
DESCRIPTION:Rockabilly and 60’s country music with the religious fervor of Jerry Lee Lewis and Johnny Cash and delivers a Honky Tonk ballad with the sincerity of Merle Haggard and Waylon Jennings.
URL:https://northbeachlive.com/event/mitch-polzak-the-royal-deuces-2/2026-04-18/
LOCATION:Local Edition\, 691 Market St\, San Francisco\, CA\, 94105\, United States
CATEGORIES:Live Music
ATTACH;FMTTYPE=image/webp:https://northbeachlive.com/wp-content/uploads/2026/02/IMG_0197.webp
END:VEVENT
BEGIN:VEVENT
DTSTART;TZID=America/Los_Angeles:20260417T203000
DTEND;TZID=America/Los_Angeles:20260417T233000
DTSTAMP:20260421T223627
CREATED:20260106T230543Z
LAST-MODIFIED:20260416T211118Z
UID:10016572-1776457800-1776468600@northbeachlive.com
SUMMARY:Kamrin Ortiz & His Knock Outs
DESCRIPTION:Kamrin Ortiz brings his six piece band to Local Edition with his 1940’s and 50’s style Rhythm & Blues and Jazz originals.
URL:https://northbeachlive.com/event/kamrin-ortiz-his-knock-outs/2026-04-17/
LOCATION:Local Edition\, 691 Market St\, San Francisco\, CA\, 94105\, United States
CATEGORIES:Live Music
ATTACH;FMTTYPE=image/webp:https://northbeachlive.com/wp-content/uploads/2026/01/IMG_0634.webp
END:VEVENT
BEGIN:VEVENT
DTSTART;TZID=America/Los_Angeles:20260416T203000
DTEND;TZID=America/Los_Angeles:20260416T235900
DTSTAMP:20260421T223627
CREATED:20260106T223210Z
LAST-MODIFIED:20260404T150549Z
UID:10016033-1776371400-1776383940@northbeachlive.com
SUMMARY:Candela Viva
DESCRIPTION:Come dance to live Cumbia and Salsa rhythms!
URL:https://northbeachlive.com/event/candela-viva-2/2026-04-16/
LOCATION:Local Edition\, 691 Market St\, San Francisco\, CA\, 94105\, United States
CATEGORIES:Live Music
ATTACH;FMTTYPE=image/webp:https://northbeachlive.com/wp-content/uploads/2026/01/CandelaViva.webp
END:VEVENT
BEGIN:VEVENT
DTSTART;TZID=America/Los_Angeles:20260415T200000
DTEND;TZID=America/Los_Angeles:20260415T230000
DTSTAMP:20260421T223627
CREATED:20260203T020216Z
LAST-MODIFIED:20260416T210623Z
UID:10015342-1776283200-1776294000@northbeachlive.com
SUMMARY:The Editorials
DESCRIPTION:Various young Bay Area musicians come together for live Jazz at Local Edition!
URL:https://northbeachlive.com/event/the-editorials-3/2026-04-15/
LOCATION:Local Edition\, 691 Market St\, San Francisco\, CA\, 94105\, United States
CATEGORIES:Live Music
ATTACH;FMTTYPE=image/webp:https://northbeachlive.com/wp-content/uploads/2026/02/IMG_0198.webp
END:VEVENT
BEGIN:VEVENT
DTSTART;TZID=America/Los_Angeles:20260414T200000
DTEND;TZID=America/Los_Angeles:20260414T230000
DTSTAMP:20260421T223627
CREATED:20260102T202232Z
LAST-MODIFIED:20260404T143354Z
UID:10012096-1776196800-1776207600@northbeachlive.com
SUMMARY:The Local Edition Jazz Orchestra
DESCRIPTION:Live every Tuesday exclusively at Local Edition! The Local Edition Jazz Orchestra is a diverse group of long-time friends that have played alongside one another for years. The ensemble ranges from having as little as 8 to as many as 18 participants performing with occasional guest singers such as Billy Valentine\, Bud E. Luv (aka Bobby Vickers)\, and Tom Scott.
URL:https://northbeachlive.com/event/the-local-edition-jazz-orchestra-2/2026-04-14/
LOCATION:Local Edition\, 691 Market St\, San Francisco\, CA\, 94105\, United States
CATEGORIES:Live Music
ATTACH;FMTTYPE=image/webp:https://northbeachlive.com/wp-content/uploads/2026/01/IMG_0172.webp
END:VEVENT
BEGIN:VEVENT
DTSTART;TZID=America/Los_Angeles:20260413T200000
DTEND;TZID=America/Los_Angeles:20260413T230000
DTSTAMP:20260421T223627
CREATED:20260404T142512Z
LAST-MODIFIED:20260404T142623Z
UID:10012041-1776110400-1776121200@northbeachlive.com
SUMMARY:Le Jazz Hot Quartet
DESCRIPTION:Paul PAZZO Mehling- Solo Guitar\, Vocals\, Leader \nIsabelle Fontaine- Rhythm Guitar\, Vocals \nEvan Zeppo Price- Violin \nDexter DeWi Williams- String Bass \nLe Jazz Hot (the Quartet/Trio of the Hot Club of San Francisco) is an ensemble of accomplished and versatile musicians celebrating the music of Django Reinhardt and Stephane Grappelli’s pioneering Hot Club de France. The ensemble borrows the all-string instrumentation of violin\, bass and guitars from the original Hot Club\, but breathes new life into the music with innovative arrangements of classic tunes and original compositions from the group’s superb lead guitarist Paul Mehling. Hearing the ensemble live\, or on any of their eleven albums\, carries the listener back to the 1930’s and to the small\, smoky jazz clubs of Paris or the refined lounges of the famous Hotel Ritz. Often called gypsy jazz\, the music of Le Jazz Hot has entranced audiences around the globe for over 30 years. Critics have hailed the group’s playing as “intricate\, scorching and often brilliant…” Acoustic Guitar. From festivals in Mexico and France to concert halls across North America\, Le Jazz Hot keeps this historic music fresh and alive.
URL:https://northbeachlive.com/event/le-jazz-hot-quartet-2-2/2026-04-13/
LOCATION:Local Edition\, 691 Market St\, San Francisco\, CA\, 94105\, United States
CATEGORIES:Live Music
ATTACH;FMTTYPE=image/webp:https://northbeachlive.com/wp-content/uploads/2026/01/IMG_0173.webp
END:VEVENT
BEGIN:VEVENT
DTSTART;TZID=America/Los_Angeles:20260411T203000
DTEND;TZID=America/Los_Angeles:20260411T235900
DTSTAMP:20260421T223627
CREATED:20260106T222526Z
LAST-MODIFIED:20260404T150103Z
UID:10016031-1775939400-1775951940@northbeachlive.com
SUMMARY:Wobbly World
DESCRIPTION:Wobbly World members are distinguished musicians from around the world who left their country for the American dream\, became citizens\, and fully embraced the spirit of freedom and American traditions. \nWe believe in the power of collaboration\, unity\, and equality and live and breathe it in our daily lives. \nWe are musicians and singers from Cuba\, Morocco\, Peru\, Palestine\, Lebanon\, Bolivia\, Vietnam & the United States.
URL:https://northbeachlive.com/event/wobbly-world/2026-04-11/
LOCATION:Local Edition\, 691 Market St\, San Francisco\, CA\, 94105\, United States
CATEGORIES:Live Music
ATTACH;FMTTYPE=image/webp:https://northbeachlive.com/wp-content/uploads/2026/01/IMG_0212.webp
END:VEVENT
BEGIN:VEVENT
DTSTART;TZID=America/Los_Angeles:20260410T200000
DTEND;TZID=America/Los_Angeles:20260410T223000
DTSTAMP:20260421T223627
CREATED:20251231T225242Z
LAST-MODIFIED:20260404T145809Z
UID:10016030-1775851200-1775860200@northbeachlive.com
SUMMARY:Cosmo Alleycats
DESCRIPTION:Cosmo Alleycats have been a favorite of the San Francisco music scene since the band’s 2010 beginning\, bringing to the stage a potent mix of swing and vintage dance music with a dynamic\, soulful delivery. \nLed by vocalist Emily Day (“one of the major singers in her field” – Scott Yanow)\, Cosmo Alleycats draws from several decades of exhilarating American music\, along with inspired originals\, to deliver a fun and engaging performance.
URL:https://northbeachlive.com/event/cosmo-alleycats/2026-04-10/
LOCATION:Local Edition\, 691 Market St\, San Francisco\, CA\, 94105\, United States
CATEGORIES:Live Music
ATTACH;FMTTYPE=image/jpeg:https://northbeachlive.com/wp-content/uploads/2025/12/Cosmo-Alleycats.jpeg
END:VEVENT
BEGIN:VEVENT
DTSTART;TZID=America/Los_Angeles:20260409T170000
DTEND;TZID=America/Los_Angeles:20260409T235900
DTSTAMP:20260421T223627
CREATED:20260405T171231Z
LAST-MODIFIED:20260409T204607Z
UID:10016029-1775754000-1775779140@northbeachlive.com
SUMMARY:The Bay's Stage Arts Soirée 5pm / REOPENING: Radio Gatsby Swing 9pm
DESCRIPTION:Join us for Red Curtain Addict’s second annual Bay’s Stage Arts Soirée\, a special event that will bring together some of San Francisco’s most celebrated arts organizations and artists to unite on one stage\, showcasing the incredible talent and creativity that make the Bay Area’s performing arts scene so vibrant. \n5pm – 9pm The Bay’s Stage Arts Soirée – SOLD OUT \n9pm – 12am Radio Gatsby – ALL WELCOME! 21+
URL:https://northbeachlive.com/event/the-bays-stage-arts-soiree-5pm-reopening-radio-gatsby-swing-9pm/
LOCATION:Local Edition\, 691 Market St\, San Francisco\, CA\, 94105\, United States
CATEGORIES:Live Music
END:VEVENT
BEGIN:VEVENT
DTSTART;TZID=America/Los_Angeles:20260408T203000
DTEND;TZID=America/Los_Angeles:20260408T233000
DTSTAMP:20260421T223627
CREATED:20260211T043501Z
LAST-MODIFIED:20260416T211805Z
UID:10016028-1775680200-1775691000@northbeachlive.com
SUMMARY:Hella Fitzgerald x Honor Brass Band
DESCRIPTION:Hella Fitzgerald x Honor Brass Band \nHella Fitzgerald \n​​​​​From Bebop to Hip Hop\, a dance band collective based in California\, featuring Soul\, Jazz\, Funk\, R&B\, 90’s\, Hip Hop\, Latin\, Pop\, Top 40\, and more. \nHonor Brass Band \nNew Orleans Style 5-piece brass band with NOLA classics and modern R&B renditions.
URL:https://northbeachlive.com/event/hella-fitzgerald-x-honor-brass-band/2026-04-08/
LOCATION:Local Edition\, 691 Market St\, San Francisco\, CA\, 94105\, United States
CATEGORIES:Live Music
ATTACH;FMTTYPE=image/jpeg:https://northbeachlive.com/wp-content/uploads/2026/02/Hella-Fitzgerald-x-Honor-Brass-Band.jpeg
END:VEVENT
BEGIN:VEVENT
DTSTART;TZID=America/Los_Angeles:20260407T220000
DTEND;TZID=America/Los_Angeles:20260408T003000
DTSTAMP:20260421T223627
CREATED:20260405T171014Z
LAST-MODIFIED:20260405T171036Z
UID:10016027-1775599200-1775608200@northbeachlive.com
SUMMARY:Lucas Davis Quartet
DESCRIPTION:Trumpeter Lucas Davis is a creative musician dedicated to spreading peace and love by sharing his music with audiences across the world. He is a passionate improviser\, performer\, and composer in the jazz world\, but has thrived in many genres. Joined by Michael Potter on keys Alan Jones on bass and Miles Turk on drums\, this quartet is looking to push the music forward with new innovations in their own compositions and playing while still paying respect to the lineage and history. \nLucas Davis on Trumpet \nAlan Jones on Bass \nMiles Turk on Drums \nMichael Potter on Keys \nNote: Venue closed for a Private Event until 10pm.
URL:https://northbeachlive.com/event/lucas-davis-quartet-1000pm/
LOCATION:Local Edition\, 691 Market St\, San Francisco\, CA\, 94105\, United States
CATEGORIES:Live Music
ATTACH;FMTTYPE=image/webp:https://northbeachlive.com/wp-content/uploads/2026/04/LucasDavisQuartet.webp
END:VEVENT
BEGIN:VEVENT
DTSTART;TZID=America/Los_Angeles:20260406T200000
DTEND;TZID=America/Los_Angeles:20260406T230000
DTSTAMP:20260421T223627
CREATED:20260404T142933Z
LAST-MODIFIED:20260404T142938Z
UID:10012066-1775505600-1775516400@northbeachlive.com
SUMMARY:Barbary Coast Jazz Band
DESCRIPTION:Barbary Coast Jazz Band performs every other Monday! \nBob Schulz – Lead/Cornet \nDon Neely – Reeds \nClint Baker – Trombone \nBill Reinhart – Tuba \nScott Anthony – Banjo \nMarty Eggers – Piano
URL:https://northbeachlive.com/event/barbary-coast-jazz-band-2-2/2026-04-06/
LOCATION:Local Edition\, 691 Market St\, San Francisco\, CA\, 94105\, United States
CATEGORIES:Live Music
ATTACH;FMTTYPE=image/webp:https://northbeachlive.com/wp-content/uploads/2026/01/BarbaryCoast-e1771091696925.webp
END:VEVENT
BEGIN:VEVENT
DTSTART;TZID=America/Los_Angeles:20260404T203000
DTEND;TZID=America/Los_Angeles:20260404T235900
DTSTAMP:20260421T223627
CREATED:20260403T023118Z
LAST-MODIFIED:20260403T023118Z
UID:10015834-1775334600-1775347140@northbeachlive.com
SUMMARY:Kiana Melendez & Band
DESCRIPTION:Backed by an amazing band of talented musicians\, Kiana Melendez takes the stage with a modern take on Jazz Classics and Jazzy twist on today’s Pop.
URL:https://northbeachlive.com/event/kiana-melendez-band/
LOCATION:Local Edition\, 691 Market St\, San Francisco\, CA\, 94105\, United States
CATEGORIES:Live Music
ATTACH;FMTTYPE=image/webp:https://northbeachlive.com/wp-content/uploads/2026/03/KianaMelendez.webp
END:VEVENT
BEGIN:VEVENT
DTSTART;TZID=America/Los_Angeles:20260403T203000
DTEND;TZID=America/Los_Angeles:20260403T233000
DTSTAMP:20260421T223627
CREATED:20260203T020430Z
LAST-MODIFIED:20260322T143500Z
UID:10015344-1775248200-1775259000@northbeachlive.com
SUMMARY:Steve Lucky and The Rhumba Bums
DESCRIPTION:Jump blues\, swing\, jazz and rare gems inspired by the ’30s\, ’40s and ’50s!
URL:https://northbeachlive.com/event/steve-lucky-and-the-rhumba-bums-2/2026-04-03/
LOCATION:Local Edition\, 691 Market St\, San Francisco\, CA\, 94105\, United States
CATEGORIES:Live Music
ATTACH;FMTTYPE=image/gif:https://northbeachlive.com/wp-content/uploads/2026/02/swingin.gif
END:VEVENT
BEGIN:VEVENT
DTSTART;TZID=America/Los_Angeles:20260402T200000
DTEND;TZID=America/Los_Angeles:20260402T230000
DTSTAMP:20260421T223627
CREATED:20260324T224830Z
LAST-MODIFIED:20260324T224830Z
UID:10015343-1775160000-1775170800@northbeachlive.com
SUMMARY:Iya Lingua
DESCRIPTION:Iya Lingua will have you up and dancing with a unique blend of classic swing\, Brazilian samba\, Cuban salsa and American soul music. Iya Lingua is led by trilingual vocalist and percussionist Morgan Simon\, who joins us fresh from Cuba where she was a featured artist at the 41st Havana International Jazz Fest (Jazz Plaza). A review of her recent LATAM tour noted\, “Unlike anyone I’ve ever seen\, Simon sings with her soul without ever needing to close her eyes.”
URL:https://northbeachlive.com/event/iya-lingua/
LOCATION:Local Edition\, 691 Market St\, San Francisco\, CA\, 94105\, United States
CATEGORIES:Live Music
ATTACH;FMTTYPE=image/webp:https://northbeachlive.com/wp-content/uploads/2026/03/Iya-Lingua.webp
END:VEVENT
BEGIN:VEVENT
DTSTART;TZID=America/Los_Angeles:20260401T200000
DTEND;TZID=America/Los_Angeles:20260401T230000
DTSTAMP:20260421T223627
CREATED:20260203T020216Z
LAST-MODIFIED:20260416T210623Z
UID:10015341-1775073600-1775084400@northbeachlive.com
SUMMARY:The Editorials
DESCRIPTION:Various young Bay Area musicians come together for live Jazz at Local Edition!
URL:https://northbeachlive.com/event/the-editorials-3/2026-04-01/
LOCATION:Local Edition\, 691 Market St\, San Francisco\, CA\, 94105\, United States
CATEGORIES:Live Music
ATTACH;FMTTYPE=image/webp:https://northbeachlive.com/wp-content/uploads/2026/02/IMG_0198.webp
END:VEVENT
BEGIN:VEVENT
DTSTART;TZID=America/Los_Angeles:20260331T200000
DTEND;TZID=America/Los_Angeles:20260331T230000
DTSTAMP:20260421T223627
CREATED:20260102T202232Z
LAST-MODIFIED:20260404T143354Z
UID:10012094-1774987200-1774998000@northbeachlive.com
SUMMARY:The Local Edition Jazz Orchestra
DESCRIPTION:Live every Tuesday exclusively at Local Edition! The Local Edition Jazz Orchestra is a diverse group of long-time friends that have played alongside one another for years. The ensemble ranges from having as little as 8 to as many as 18 participants performing with occasional guest singers such as Billy Valentine\, Bud E. Luv (aka Bobby Vickers)\, and Tom Scott.
URL:https://northbeachlive.com/event/the-local-edition-jazz-orchestra-2/2026-03-31/
LOCATION:Local Edition\, 691 Market St\, San Francisco\, CA\, 94105\, United States
CATEGORIES:Live Music
ATTACH;FMTTYPE=image/webp:https://northbeachlive.com/wp-content/uploads/2026/01/IMG_0172.webp
END:VEVENT
BEGIN:VEVENT
DTSTART;TZID=America/Los_Angeles:20260330T200000
DTEND;TZID=America/Los_Angeles:20260330T235900
DTSTAMP:20260421T223627
CREATED:20260226T031642Z
LAST-MODIFIED:20260303T013647Z
UID:10014840-1774900800-1774915140@northbeachlive.com
SUMMARY:The Art Khu Quartet
DESCRIPTION:Arthur Khu is a world-renowned pianist whose remarkable virtuosity and artistry draw \ninspiration from jazz legends like Keith Jarrett\, Herbie Hancock\, and Chick Corea\, as well as \nclassical composers such as Chopin and Debussy. He’s also a prolific composer whose style \nblends Wayne Shorter’s post-bop sensibilities with elements of Brahms and Rachmaninoff. \nCollaborating with some of California’s finest musicians\, his music is always intense\, emotional\, \nand driving. \nArt Khu: A Seasoned Jazz Artist with a Symphony of Experience \nArt Khu is a multifaceted musician who has carved a niche for himself in the music world with his exceptional talent on a variety of instruments. His journey began at a young age\, and over the years\, he has honed his skills on the piano\, organ\, guitar\, and bass\, blossoming into a vibrant career spanning over 35 years. His dedication to music is evident not only in his performances but also in his educational background and compositional endeavors.
URL:https://northbeachlive.com/event/the-art-khu-quartet-2-2/2026-03-30/
LOCATION:Local Edition\, 691 Market St\, San Francisco\, CA\, 94105\, United States
CATEGORIES:Live Music
ATTACH;FMTTYPE=image/webp:https://northbeachlive.com/wp-content/uploads/2026/01/IMG_0344.webp
END:VEVENT
BEGIN:VEVENT
DTSTART;TZID=America/Los_Angeles:20260328T203000
DTEND;TZID=America/Los_Angeles:20260328T233000
DTSTAMP:20260421T223627
CREATED:20260322T141902Z
LAST-MODIFIED:20260416T211653Z
UID:10015337-1774729800-1774740600@northbeachlive.com
SUMMARY:Fog City Swing
DESCRIPTION:Ladies and Gentlemen\, introducing Fog City Swing! The bay area’s newest and hottest jazz and swing band featuring an electrifying three horn front line\, stellar crooning vocals\, and a swing till you drop rhythm section. Enjoy an evening of swing\, hard bop\, and even some classic pop favorites performed only the way they can! This seven piece ensemble will transport you to the 1940’s and beyond\, it is truly the world’s smallest big band!
URL:https://northbeachlive.com/event/fog-city-swing-4/2026-03-28/
LOCATION:Local Edition\, 691 Market St\, San Francisco\, CA\, 94105\, United States
CATEGORIES:Live Music
ATTACH;FMTTYPE=image/png:https://northbeachlive.com/wp-content/uploads/2026/02/IMG_0074.png
END:VEVENT
BEGIN:VEVENT
DTSTART;TZID=America/Los_Angeles:20260327T200000
DTEND;TZID=America/Los_Angeles:20260327T235900
DTSTAMP:20260421T223627
CREATED:20260303T032832Z
LAST-MODIFIED:20260303T033245Z
UID:10014839-1774641600-1774655940@northbeachlive.com
SUMMARY:Radio Gatsby
DESCRIPTION:Radio Gatsby is a modern-day dance band with a vintage flair! Its performances showcase a fusion of timeless Swing-era\, New Orleans & 1920s Jazz\, transitioning to the band’s captivating interpretations of Nostalgic R&B\, Motown\, Soul\, and 70s/80s/90s Classics. With its ensemble of talented vocalists and jazz musicians\, Radio Gatsby ignites the dance floor while providing a journey through decades of exhilarating music.
URL:https://northbeachlive.com/event/radio-gatsby-3/
LOCATION:Local Edition\, 691 Market St\, San Francisco\, CA\, 94105\, United States
CATEGORIES:Live Music
ATTACH;FMTTYPE=image/jpeg:https://northbeachlive.com/wp-content/uploads/2026/03/Radio-Gatsby.jpeg
END:VEVENT
BEGIN:VEVENT
DTSTART;TZID=America/Los_Angeles:20260326T203000
DTEND;TZID=America/Los_Angeles:20260326T230000
DTSTAMP:20260421T223627
CREATED:20260203T020347Z
LAST-MODIFIED:20260403T022551Z
UID:10014822-1774557000-1774566000@northbeachlive.com
SUMMARY:Mitch Polzak & The Royal Deuces
DESCRIPTION:Rockabilly and 60’s country music with the religious fervor of Jerry Lee Lewis and Johnny Cash and delivers a Honky Tonk ballad with the sincerity of Merle Haggard and Waylon Jennings.
URL:https://northbeachlive.com/event/mitch-polzak-the-royal-deuces-3/2026-03-26/
LOCATION:Local Edition\, 691 Market St\, San Francisco\, CA\, 94105\, United States
CATEGORIES:Live Music
ATTACH;FMTTYPE=image/webp:https://northbeachlive.com/wp-content/uploads/2026/02/IMG_0197.webp
END:VEVENT
BEGIN:VEVENT
DTSTART;TZID=America/Los_Angeles:20260325T203000
DTEND;TZID=America/Los_Angeles:20260325T235900
DTSTAMP:20260421T223627
CREATED:20260322T141109Z
LAST-MODIFIED:20260410T133217Z
UID:10016577-1774470600-1774483140@northbeachlive.com
SUMMARY:WestSide Jazz Club
DESCRIPTION:This is a high-energy quartet known for blending traditional jazz with funk\, soul\, and Latin rhythms. \nThe Band: Fronted by tenor saxophonist and vocalist Scotty Silver (Scott Silverberg). The lineup typically includes John Watson (Guitar)\, Craig Kleinman (Bass)\, and Chris Gamper (Drums). \n***Local Edition closed for a Private Event until 11pm.**
URL:https://northbeachlive.com/event/westside-jazz-club-2/2026-03-25/
LOCATION:Local Edition\, 691 Market St\, San Francisco\, CA\, 94105\, United States
CATEGORIES:Live Music
ATTACH;FMTTYPE=image/png:https://northbeachlive.com/wp-content/uploads/2026/02/IMG_0288-e1771091110289.png
END:VEVENT
BEGIN:VEVENT
DTSTART;TZID=America/Los_Angeles:20260324T200000
DTEND;TZID=America/Los_Angeles:20260324T230000
DTSTAMP:20260421T223627
CREATED:20260102T202232Z
LAST-MODIFIED:20260404T143354Z
UID:10012093-1774382400-1774393200@northbeachlive.com
SUMMARY:The Local Edition Jazz Orchestra
DESCRIPTION:Live every Tuesday exclusively at Local Edition! The Local Edition Jazz Orchestra is a diverse group of long-time friends that have played alongside one another for years. The ensemble ranges from having as little as 8 to as many as 18 participants performing with occasional guest singers such as Billy Valentine\, Bud E. Luv (aka Bobby Vickers)\, and Tom Scott.
URL:https://northbeachlive.com/event/the-local-edition-jazz-orchestra-2/2026-03-24/
LOCATION:Local Edition\, 691 Market St\, San Francisco\, CA\, 94105\, United States
CATEGORIES:Live Music
ATTACH;FMTTYPE=image/webp:https://northbeachlive.com/wp-content/uploads/2026/01/IMG_0172.webp
END:VEVENT
BEGIN:VEVENT
DTSTART;TZID=America/Los_Angeles:20260323T200000
DTEND;TZID=America/Los_Angeles:20260323T230000
DTSTAMP:20260421T223627
CREATED:20260106T223617Z
LAST-MODIFIED:20260204T030417Z
UID:10012040-1774296000-1774306800@northbeachlive.com
SUMMARY:Le Jazz Hot Quartet
DESCRIPTION:Paul PAZZO Mehling- Solo Guitar\, Vocals\, Leader \nIsabelle Fontaine- Rhythm Guitar\, Vocals \nEvan Zeppo Price- Violin \nDexter DeWi Williams- String Bass \nLe Jazz Hot (the Quartet/Trio of the Hot Club of San Francisco) is an ensemble of accomplished and versatile musicians celebrating the music of Django Reinhardt and Stephane Grappelli’s pioneering Hot Club de France. The ensemble borrows the all-string instrumentation of violin\, bass and guitars from the original Hot Club\, but breathes new life into the music with innovative arrangements of classic tunes and original compositions from the group’s superb lead guitarist Paul Mehling. Hearing the ensemble live\, or on any of their eleven albums\, carries the listener back to the 1930’s and to the small\, smoky jazz clubs of Paris or the refined lounges of the famous Hotel Ritz. Often called gypsy jazz\, the music of Le Jazz Hot has entranced audiences around the globe for over 30 years. Critics have hailed the group’s playing as “intricate\, scorching and often brilliant…” Acoustic Guitar. From festivals in Mexico and France to concert halls across North America\, Le Jazz Hot keeps this historic music fresh and alive.
URL:https://northbeachlive.com/event/le-jazz-hot-quartet-2/2026-03-23/
LOCATION:Local Edition\, 691 Market St\, San Francisco\, CA\, 94105\, United States
CATEGORIES:Live Music
ATTACH;FMTTYPE=image/webp:https://northbeachlive.com/wp-content/uploads/2026/01/IMG_0173.webp
END:VEVENT
BEGIN:VEVENT
DTSTART;TZID=America/Los_Angeles:20260321T203000
DTEND;TZID=America/Los_Angeles:20260321T235900
DTSTAMP:20260421T223627
CREATED:20260303T032638Z
LAST-MODIFIED:20260303T032638Z
UID:10014838-1774125000-1774137540@northbeachlive.com
SUMMARY:OAKLAND JAZZ FUNK PROJECT
DESCRIPTION:The Oakland Jazz Funk Project believes  jazz is a living language that continues to grow and evolve.  Jazz didn’t die in 1959.  It lives on in funk\, neo-soul\, R&B\, fusion\,  jazz-funk and so much more. OJFP honors and plays it all\, from straight-ahead jazz to 70’s funk to contemporary neo-soul.  Jazz lives on and OJFP  keeps it alive and relevant!  Their music  will warm your heart\, speak to your soul and is sure to get you off your feet and dancing!
URL:https://northbeachlive.com/event/oakland-jazz-funk-project/
LOCATION:Local Edition\, 691 Market St\, San Francisco\, CA\, 94105\, United States
CATEGORIES:Live Music
ATTACH;FMTTYPE=image/avif:https://northbeachlive.com/wp-content/uploads/2026/03/OAKLAND-JAZZ-FUNK-PROJECT.avif
END:VEVENT
BEGIN:VEVENT
DTSTART;TZID=America/Los_Angeles:20260320T200000
DTEND;TZID=America/Los_Angeles:20260320T235900
DTSTAMP:20260421T223627
CREATED:20260106T222526Z
LAST-MODIFIED:20260404T150103Z
UID:10014836-1774036800-1774051140@northbeachlive.com
SUMMARY:Wobbly World
DESCRIPTION:Wobbly World members are distinguished musicians from around the world who left their country for the American dream\, became citizens\, and fully embraced the spirit of freedom and American traditions. \nWe believe in the power of collaboration\, unity\, and equality and live and breathe it in our daily lives. \nWe are musicians and singers from Cuba\, Morocco\, Peru\, Palestine\, Lebanon\, Bolivia\, Vietnam & the United States.
URL:https://northbeachlive.com/event/wobbly-world/2026-03-20/
LOCATION:Local Edition\, 691 Market St\, San Francisco\, CA\, 94105\, United States
CATEGORIES:Live Music
ATTACH;FMTTYPE=image/webp:https://northbeachlive.com/wp-content/uploads/2026/01/IMG_0212.webp
END:VEVENT
BEGIN:VEVENT
DTSTART;TZID=America/Los_Angeles:20260319T200000
DTEND;TZID=America/Los_Angeles:20260319T235900
DTSTAMP:20260421T223627
CREATED:20260106T230323Z
LAST-MODIFIED:20260318T201600Z
UID:10014834-1773950400-1773964740@northbeachlive.com
SUMMARY:Jason Movrich & Friends
DESCRIPTION:Jazz Trio\, Jason Movrich & Friends playing their Blues\, Soul and Funk tunes. \nJason Movrich vocals and guitar \nJoe Carusi on drums \nEric Goodwill on bass
URL:https://northbeachlive.com/event/jason-movrich-friends/2026-03-19/
LOCATION:Local Edition\, 691 Market St\, San Francisco\, CA\, 94105\, United States
CATEGORIES:Live Music
ATTACH;FMTTYPE=image/webp:https://northbeachlive.com/wp-content/uploads/2026/01/IMG_0431.webp
END:VEVENT
BEGIN:VEVENT
DTSTART;TZID=America/Los_Angeles:20260318T200000
DTEND;TZID=America/Los_Angeles:20260318T230000
DTSTAMP:20260421T223627
CREATED:20260203T020216Z
LAST-MODIFIED:20260416T210623Z
UID:10014819-1773864000-1773874800@northbeachlive.com
SUMMARY:The Editorials
DESCRIPTION:Various young Bay Area musicians come together for live Jazz at Local Edition!
URL:https://northbeachlive.com/event/the-editorials-3/2026-03-18/
LOCATION:Local Edition\, 691 Market St\, San Francisco\, CA\, 94105\, United States
CATEGORIES:Live Music
ATTACH;FMTTYPE=image/webp:https://northbeachlive.com/wp-content/uploads/2026/02/IMG_0198.webp
END:VEVENT
BEGIN:VEVENT
DTSTART;TZID=America/Los_Angeles:20260317T200000
DTEND;TZID=America/Los_Angeles:20260317T230000
DTSTAMP:20260421T223627
CREATED:20260102T202232Z
LAST-MODIFIED:20260404T143354Z
UID:10012092-1773777600-1773788400@northbeachlive.com
SUMMARY:The Local Edition Jazz Orchestra
DESCRIPTION:Live every Tuesday exclusively at Local Edition! The Local Edition Jazz Orchestra is a diverse group of long-time friends that have played alongside one another for years. The ensemble ranges from having as little as 8 to as many as 18 participants performing with occasional guest singers such as Billy Valentine\, Bud E. Luv (aka Bobby Vickers)\, and Tom Scott.
URL:https://northbeachlive.com/event/the-local-edition-jazz-orchestra-2/2026-03-17/
LOCATION:Local Edition\, 691 Market St\, San Francisco\, CA\, 94105\, United States
CATEGORIES:Live Music
ATTACH;FMTTYPE=image/webp:https://northbeachlive.com/wp-content/uploads/2026/01/IMG_0172.webp
END:VEVENT
END:VCALENDAR