BEGIN:VCALENDAR
VERSION:2.0
PRODID:-//North Beach Live - ECPv6.15.20//NONSGML v1.0//EN
CALSCALE:GREGORIAN
METHOD:PUBLISH
X-WR-CALNAME:North Beach Live
X-ORIGINAL-URL:https://northbeachlive.com
X-WR-CALDESC:Events for North Beach Live
REFRESH-INTERVAL;VALUE=DURATION:PT1H
X-Robots-Tag:noindex
X-PUBLISHED-TTL:PT1H
BEGIN:VTIMEZONE
TZID:America/Los_Angeles
BEGIN:DAYLIGHT
TZOFFSETFROM:-0800
TZOFFSETTO:-0700
TZNAME:PDT
DTSTART:20250309T100000
END:DAYLIGHT
BEGIN:STANDARD
TZOFFSETFROM:-0700
TZOFFSETTO:-0800
TZNAME:PST
DTSTART:20251102T090000
END:STANDARD
BEGIN:DAYLIGHT
TZOFFSETFROM:-0800
TZOFFSETTO:-0700
TZNAME:PDT
DTSTART:20260308T100000
END:DAYLIGHT
BEGIN:STANDARD
TZOFFSETFROM:-0700
TZOFFSETTO:-0800
TZNAME:PST
DTSTART:20261101T090000
END:STANDARD
BEGIN:DAYLIGHT
TZOFFSETFROM:-0800
TZOFFSETTO:-0700
TZNAME:PDT
DTSTART:20270314T100000
END:DAYLIGHT
BEGIN:STANDARD
TZOFFSETFROM:-0700
TZOFFSETTO:-0800
TZNAME:PST
DTSTART:20271107T090000
END:STANDARD
END:VTIMEZONE
BEGIN:VEVENT
DTSTART;TZID=America/Los_Angeles:20261229T193000
DTEND;TZID=America/Los_Angeles:20261229T223000
DTSTAMP:20260423T030120
CREATED:20250901T214856Z
LAST-MODIFIED:20260407T155832Z
UID:10016225-1798572600-1798583400@northbeachlive.com
SUMMARY:The North Beach Django
DESCRIPTION:Transport yourself to a 1930s sidewalk café in Montmartre as North Beach Django takes residency at Paris 75 every Tuesday. Located on the edge of the historic Broadway corridor\, this charming French lounge provides the perfect backdrop for the “Hot Club” sound. With its selection of authentic French cocktails and wines\, the venue feels less like a San Francisco bar and more like a secret sanctuary for lovers of European jazz and vintage aesthetics. \nThe Sound: North Beach Django delivers an authentic exploration of Jazz Manouche (Gypsy Jazz). Their sound is defined by the “pumping” rhythm of acoustic guitars and soaring\, melodic solos. Expect a repertoire of high-speed swing\, haunting French musette waltzes (like “L’Indifférence”)\, and soulful ballads that capture the bittersweet spirit of the early 20th century. \nThe Django Legacy: The group’s mission is to honor the revolutionary style of Django Reinhardt\, the legendary Romani-French guitarist who pioneered this genre. Despite losing the use of two fingers in a fire\, Reinhardt’s virtuosic speed and unique harmonic language changed jazz forever. The band keeps this fire alive\, utilizing the same acoustic string-band format—no drums\, just pure rhythmic drive. \nThe Players: The group is led by a core of the Bay Area’s finest “manouche” specialists\, often featuring Ned Boynton on guitar\, Eddie Scher on guitar\, and Kenan O’Brien on bass. Their chemistry is a masterclass in the “interlocking” style of Gypsy Swing\, where the lead and rhythm guitars work in a constant\, high-speed dialogue. \nThe Community Jam: In the spirit of the Parisian cafés where this music was born\, the evening often evolves into a welcoming session. After the first set\, the band frequently opens the floor to “acoustic sitter-inners”—strings\, accordions\, and woodwinds—making it a vibrant hub for the local jazz community. \n\nAbout Paris 75\nParis 75 is a sophisticated French cocktail lounge that serves as a cultural bridge between San Francisco and the “City of Light.” Named after the postal code for Paris\, the bar specializes in regional French wines and signature cocktails like the “French 75.” The intimate\, candlelit space is designed for conversation and attentive listening\, making it the ideal home for the acoustic nuances of North Beach Django. It is a place where time slows down\, and the legacy of the great European troubadours feels remarkably present.
URL:https://northbeachlive.com/event/the-north-beach-django-jazz-trio-8/2026-12-29/
LOCATION:Paris 75\, 515 Broadway\, San Francisco\, CA\, 94133\, United States
CATEGORIES:Live Music
ATTACH;FMTTYPE=image/jpeg:https://northbeachlive.com/wp-content/uploads/2025/11/IMG_9971-scaled.jpeg
GEO:37.797891;-122.405783
X-APPLE-STRUCTURED-LOCATION;VALUE=URI;X-ADDRESS=Paris 75 515 Broadway San Francisco CA 94133 United States;X-APPLE-RADIUS=500;X-TITLE=515 Broadway:geo:-122.405783,37.797891
END:VEVENT
END:VCALENDAR