BEGIN:VCALENDAR
VERSION:2.0
PRODID:-//North Beach Live - ECPv6.15.20//NONSGML v1.0//EN
CALSCALE:GREGORIAN
METHOD:PUBLISH
X-ORIGINAL-URL:https://northbeachlive.com
X-WR-CALDESC:Events for North Beach Live
REFRESH-INTERVAL;VALUE=DURATION:PT1H
X-Robots-Tag:noindex
X-PUBLISHED-TTL:PT1H
BEGIN:VTIMEZONE
TZID:America/Los_Angeles
BEGIN:DAYLIGHT
TZOFFSETFROM:-0800
TZOFFSETTO:-0700
TZNAME:PDT
DTSTART:20250309T100000
END:DAYLIGHT
BEGIN:STANDARD
TZOFFSETFROM:-0700
TZOFFSETTO:-0800
TZNAME:PST
DTSTART:20251102T090000
END:STANDARD
BEGIN:DAYLIGHT
TZOFFSETFROM:-0800
TZOFFSETTO:-0700
TZNAME:PDT
DTSTART:20260308T100000
END:DAYLIGHT
BEGIN:STANDARD
TZOFFSETFROM:-0700
TZOFFSETTO:-0800
TZNAME:PST
DTSTART:20261101T090000
END:STANDARD
BEGIN:DAYLIGHT
TZOFFSETFROM:-0800
TZOFFSETTO:-0700
TZNAME:PDT
DTSTART:20270314T100000
END:DAYLIGHT
BEGIN:STANDARD
TZOFFSETFROM:-0700
TZOFFSETTO:-0800
TZNAME:PST
DTSTART:20271107T090000
END:STANDARD
END:VTIMEZONE
BEGIN:VEVENT
DTSTART;TZID=America/Los_Angeles:20261118T190000
DTEND;TZID=America/Los_Angeles:20261118T210000
DTSTAMP:20260425T175323
CREATED:20251220T233657Z
LAST-MODIFIED:20260128T020535Z
UID:10011192-1795028400-1795035600@northbeachlive.com
SUMMARY:The Charles Unger Experience
DESCRIPTION:Join us for a high-energy evening of soulful jazz and funk with the Charles Unger Experience at Ti Piacera! \nPerforming every other Wednesday from 7:00 pm to 9:00 pm\, the legendary San Francisco saxophonist Charles Unger brings his signature blend of passion and virtuosity to the stage. Known for his charismatic stage presence and explosive playing\, Charles Unger leads a band that bridges the gap between classic jazz and contemporary grooves. \nThe Charles Unger Experience is more than just a jazz set; it is a vibrant musical journey featuring soulful melodies\, driving rhythms\, and intricate improvisation. Whether he is playing a tender ballad or an up-tempo funk number\, Charles delivers a performance that is both technically impressive and deeply emotional\, making it a perfect mid-week escape in an intimate setting.
URL:https://northbeachlive.com/event/the-charles-unger-experience/2026-11-18/
LOCATION:Ti Piacera\, 1507 Polk St\, San Francisco\, CA\, 94109\, United States
CATEGORIES:Live Music
ATTACH;FMTTYPE=image/jpeg:https://northbeachlive.com/wp-content/uploads/2025/12/IMG_0151.jpeg
END:VEVENT
BEGIN:VEVENT
DTSTART;TZID=America/Los_Angeles:20261202T190000
DTEND;TZID=America/Los_Angeles:20261202T210000
DTSTAMP:20260425T175323
CREATED:20251220T233657Z
LAST-MODIFIED:20260128T020535Z
UID:10011193-1796238000-1796245200@northbeachlive.com
SUMMARY:The Charles Unger Experience
DESCRIPTION:Join us for a high-energy evening of soulful jazz and funk with the Charles Unger Experience at Ti Piacera! \nPerforming every other Wednesday from 7:00 pm to 9:00 pm\, the legendary San Francisco saxophonist Charles Unger brings his signature blend of passion and virtuosity to the stage. Known for his charismatic stage presence and explosive playing\, Charles Unger leads a band that bridges the gap between classic jazz and contemporary grooves. \nThe Charles Unger Experience is more than just a jazz set; it is a vibrant musical journey featuring soulful melodies\, driving rhythms\, and intricate improvisation. Whether he is playing a tender ballad or an up-tempo funk number\, Charles delivers a performance that is both technically impressive and deeply emotional\, making it a perfect mid-week escape in an intimate setting.
URL:https://northbeachlive.com/event/the-charles-unger-experience/2026-12-02/
LOCATION:Ti Piacera\, 1507 Polk St\, San Francisco\, CA\, 94109\, United States
CATEGORIES:Live Music
ATTACH;FMTTYPE=image/jpeg:https://northbeachlive.com/wp-content/uploads/2025/12/IMG_0151.jpeg
END:VEVENT
END:VCALENDAR