BEGIN:VCALENDAR
VERSION:2.0
PRODID:-//North Beach Live - ECPv6.15.20//NONSGML v1.0//EN
CALSCALE:GREGORIAN
METHOD:PUBLISH
X-WR-CALNAME:North Beach Live
X-ORIGINAL-URL:https://northbeachlive.com
X-WR-CALDESC:Events for North Beach Live
REFRESH-INTERVAL;VALUE=DURATION:PT1H
X-Robots-Tag:noindex
X-PUBLISHED-TTL:PT1H
BEGIN:VTIMEZONE
TZID:America/Los_Angeles
BEGIN:DAYLIGHT
TZOFFSETFROM:-0800
TZOFFSETTO:-0700
TZNAME:PDT
DTSTART:20250309T100000
END:DAYLIGHT
BEGIN:STANDARD
TZOFFSETFROM:-0700
TZOFFSETTO:-0800
TZNAME:PST
DTSTART:20251102T090000
END:STANDARD
BEGIN:DAYLIGHT
TZOFFSETFROM:-0800
TZOFFSETTO:-0700
TZNAME:PDT
DTSTART:20260308T100000
END:DAYLIGHT
BEGIN:STANDARD
TZOFFSETFROM:-0700
TZOFFSETTO:-0800
TZNAME:PST
DTSTART:20261101T090000
END:STANDARD
BEGIN:DAYLIGHT
TZOFFSETFROM:-0800
TZOFFSETTO:-0700
TZNAME:PDT
DTSTART:20270314T100000
END:DAYLIGHT
BEGIN:STANDARD
TZOFFSETFROM:-0700
TZOFFSETTO:-0800
TZNAME:PST
DTSTART:20271107T090000
END:STANDARD
END:VTIMEZONE
BEGIN:VEVENT
DTSTART;TZID=America/Los_Angeles:20260713T180000
DTEND;TZID=America/Los_Angeles:20260713T210000
DTSTAMP:20260424T150009
CREATED:20251002T194402Z
LAST-MODIFIED:20260330T182036Z
UID:10007436-1783965600-1783976400@northbeachlive.com
SUMMARY:Jazz Jam
DESCRIPTION:Waystone’s jazz jam is every Monday\, 6-9pm. Whether you’re a spectator\, jazz lover or musician this is for you.
URL:https://northbeachlive.com/event/jazz-jam-8/2026-07-13/
LOCATION:Waystone\, 1609 Powell St\, San Francisco\, CA\, 94133\, United States
CATEGORIES:Live Music
ATTACH;FMTTYPE=image/jpeg:https://northbeachlive.com/wp-content/uploads/2025/10/IMG_0198.jpeg
GEO:37.799367;-122.410729
X-APPLE-STRUCTURED-LOCATION;VALUE=URI;X-ADDRESS=Waystone 1609 Powell St San Francisco CA 94133 United States;X-APPLE-RADIUS=500;X-TITLE=1609 Powell St:geo:-122.410729,37.799367
END:VEVENT
BEGIN:VEVENT
DTSTART;TZID=America/Los_Angeles:20260720T180000
DTEND;TZID=America/Los_Angeles:20260720T210000
DTSTAMP:20260424T150009
CREATED:20251002T194402Z
LAST-MODIFIED:20260330T182036Z
UID:10007437-1784570400-1784581200@northbeachlive.com
SUMMARY:Jazz Jam
DESCRIPTION:Waystone’s jazz jam is every Monday\, 6-9pm. Whether you’re a spectator\, jazz lover or musician this is for you.
URL:https://northbeachlive.com/event/jazz-jam-8/2026-07-20/
LOCATION:Waystone\, 1609 Powell St\, San Francisco\, CA\, 94133\, United States
CATEGORIES:Live Music
ATTACH;FMTTYPE=image/jpeg:https://northbeachlive.com/wp-content/uploads/2025/10/IMG_0198.jpeg
GEO:37.799367;-122.410729
X-APPLE-STRUCTURED-LOCATION;VALUE=URI;X-ADDRESS=Waystone 1609 Powell St San Francisco CA 94133 United States;X-APPLE-RADIUS=500;X-TITLE=1609 Powell St:geo:-122.410729,37.799367
END:VEVENT
BEGIN:VEVENT
DTSTART;TZID=America/Los_Angeles:20260727T180000
DTEND;TZID=America/Los_Angeles:20260727T210000
DTSTAMP:20260424T150009
CREATED:20251002T194402Z
LAST-MODIFIED:20260330T182036Z
UID:10007438-1785175200-1785186000@northbeachlive.com
SUMMARY:Jazz Jam
DESCRIPTION:Waystone’s jazz jam is every Monday\, 6-9pm. Whether you’re a spectator\, jazz lover or musician this is for you.
URL:https://northbeachlive.com/event/jazz-jam-8/2026-07-27/
LOCATION:Waystone\, 1609 Powell St\, San Francisco\, CA\, 94133\, United States
CATEGORIES:Live Music
ATTACH;FMTTYPE=image/jpeg:https://northbeachlive.com/wp-content/uploads/2025/10/IMG_0198.jpeg
GEO:37.799367;-122.410729
X-APPLE-STRUCTURED-LOCATION;VALUE=URI;X-ADDRESS=Waystone 1609 Powell St San Francisco CA 94133 United States;X-APPLE-RADIUS=500;X-TITLE=1609 Powell St:geo:-122.410729,37.799367
END:VEVENT
BEGIN:VEVENT
DTSTART;TZID=America/Los_Angeles:20260803T180000
DTEND;TZID=America/Los_Angeles:20260803T210000
DTSTAMP:20260424T150009
CREATED:20251002T194402Z
LAST-MODIFIED:20260330T182036Z
UID:10007439-1785780000-1785790800@northbeachlive.com
SUMMARY:Jazz Jam
DESCRIPTION:Waystone’s jazz jam is every Monday\, 6-9pm. Whether you’re a spectator\, jazz lover or musician this is for you.
URL:https://northbeachlive.com/event/jazz-jam-8/2026-08-03/
LOCATION:Waystone\, 1609 Powell St\, San Francisco\, CA\, 94133\, United States
CATEGORIES:Live Music
ATTACH;FMTTYPE=image/jpeg:https://northbeachlive.com/wp-content/uploads/2025/10/IMG_0198.jpeg
GEO:37.799367;-122.410729
X-APPLE-STRUCTURED-LOCATION;VALUE=URI;X-ADDRESS=Waystone 1609 Powell St San Francisco CA 94133 United States;X-APPLE-RADIUS=500;X-TITLE=1609 Powell St:geo:-122.410729,37.799367
END:VEVENT
BEGIN:VEVENT
DTSTART;TZID=America/Los_Angeles:20260810T180000
DTEND;TZID=America/Los_Angeles:20260810T210000
DTSTAMP:20260424T150009
CREATED:20251002T194402Z
LAST-MODIFIED:20260330T182036Z
UID:10007440-1786384800-1786395600@northbeachlive.com
SUMMARY:Jazz Jam
DESCRIPTION:Waystone’s jazz jam is every Monday\, 6-9pm. Whether you’re a spectator\, jazz lover or musician this is for you.
URL:https://northbeachlive.com/event/jazz-jam-8/2026-08-10/
LOCATION:Waystone\, 1609 Powell St\, San Francisco\, CA\, 94133\, United States
CATEGORIES:Live Music
ATTACH;FMTTYPE=image/jpeg:https://northbeachlive.com/wp-content/uploads/2025/10/IMG_0198.jpeg
GEO:37.799367;-122.410729
X-APPLE-STRUCTURED-LOCATION;VALUE=URI;X-ADDRESS=Waystone 1609 Powell St San Francisco CA 94133 United States;X-APPLE-RADIUS=500;X-TITLE=1609 Powell St:geo:-122.410729,37.799367
END:VEVENT
BEGIN:VEVENT
DTSTART;TZID=America/Los_Angeles:20260817T180000
DTEND;TZID=America/Los_Angeles:20260817T210000
DTSTAMP:20260424T150009
CREATED:20251002T194402Z
LAST-MODIFIED:20260330T182036Z
UID:10007441-1786989600-1787000400@northbeachlive.com
SUMMARY:Jazz Jam
DESCRIPTION:Waystone’s jazz jam is every Monday\, 6-9pm. Whether you’re a spectator\, jazz lover or musician this is for you.
URL:https://northbeachlive.com/event/jazz-jam-8/2026-08-17/
LOCATION:Waystone\, 1609 Powell St\, San Francisco\, CA\, 94133\, United States
CATEGORIES:Live Music
ATTACH;FMTTYPE=image/jpeg:https://northbeachlive.com/wp-content/uploads/2025/10/IMG_0198.jpeg
GEO:37.799367;-122.410729
X-APPLE-STRUCTURED-LOCATION;VALUE=URI;X-ADDRESS=Waystone 1609 Powell St San Francisco CA 94133 United States;X-APPLE-RADIUS=500;X-TITLE=1609 Powell St:geo:-122.410729,37.799367
END:VEVENT
BEGIN:VEVENT
DTSTART;TZID=America/Los_Angeles:20260824T180000
DTEND;TZID=America/Los_Angeles:20260824T210000
DTSTAMP:20260424T150009
CREATED:20251002T194402Z
LAST-MODIFIED:20260330T182036Z
UID:10007442-1787594400-1787605200@northbeachlive.com
SUMMARY:Jazz Jam
DESCRIPTION:Waystone’s jazz jam is every Monday\, 6-9pm. Whether you’re a spectator\, jazz lover or musician this is for you.
URL:https://northbeachlive.com/event/jazz-jam-8/2026-08-24/
LOCATION:Waystone\, 1609 Powell St\, San Francisco\, CA\, 94133\, United States
CATEGORIES:Live Music
ATTACH;FMTTYPE=image/jpeg:https://northbeachlive.com/wp-content/uploads/2025/10/IMG_0198.jpeg
GEO:37.799367;-122.410729
X-APPLE-STRUCTURED-LOCATION;VALUE=URI;X-ADDRESS=Waystone 1609 Powell St San Francisco CA 94133 United States;X-APPLE-RADIUS=500;X-TITLE=1609 Powell St:geo:-122.410729,37.799367
END:VEVENT
BEGIN:VEVENT
DTSTART;TZID=America/Los_Angeles:20260831T180000
DTEND;TZID=America/Los_Angeles:20260831T210000
DTSTAMP:20260424T150009
CREATED:20251002T194402Z
LAST-MODIFIED:20260330T182036Z
UID:10007443-1788199200-1788210000@northbeachlive.com
SUMMARY:Jazz Jam
DESCRIPTION:Waystone’s jazz jam is every Monday\, 6-9pm. Whether you’re a spectator\, jazz lover or musician this is for you.
URL:https://northbeachlive.com/event/jazz-jam-8/2026-08-31/
LOCATION:Waystone\, 1609 Powell St\, San Francisco\, CA\, 94133\, United States
CATEGORIES:Live Music
ATTACH;FMTTYPE=image/jpeg:https://northbeachlive.com/wp-content/uploads/2025/10/IMG_0198.jpeg
GEO:37.799367;-122.410729
X-APPLE-STRUCTURED-LOCATION;VALUE=URI;X-ADDRESS=Waystone 1609 Powell St San Francisco CA 94133 United States;X-APPLE-RADIUS=500;X-TITLE=1609 Powell St:geo:-122.410729,37.799367
END:VEVENT
BEGIN:VEVENT
DTSTART;TZID=America/Los_Angeles:20260907T180000
DTEND;TZID=America/Los_Angeles:20260907T210000
DTSTAMP:20260424T150009
CREATED:20251002T194402Z
LAST-MODIFIED:20260330T182036Z
UID:10007444-1788804000-1788814800@northbeachlive.com
SUMMARY:Jazz Jam
DESCRIPTION:Waystone’s jazz jam is every Monday\, 6-9pm. Whether you’re a spectator\, jazz lover or musician this is for you.
URL:https://northbeachlive.com/event/jazz-jam-8/2026-09-07/
LOCATION:Waystone\, 1609 Powell St\, San Francisco\, CA\, 94133\, United States
CATEGORIES:Live Music
ATTACH;FMTTYPE=image/jpeg:https://northbeachlive.com/wp-content/uploads/2025/10/IMG_0198.jpeg
GEO:37.799367;-122.410729
X-APPLE-STRUCTURED-LOCATION;VALUE=URI;X-ADDRESS=Waystone 1609 Powell St San Francisco CA 94133 United States;X-APPLE-RADIUS=500;X-TITLE=1609 Powell St:geo:-122.410729,37.799367
END:VEVENT
BEGIN:VEVENT
DTSTART;TZID=America/Los_Angeles:20260914T180000
DTEND;TZID=America/Los_Angeles:20260914T210000
DTSTAMP:20260424T150009
CREATED:20251002T194402Z
LAST-MODIFIED:20260330T182036Z
UID:10007445-1789408800-1789419600@northbeachlive.com
SUMMARY:Jazz Jam
DESCRIPTION:Waystone’s jazz jam is every Monday\, 6-9pm. Whether you’re a spectator\, jazz lover or musician this is for you.
URL:https://northbeachlive.com/event/jazz-jam-8/2026-09-14/
LOCATION:Waystone\, 1609 Powell St\, San Francisco\, CA\, 94133\, United States
CATEGORIES:Live Music
ATTACH;FMTTYPE=image/jpeg:https://northbeachlive.com/wp-content/uploads/2025/10/IMG_0198.jpeg
GEO:37.799367;-122.410729
X-APPLE-STRUCTURED-LOCATION;VALUE=URI;X-ADDRESS=Waystone 1609 Powell St San Francisco CA 94133 United States;X-APPLE-RADIUS=500;X-TITLE=1609 Powell St:geo:-122.410729,37.799367
END:VEVENT
BEGIN:VEVENT
DTSTART;TZID=America/Los_Angeles:20260921T180000
DTEND;TZID=America/Los_Angeles:20260921T210000
DTSTAMP:20260424T150009
CREATED:20251002T194402Z
LAST-MODIFIED:20260330T182036Z
UID:10007446-1790013600-1790024400@northbeachlive.com
SUMMARY:Jazz Jam
DESCRIPTION:Waystone’s jazz jam is every Monday\, 6-9pm. Whether you’re a spectator\, jazz lover or musician this is for you.
URL:https://northbeachlive.com/event/jazz-jam-8/2026-09-21/
LOCATION:Waystone\, 1609 Powell St\, San Francisco\, CA\, 94133\, United States
CATEGORIES:Live Music
ATTACH;FMTTYPE=image/jpeg:https://northbeachlive.com/wp-content/uploads/2025/10/IMG_0198.jpeg
GEO:37.799367;-122.410729
X-APPLE-STRUCTURED-LOCATION;VALUE=URI;X-ADDRESS=Waystone 1609 Powell St San Francisco CA 94133 United States;X-APPLE-RADIUS=500;X-TITLE=1609 Powell St:geo:-122.410729,37.799367
END:VEVENT
BEGIN:VEVENT
DTSTART;TZID=America/Los_Angeles:20260928T180000
DTEND;TZID=America/Los_Angeles:20260928T210000
DTSTAMP:20260424T150009
CREATED:20251002T194402Z
LAST-MODIFIED:20260330T182036Z
UID:10007447-1790618400-1790629200@northbeachlive.com
SUMMARY:Jazz Jam
DESCRIPTION:Waystone’s jazz jam is every Monday\, 6-9pm. Whether you’re a spectator\, jazz lover or musician this is for you.
URL:https://northbeachlive.com/event/jazz-jam-8/2026-09-28/
LOCATION:Waystone\, 1609 Powell St\, San Francisco\, CA\, 94133\, United States
CATEGORIES:Live Music
ATTACH;FMTTYPE=image/jpeg:https://northbeachlive.com/wp-content/uploads/2025/10/IMG_0198.jpeg
GEO:37.799367;-122.410729
X-APPLE-STRUCTURED-LOCATION;VALUE=URI;X-ADDRESS=Waystone 1609 Powell St San Francisco CA 94133 United States;X-APPLE-RADIUS=500;X-TITLE=1609 Powell St:geo:-122.410729,37.799367
END:VEVENT
BEGIN:VEVENT
DTSTART;TZID=America/Los_Angeles:20261005T180000
DTEND;TZID=America/Los_Angeles:20261005T210000
DTSTAMP:20260424T150009
CREATED:20251002T194402Z
LAST-MODIFIED:20260330T182036Z
UID:10007448-1791223200-1791234000@northbeachlive.com
SUMMARY:Jazz Jam
DESCRIPTION:Waystone’s jazz jam is every Monday\, 6-9pm. Whether you’re a spectator\, jazz lover or musician this is for you.
URL:https://northbeachlive.com/event/jazz-jam-8/2026-10-05/
LOCATION:Waystone\, 1609 Powell St\, San Francisco\, CA\, 94133\, United States
CATEGORIES:Live Music
ATTACH;FMTTYPE=image/jpeg:https://northbeachlive.com/wp-content/uploads/2025/10/IMG_0198.jpeg
GEO:37.799367;-122.410729
X-APPLE-STRUCTURED-LOCATION;VALUE=URI;X-ADDRESS=Waystone 1609 Powell St San Francisco CA 94133 United States;X-APPLE-RADIUS=500;X-TITLE=1609 Powell St:geo:-122.410729,37.799367
END:VEVENT
BEGIN:VEVENT
DTSTART;TZID=America/Los_Angeles:20261012T180000
DTEND;TZID=America/Los_Angeles:20261012T210000
DTSTAMP:20260424T150009
CREATED:20251002T194402Z
LAST-MODIFIED:20260330T182036Z
UID:10007449-1791828000-1791838800@northbeachlive.com
SUMMARY:Jazz Jam
DESCRIPTION:Waystone’s jazz jam is every Monday\, 6-9pm. Whether you’re a spectator\, jazz lover or musician this is for you.
URL:https://northbeachlive.com/event/jazz-jam-8/2026-10-12/
LOCATION:Waystone\, 1609 Powell St\, San Francisco\, CA\, 94133\, United States
CATEGORIES:Live Music
ATTACH;FMTTYPE=image/jpeg:https://northbeachlive.com/wp-content/uploads/2025/10/IMG_0198.jpeg
GEO:37.799367;-122.410729
X-APPLE-STRUCTURED-LOCATION;VALUE=URI;X-ADDRESS=Waystone 1609 Powell St San Francisco CA 94133 United States;X-APPLE-RADIUS=500;X-TITLE=1609 Powell St:geo:-122.410729,37.799367
END:VEVENT
BEGIN:VEVENT
DTSTART;TZID=America/Los_Angeles:20261019T180000
DTEND;TZID=America/Los_Angeles:20261019T210000
DTSTAMP:20260424T150009
CREATED:20251002T194402Z
LAST-MODIFIED:20260330T182036Z
UID:10007450-1792432800-1792443600@northbeachlive.com
SUMMARY:Jazz Jam
DESCRIPTION:Waystone’s jazz jam is every Monday\, 6-9pm. Whether you’re a spectator\, jazz lover or musician this is for you.
URL:https://northbeachlive.com/event/jazz-jam-8/2026-10-19/
LOCATION:Waystone\, 1609 Powell St\, San Francisco\, CA\, 94133\, United States
CATEGORIES:Live Music
ATTACH;FMTTYPE=image/jpeg:https://northbeachlive.com/wp-content/uploads/2025/10/IMG_0198.jpeg
GEO:37.799367;-122.410729
X-APPLE-STRUCTURED-LOCATION;VALUE=URI;X-ADDRESS=Waystone 1609 Powell St San Francisco CA 94133 United States;X-APPLE-RADIUS=500;X-TITLE=1609 Powell St:geo:-122.410729,37.799367
END:VEVENT
BEGIN:VEVENT
DTSTART;TZID=America/Los_Angeles:20261026T180000
DTEND;TZID=America/Los_Angeles:20261026T210000
DTSTAMP:20260424T150009
CREATED:20251002T194402Z
LAST-MODIFIED:20260330T182036Z
UID:10007451-1793037600-1793048400@northbeachlive.com
SUMMARY:Jazz Jam
DESCRIPTION:Waystone’s jazz jam is every Monday\, 6-9pm. Whether you’re a spectator\, jazz lover or musician this is for you.
URL:https://northbeachlive.com/event/jazz-jam-8/2026-10-26/
LOCATION:Waystone\, 1609 Powell St\, San Francisco\, CA\, 94133\, United States
CATEGORIES:Live Music
ATTACH;FMTTYPE=image/jpeg:https://northbeachlive.com/wp-content/uploads/2025/10/IMG_0198.jpeg
GEO:37.799367;-122.410729
X-APPLE-STRUCTURED-LOCATION;VALUE=URI;X-ADDRESS=Waystone 1609 Powell St San Francisco CA 94133 United States;X-APPLE-RADIUS=500;X-TITLE=1609 Powell St:geo:-122.410729,37.799367
END:VEVENT
BEGIN:VEVENT
DTSTART;TZID=America/Los_Angeles:20261102T180000
DTEND;TZID=America/Los_Angeles:20261102T210000
DTSTAMP:20260424T150009
CREATED:20251002T194402Z
LAST-MODIFIED:20260330T182036Z
UID:10007452-1793642400-1793653200@northbeachlive.com
SUMMARY:Jazz Jam
DESCRIPTION:Waystone’s jazz jam is every Monday\, 6-9pm. Whether you’re a spectator\, jazz lover or musician this is for you.
URL:https://northbeachlive.com/event/jazz-jam-8/2026-11-02/
LOCATION:Waystone\, 1609 Powell St\, San Francisco\, CA\, 94133\, United States
CATEGORIES:Live Music
ATTACH;FMTTYPE=image/jpeg:https://northbeachlive.com/wp-content/uploads/2025/10/IMG_0198.jpeg
GEO:37.799367;-122.410729
X-APPLE-STRUCTURED-LOCATION;VALUE=URI;X-ADDRESS=Waystone 1609 Powell St San Francisco CA 94133 United States;X-APPLE-RADIUS=500;X-TITLE=1609 Powell St:geo:-122.410729,37.799367
END:VEVENT
BEGIN:VEVENT
DTSTART;TZID=America/Los_Angeles:20261109T180000
DTEND;TZID=America/Los_Angeles:20261109T210000
DTSTAMP:20260424T150009
CREATED:20251002T194402Z
LAST-MODIFIED:20260330T182036Z
UID:10007453-1794247200-1794258000@northbeachlive.com
SUMMARY:Jazz Jam
DESCRIPTION:Waystone’s jazz jam is every Monday\, 6-9pm. Whether you’re a spectator\, jazz lover or musician this is for you.
URL:https://northbeachlive.com/event/jazz-jam-8/2026-11-09/
LOCATION:Waystone\, 1609 Powell St\, San Francisco\, CA\, 94133\, United States
CATEGORIES:Live Music
ATTACH;FMTTYPE=image/jpeg:https://northbeachlive.com/wp-content/uploads/2025/10/IMG_0198.jpeg
GEO:37.799367;-122.410729
X-APPLE-STRUCTURED-LOCATION;VALUE=URI;X-ADDRESS=Waystone 1609 Powell St San Francisco CA 94133 United States;X-APPLE-RADIUS=500;X-TITLE=1609 Powell St:geo:-122.410729,37.799367
END:VEVENT
BEGIN:VEVENT
DTSTART;TZID=America/Los_Angeles:20261116T180000
DTEND;TZID=America/Los_Angeles:20261116T210000
DTSTAMP:20260424T150009
CREATED:20251002T194402Z
LAST-MODIFIED:20260330T182036Z
UID:10007454-1794852000-1794862800@northbeachlive.com
SUMMARY:Jazz Jam
DESCRIPTION:Waystone’s jazz jam is every Monday\, 6-9pm. Whether you’re a spectator\, jazz lover or musician this is for you.
URL:https://northbeachlive.com/event/jazz-jam-8/2026-11-16/
LOCATION:Waystone\, 1609 Powell St\, San Francisco\, CA\, 94133\, United States
CATEGORIES:Live Music
ATTACH;FMTTYPE=image/jpeg:https://northbeachlive.com/wp-content/uploads/2025/10/IMG_0198.jpeg
GEO:37.799367;-122.410729
X-APPLE-STRUCTURED-LOCATION;VALUE=URI;X-ADDRESS=Waystone 1609 Powell St San Francisco CA 94133 United States;X-APPLE-RADIUS=500;X-TITLE=1609 Powell St:geo:-122.410729,37.799367
END:VEVENT
BEGIN:VEVENT
DTSTART;TZID=America/Los_Angeles:20261123T180000
DTEND;TZID=America/Los_Angeles:20261123T210000
DTSTAMP:20260424T150009
CREATED:20251002T194402Z
LAST-MODIFIED:20260330T182036Z
UID:10007455-1795456800-1795467600@northbeachlive.com
SUMMARY:Jazz Jam
DESCRIPTION:Waystone’s jazz jam is every Monday\, 6-9pm. Whether you’re a spectator\, jazz lover or musician this is for you.
URL:https://northbeachlive.com/event/jazz-jam-8/2026-11-23/
LOCATION:Waystone\, 1609 Powell St\, San Francisco\, CA\, 94133\, United States
CATEGORIES:Live Music
ATTACH;FMTTYPE=image/jpeg:https://northbeachlive.com/wp-content/uploads/2025/10/IMG_0198.jpeg
GEO:37.799367;-122.410729
X-APPLE-STRUCTURED-LOCATION;VALUE=URI;X-ADDRESS=Waystone 1609 Powell St San Francisco CA 94133 United States;X-APPLE-RADIUS=500;X-TITLE=1609 Powell St:geo:-122.410729,37.799367
END:VEVENT
BEGIN:VEVENT
DTSTART;TZID=America/Los_Angeles:20261130T180000
DTEND;TZID=America/Los_Angeles:20261130T210000
DTSTAMP:20260424T150009
CREATED:20251002T194402Z
LAST-MODIFIED:20260330T182036Z
UID:10007456-1796061600-1796072400@northbeachlive.com
SUMMARY:Jazz Jam
DESCRIPTION:Waystone’s jazz jam is every Monday\, 6-9pm. Whether you’re a spectator\, jazz lover or musician this is for you.
URL:https://northbeachlive.com/event/jazz-jam-8/2026-11-30/
LOCATION:Waystone\, 1609 Powell St\, San Francisco\, CA\, 94133\, United States
CATEGORIES:Live Music
ATTACH;FMTTYPE=image/jpeg:https://northbeachlive.com/wp-content/uploads/2025/10/IMG_0198.jpeg
GEO:37.799367;-122.410729
X-APPLE-STRUCTURED-LOCATION;VALUE=URI;X-ADDRESS=Waystone 1609 Powell St San Francisco CA 94133 United States;X-APPLE-RADIUS=500;X-TITLE=1609 Powell St:geo:-122.410729,37.799367
END:VEVENT
BEGIN:VEVENT
DTSTART;TZID=America/Los_Angeles:20261207T180000
DTEND;TZID=America/Los_Angeles:20261207T210000
DTSTAMP:20260424T150009
CREATED:20251002T194402Z
LAST-MODIFIED:20260330T182036Z
UID:10007457-1796666400-1796677200@northbeachlive.com
SUMMARY:Jazz Jam
DESCRIPTION:Waystone’s jazz jam is every Monday\, 6-9pm. Whether you’re a spectator\, jazz lover or musician this is for you.
URL:https://northbeachlive.com/event/jazz-jam-8/2026-12-07/
LOCATION:Waystone\, 1609 Powell St\, San Francisco\, CA\, 94133\, United States
CATEGORIES:Live Music
ATTACH;FMTTYPE=image/jpeg:https://northbeachlive.com/wp-content/uploads/2025/10/IMG_0198.jpeg
GEO:37.799367;-122.410729
X-APPLE-STRUCTURED-LOCATION;VALUE=URI;X-ADDRESS=Waystone 1609 Powell St San Francisco CA 94133 United States;X-APPLE-RADIUS=500;X-TITLE=1609 Powell St:geo:-122.410729,37.799367
END:VEVENT
BEGIN:VEVENT
DTSTART;TZID=America/Los_Angeles:20261214T180000
DTEND;TZID=America/Los_Angeles:20261214T210000
DTSTAMP:20260424T150009
CREATED:20251002T194402Z
LAST-MODIFIED:20260330T182036Z
UID:10007458-1797271200-1797282000@northbeachlive.com
SUMMARY:Jazz Jam
DESCRIPTION:Waystone’s jazz jam is every Monday\, 6-9pm. Whether you’re a spectator\, jazz lover or musician this is for you.
URL:https://northbeachlive.com/event/jazz-jam-8/2026-12-14/
LOCATION:Waystone\, 1609 Powell St\, San Francisco\, CA\, 94133\, United States
CATEGORIES:Live Music
ATTACH;FMTTYPE=image/jpeg:https://northbeachlive.com/wp-content/uploads/2025/10/IMG_0198.jpeg
GEO:37.799367;-122.410729
X-APPLE-STRUCTURED-LOCATION;VALUE=URI;X-ADDRESS=Waystone 1609 Powell St San Francisco CA 94133 United States;X-APPLE-RADIUS=500;X-TITLE=1609 Powell St:geo:-122.410729,37.799367
END:VEVENT
BEGIN:VEVENT
DTSTART;TZID=America/Los_Angeles:20261221T180000
DTEND;TZID=America/Los_Angeles:20261221T210000
DTSTAMP:20260424T150009
CREATED:20251002T194402Z
LAST-MODIFIED:20260330T182036Z
UID:10007459-1797876000-1797886800@northbeachlive.com
SUMMARY:Jazz Jam
DESCRIPTION:Waystone’s jazz jam is every Monday\, 6-9pm. Whether you’re a spectator\, jazz lover or musician this is for you.
URL:https://northbeachlive.com/event/jazz-jam-8/2026-12-21/
LOCATION:Waystone\, 1609 Powell St\, San Francisco\, CA\, 94133\, United States
CATEGORIES:Live Music
ATTACH;FMTTYPE=image/jpeg:https://northbeachlive.com/wp-content/uploads/2025/10/IMG_0198.jpeg
GEO:37.799367;-122.410729
X-APPLE-STRUCTURED-LOCATION;VALUE=URI;X-ADDRESS=Waystone 1609 Powell St San Francisco CA 94133 United States;X-APPLE-RADIUS=500;X-TITLE=1609 Powell St:geo:-122.410729,37.799367
END:VEVENT
BEGIN:VEVENT
DTSTART;TZID=America/Los_Angeles:20261228T180000
DTEND;TZID=America/Los_Angeles:20261228T210000
DTSTAMP:20260424T150009
CREATED:20251002T194402Z
LAST-MODIFIED:20260330T182036Z
UID:10007460-1798480800-1798491600@northbeachlive.com
SUMMARY:Jazz Jam
DESCRIPTION:Waystone’s jazz jam is every Monday\, 6-9pm. Whether you’re a spectator\, jazz lover or musician this is for you.
URL:https://northbeachlive.com/event/jazz-jam-8/2026-12-28/
LOCATION:Waystone\, 1609 Powell St\, San Francisco\, CA\, 94133\, United States
CATEGORIES:Live Music
ATTACH;FMTTYPE=image/jpeg:https://northbeachlive.com/wp-content/uploads/2025/10/IMG_0198.jpeg
GEO:37.799367;-122.410729
X-APPLE-STRUCTURED-LOCATION;VALUE=URI;X-ADDRESS=Waystone 1609 Powell St San Francisco CA 94133 United States;X-APPLE-RADIUS=500;X-TITLE=1609 Powell St:geo:-122.410729,37.799367
END:VEVENT
END:VCALENDAR